Workbook
Name ABC: options!$AD$1:$AD$4
Name agreement: options!$R$2:$R$6
Name CapTD: options!$D$17:$D$17
Name employment: options!$D$2:$D$7
Name employment_after_graduation: options!$E$2:$E$5
Name fe_cert: options!$AA$2:$AA$6
Name future_plans: options!$R$2:$R$3
Name gender: options!$C$2:$C$3
Name hierarchy: options!$I$2:$I$11
Name improvement: options!$N$2:$N$8
Name industry: options!$S$2:$S$8
Name job_training_dur: options!$H$2:$H$6
Name jobapply: options!$L$2:$L$4
Name jobfind: options!$F$2:$F$8
Name jobreason: options!$K$2:$K$4
Name level: options!$W$2:$W$6
Name lydo: options!$M$2:$M$8
Name lydohocnghe: options!$AC$9:$AC$12
Name LydokoVL: options!$M$16:$M$18
Name noacceptreason: options!$M$2:$M$8
Name number: options!$V$2:$V$6
Name perception: options!$S$2:$S$6
Name rankcert: options!$T$2:$T$6
Name related: options!$U$2:$U$4
Name salary: options!$G$2:$G$6
Name School: options!$B$2:$B$27
Name schooling: options!$X$2:$X$7
Name sector: options!$J$2:$J$12
Name Thời_gian_bắt_đầu_công_việc: 'Nhập liệu'!$AO$2
Name timetraining: options!$H$2:$H$6
Name University_of_Technical_Education_Hung_Yen: 'Hướng dẫn'!$B$5
Name vt_level: options!$Y$2:$Y$7
Name vt_place: options!$Z$2:$Z$5
Name yesno: options!$Q$2:$Q$3
Name yesno2: options!$AB$2:$AB$3

Sheet Hướng dẫn
A3: Mã Trường | B3: Xin ghi mã trường in trong cuốn Hướng dẫn tuyển sinh
B4: Xin lựa chọn tên trường trong ô dưới đây
B5: 2.NI_CĐN Bách Nghệ Hải Phòng
B9: Một số điểm lưu ý khi nhập liệu
B10: 1. Mã học viên là Mã đã được lưu trong hệ thống quản lý dữ liệu của nhà trường. Nếu chưa có thì nhà trường tự lấy mã
B11: 2. Phần nhập liệu đã được xây dựng để kiểm tra tính logic đối với các câu trả lời của phiếu
B12: Cụ thể là:nếu chọn "Chưa" ở câu 6 sẽ chuyển câu 11
B13: Nếu lựa chọn "Không đi làm" câu 11 sẽ chuyển sang câu 22
B14: Lựa chọn "Đi học tiếp" trong câu 22, sẽ chuyển sang câu 25…
B15: Và các câu khác
B16: Do đó: Không nhập liệu vào ô chuyển sang màu đỏ
B17: 3. Để nhập Ô ngày/tháng/năm sinh theo đúng thứ tự cần cài đặt lại định dạng Thời gian của máy tính thống qua các bước sau:
B18: Vào thanh Start, chọn Setting,
... B27: Các nội dung nhập liệu khác tương tự như trong phần nhập thông tin cơ bản

Sheet pivot
B3: Column Labels
B4: Có việc làm | D4: Không tìm được việc làm | F4: Total Count of Chuẩn hóa ngành/nhề đào tạo 1 | G4: Total Count of Chuẩn hóa ngành/nhề đào tạo 1_2
A5: Row Labels | B5: Count of Chuẩn hóa ngành/nhề đào tạo 1 | C5: Count of Chuẩn hóa ngành/nhề đào tạo 1_2 | D5: Count of Chuẩn hóa ngành/nhề đào tạo 1 | E5: Count of Chuẩn hóa ngành/nhề đào tạo 1_2
A6: Các ngành khác | B6: 9 | C6: 0.75 | D6: 3 | E6: 0.25 | F6: 12 | G6: 1
A7: Công nghệ kỹ thuật Cơ khí | B7: 32 | C7: 0.84210526 | D7: 6 | E7: 0.15789474 | F7: 38 | G7: 1
A8: Công nghệ kỹ thuật Điện - Điện tử | B8: 29 | C8: 0.90625 | D8: 3 | E8: 0.09375 | F8: 32 | G8: 1
A9: Công nghệ Kỹ Thuật Ô Tô | B9: 38 | C9: 0.84444444 | D9: 7 | E9: 0.15555556 | F9: 45 | G9: 1
A10: Công nghệ thông tin | B10: 5 | C10: 0.71428571 | D10: 2 | E10: 0.28571429 | F10: 7 | G10: 1
A11: Grand Total | B11: 113 | C11: 0.84328358 | D11: 21 | E11: 0.15671642 | F11: 134 | G11: 1

Sheet Nhập liệu
A1: STT | B1: Trường | C1: Mã Học Viên | D1: Họ | E1: Tên đệm | F1: Tên | G1: 2.Lớp | H1: 2.Khoa | I1: 2. Ngành/ Nghề đào tạo | J1: Chuẩn hóa ngành/nhề đào tạo 1 | K1: Chuẩn hóa Ngành/Nghề đào tạo | L1: 2.Cấp trình độ | M1: 3.Địa chỉ -Số nhà/ đường phố | N1: 3.Quận-Huyện/ Xã - Phường | O1: 3.Tỉnh - Thành Phố | P1: Số ĐT | Q1: Email | R1: 4.Giới tính | S1: 5.Năm sinh | T1: Chuẩn hóa tuổi | U1: Phân theo nhóm tuổi | V1: 6.Bằng TN cao nhất | W1: 7.Đã từng học nghề trước khi vào trường | X1: 7.1Bằng nghề cao nhất | Y1: 7.2Học nghề ở đâu | Z1: 7.3 Số tháng học nghề | AA1: 8.Xếp loại tốt nghiệp | AB1: 9.Tình trạng việc làm | AC1: Chuẩn hóa việc làm theo 4 nhóm | AD1: Chuẩn hóa tình trạng việc làm | AE1: Tình trạng khác, cụ thể | AF1: 10.Lĩnh vực kinh doanh | AG1: 10.Ngành khác, nêu cụ thể | AH1: 11.Tên công ty | AI1: Địa chỉ công ty (Số nhà và phố) | AJ1: Quận/ huyện | AK1: Tỉnh/TP | AL1: Số ĐT | AM1: E-mail- Website | AN1: 12.Số giờ làm việc trong 1 tuần | AO1: 13.Thời gian bắt đầu công việc | AP1: 14.Cách thức tìm việc | AQ1: Nếu chọn Khác, xin ghi cụ thể | AR1: 15.Đánh giá về Lý thuyết | AS1: Chuẩn hóa đánh giá lý thuyết | AT1: 15.Đánh giá về Kỹ năng nghề | AU1: Chuẩn hóa đánh giá kỹ năng nghề | AV1: Công việc liên quan đến nghề đào tạo | AW1: 17.1 Thu nhập chính xác | AX1: 17.2 Mức lương | AY1: 18.Số người cùng làm việc trong công ty | AZ1: 19.Đào tạo kèm cặp trong khi làm | BA1: 19.Thời gian đào tạo | BB1: 20.Vị trí công tác | BC1: Vị trí khác, ghi cụ thể | BD1: 21.Nhu cầu học tiếp | BE1: 21.Tên nghề/kỹ năng muốn học | BF1: Chuẩn hóa Tên nghề/kỹ năng muốn học | BG1: 21.Cấp trình độ muốn học tiếp | BH1: 22.Lý do không đi làm | BI1: 23.Công việc đã xin | BJ1: 24.Lý do 1 | BK1: 24.Lý do 2 | BL1: 24.Lý do 3 | BM1: 24.Khác, cụ thể | BN1: 25.Lý do tiếp tục đi học? | BO1: 26.Tên cơ sở đào tạo | BP1: 26.Ngành nghề đào tạo | BQ1: Chuẩn hóa Nghề đào tạo | BR1: 26.Cấp trình độ của khoá học | BS1: 27.Đánh giá trình độ giáo viên | BT1: Chuẩn hóa điểm đánh giá GV | BU1: 28.Đánh giá giáo trình và nội dung | BV1: Chuẩn hóa điểm đánh giá Giáo trình - Nội dung | BW1: 29.Đánh giá về mức độ đáp ứng | BX1: Chuẩn hóa điểm đánh giá mức độ đáp ứng công việc | BY1: 30.Lĩnh vực cần được cải tiến nhất 1 | BZ1: 30.Lĩnh vực cần được cải tiến thứ 2 | CA1: 30.Lĩnh vực cần được cải tiến thứ 3 | CB1: 30. Lĩnh vực khác, cụ thể | CC1: 31.Đánh giá về danh tiếng cơ sở đào tạo | CD1: 32.Đánh giá mức độ hài lòng về chất lượng đào tạo | CE1: Chuẩn hóa chất lượng đào tạo
A2: 1 | B2: Trường Cao đẳng Lý Tự Trọng thành Phố Hồ Chí Minh | C2: 14000645 | D2: Đặng | F2: Hùng | G2: 14CĐ - CK1 | H2: Cơ khí | I2: Công nghệ kỹ thuật Cơ khí | J2: =VLOOKUP(I2,options!$R$65:$S$80,2,FALSE) -> Công nghệ kỹ thuật Cơ khí | K2: =VLOOKUP(I2,'Chuẩn hóa Ngànhnghề'!$A$4:$B$19,2,FALSE) -> Công nghệ kỹ thuật Cơ khí | L2: 4. Cao đẳng | M2: 194 Bàu Cát, | N2: Quận Tân Bình | O2: Tp.hcm | P2: 01657255832 | Q2: hungo99996@gmail.com | R2: Nam | S2: 1996 | T2: =2018-S2:S150 -> 22 | U2: =VLOOKUP(T2,'Nhóm tuổi'!$A$3:$B$9,2,FALSE) -> Dưới 25 tuổi | V2: 4.Cao đẳng | W2: Chưa | AA2: 5.Trung bình | AB2: A1.Làm công ăn lương | AC2: =VLOOKUP(AB2,options!$V$50:$W$55,2,FALSE) -> Đi làm | AD2: =VLOOKUP(AB2,options!$V$57:$W$62,2,FALSE) -> Có việc làm | AF2: 5. Sản xuất, phân phối điện, ga, nước | AH2: TNHHTBM Minh Phát | AI2: 3A/7 Nguyễn Cửa Phú, | AJ2: Quận Bình Chánh | AK2: Tp.hcm | AL2: 2838770057 | AM2: http://www.tbm.com.vn | AN2: 48 | AO2: 2.Dưới 1 tháng | AP2: Quan hệ cá nhân | AR2: 2.Tốt | AS2: =VLOOKUP(AR2,options!$M$41:$N$45,2,FALSE) -> 4 | AT2: 2.Tốt | AU2: =VLOOKUP(AT2,options!$M$41:$N$45,2,FALSE) -> 4 | AV2: 1.Có liên quan | AX2: 4. Từ 6-8 triệu | AY2: 3. Từ 10-200 người | AZ2: Có | BA2: 2. Từ 2-4 tuần | BB2: 1. Nhân viên trong thời gian thử việc (thợ học việc) | BD2: Có | BE2: Công nghệ kỹ thuật cơ khí | BF2: =VLOOKUP(BE2,options!$S$39:$T$59,2,FALSE) -> Công nghệ kỹ thuật cơ khí | BG2: 1.Đại học | BN2: Học nâng cao trình độ | BO2: Truường Đại học sư phạm Kỹ thuật Tp.HCM | BP2: CN Kỹ thuật Cơ khí | BQ2: =VLOOKUP(BP2,options!$V$31:$W$44,2,FALSE) -> Công nghệ Kỹ thuật Cơ khí | BR2: 1.Đại học | BS2: 2.Đồng ý | BT2: =VLOOKUP(BS2,options!$S$31:$T$35,2,FALSE) -> 4 | BU2: 2.Đồng ý | BV2: =VLOOKUP(BU2,options!$S$31:$T$35,2,FALSE) -> 4 | BW2: 2.Đồng ý | BX2: =VLOOKUP(BW2,options!$S$31:$T$35,2,FALSE) -> 4 | BY2: Tài liệu,chương trình (sách, v.v.) | BZ2: Trang thiết bị (máy móc, công cụ, v.v.) | CA2: Cơ sở vật chất (phòng học, thư việnv.v.) | CC2: 2.Đồng ý | CD2: 2.Đồng ý | CE2: =VLOOKUP(CD2,options!$S$31:$T$35,2,FALSE) -> 4
A3: 2 | B3: Trường Cao đẳng Lý Tự Trọng thành Phố Hồ Chí Minh | C3: 14000662 | D3: Trần | E3: Văn | F3: Nhựt | G3: 14CĐ - CK1 | H3: Cơ khí | I3: Kỹ thuật cơ khí | J3: =VLOOKUP(I3,options!$R$65:$S$80,2,FALSE) -> Công nghệ kỹ thuật Cơ khí | K3: =VLOOKUP(I3,'Chuẩn hóa Ngànhnghề'!$A$4:$B$19,2,FALSE) -> Công nghệ kỹ thuật Cơ khí | L3: 4. Cao đẳng | M3: Đường Dương Quảng Hàm, Phường 5 | N3: Quận Gò Vấp | O3: Tp.hcm | P3: 1698981118 | R3: Nam | S3: 1996 | T3: =2018-S3:S151 -> 22 | U3: =VLOOKUP(T3,'Nhóm tuổi'!$A$3:$B$9,2,FALSE) -> Dưới 25 tuổi | V3: 4.Cao đẳng | W3: Chưa | AA3: 5.Trung bình | AB3: B1.Vừa học vừa làm | AC3: =VLOOKUP(AB3,options!$V$50:$W$55,2,FALSE) -> Đi làm | AD3: =VLOOKUP(AB3,options!$V$57:$W$62,2,FALSE) -> Có việc làm | AF3: 5. Sản xuất, phân phối điện, ga, nước | AH3: Cổ Phần dây cáp điện DAPHACO | AI3: 15/15, KP5, Đường Phan Văn Hớn | AJ3: Quận 12 | AK3: Tp.hcm | AL3: 903928881 | AM3: trungtuyen@daphaco.com | AN3: 48 | AO3: 1.Trước khi TN | AP3: Do trường giới thiệu | AR3: 2.Tốt | AS3: =VLOOKUP(AR3,options!$M$41:$N$45,2,FALSE) -> 4 | AT3: 2.Tốt | AU3: =VLOOKUP(AT3,options!$M$41:$N$45,2,FALSE) -> 4 | AV3: 1.Có liên quan | AX3: 3.Từ 4-6 triệu | AY3: 3. Từ 10-200 người | AZ3: Không | BA3: 2. Từ 2-4 tuần | BB3: 2. Nhân viên chính thức | BD3: Có | BE3: Công nghệ kỹ thuật cơ khí | BF3: =VLOOKUP(BE3,options!$S$39:$T$59,2,FALSE) -> Công nghệ kỹ thuật cơ khí | BG3: 1.Đại học | BN3: Học nâng cao trình độ | BO3: Truường Đại học sư phạm Kỹ thuật Tp.HCM | BP3: CN Kỹ thuật Cơ khí | BQ3: =VLOOKUP(BP3,options!$V$31:$W$44,2,FALSE) -> Công nghệ Kỹ thuật Cơ khí | BR3: 1.Đại học | BS3: 2.Đồng ý | BT3: =VLOOKUP(BS3,options!$S$31:$T$35,2,FALSE) -> 4 | BU3: 2.Đồng ý | BV3: =VLOOKUP(BU3,options!$S$31:$T$35,2,FALSE) -> 4 | BW3: 2.Đồng ý | BX3: =VLOOKUP(BW3,options!$S$31:$T$35,2,FALSE) -> 4 | BY3: Trang thiết bị (máy móc, công cụ, v.v.) | BZ3: Cơ sở vật chất (phòng học, thư việnv.v.) | CA3: Thực tập/ thực hành tại doanh nghiệp | CC3: 2.Đồng ý | CD3: 2.Đồng ý | CE3: =VLOOKUP(CD3,options!$S$31:$T$35,2,FALSE) -> 4
A4: 3 | B4: Trường Cao đẳng Lý Tự Trọng thành Phố Hồ Chí Minh | C4: 14000633 | D4: Đặng | E4: Hữu | F4: Cảnh | G4: 14CĐ - CK1 | H4: Cơ khí | I4: Kỹ thuật cơ khí | J4: =VLOOKUP(I4,options!$R$65:$S$80,2,FALSE) -> Công nghệ kỹ thuật Cơ khí | K4: =VLOOKUP(I4,'Chuẩn hóa Ngànhnghề'!$A$4:$B$19,2,FALSE) -> Công nghệ kỹ thuật Cơ khí | L4: 4. Cao đẳng | M4: 105/363 Mũi Lớn 2, Phường Tân An Hội | N4: Huyện Củ Chi | O4: Tp.hcm | P4: 01676791293 | R4: Nam | S4: 1996 | T4: =2018-S4:S152 -> 22 | U4: =VLOOKUP(T4,'Nhóm tuổi'!$A$3:$B$9,2,FALSE) -> Dưới 25 tuổi | V4: 4.Cao đẳng | W4: Chưa | AA4: 5.Trung bình | AB4: B1.Vừa học vừa làm | AC4: =VLOOKUP(AB4,options!$V$50:$W$55,2,FALSE) -> Đi làm | AD4: =VLOOKUP(AB4,options!$V$57:$W$62,2,FALSE) -> Có việc làm | AF4: 5. Sản xuất, phân phối điện, ga, nước | AH4: Công ty TNHH Máy và sản xuất thép việt | AI4: 86/6D Đường Dương Công Khi, Xã Xuân Thới Sơn | AJ4: Hốc Môn | AK4: Tp.hcm | AL4: 028 62598102 | AM4: http://www.vietsteel.com.vn | AN4: 48 | AO4: 4.Trên 3 tháng | AP4: Quan hệ cá nhân | AR4: 2.Tốt | AS4: =VLOOKUP(AR4,options!$M$41:$N$45,2,FALSE) -> 4 | AT4: 2.Tốt | AU4: =VLOOKUP(AT4,options!$M$41:$N$45,2,FALSE) -> 4 | AV4: 1.Có liên quan | AX4: 3.Từ 4-6 triệu | AY4: 3. Từ 10-200 người | AZ4: Có | BA4: 2. Từ 2-4 tuần | BB4: 1. Nhân viên trong thời gian thử việc (thợ học việc) | BD4: Không | BF4: =VLOOKUP(BE4,options!$S$39:$T$59,2,FALSE) -> #N/A | BQ4: =VLOOKUP(BP4,options!$V$31:$W$44,2,FALSE) -> #N/A | BS4: 2.Đồng ý | BT4: =VLOOKUP(BS4,options!$S$31:$T$35,2,FALSE) -> 4 | BU4: 2.Đồng ý | BV4: =VLOOKUP(BU4,options!$S$31:$T$35,2,FALSE) -> 4 | BW4: 2.Đồng ý | BX4: =VLOOKUP(BW4,options!$S$31:$T$35,2,FALSE) -> 4 | BY4: Trang thiết bị (máy móc, công cụ, v.v.) | BZ4: Thực tập/ thực hành tại doanh nghiệp | CA4: Phương pháp giảng dạy của giáo viên | CC4: 2.Đồng ý | CD4: 2.Đồng ý | CE4: =VLOOKUP(CD4,options!$S$31:$T$35,2,FALSE) -> 4
A5: 4 | B5: Trường Cao đẳng Lý Tự Trọng thành Phố Hồ Chí Minh | C5: 14000769 | D5: Trương | E5: Ngọc | F5: Dũng | G5: 14CĐ - CK1 | H5: Cơ khí | I5: Công nghệ kỹ thuật Cơ khí | J5: =VLOOKUP(I5,options!$R$65:$S$80,2,FALSE) -> Công nghệ kỹ thuật Cơ khí | K5: =VLOOKUP(I5,'Chuẩn hóa Ngànhnghề'!$A$4:$B$19,2,FALSE) -> Công nghệ kỹ thuật Cơ khí | L5: 4. Cao đẳng | M5: Thôn 2, Tân Phúc | N5: Huyện Hàm Tân | O5: Bình Thuận | P5: 0975428945 | R5: Nam | S5: 1995 | T5: =2018-S5:S153 -> 23 | U5: =VLOOKUP(T5,'Nhóm tuổi'!$A$3:$B$9,2,FALSE) -> Dưới 25 tuổi | V5: 4.Cao đẳng | W5: Chưa | AA5: 5.Trung bình | AB5: A2.Tự SX-KD | AC5: =VLOOKUP(AB5,options!$V$50:$W$55,2,FALSE) -> Đi làm | AD5: =VLOOKUP(AB5,options!$V$57:$W$62,2,FALSE) -> Có việc làm | AF5: 5. Sản xuất, phân phối điện, ga, nước | AH5: Tại gia | AI5: Thôn 2, Tân Phúc | AJ5: Hàm tân | AK5: Bình Thuận | AL5: 0975428945 | AN5: 48 | AO5: 2.Dưới 1 tháng | AP5: Quan hệ cá nhân | AR5: 2.Tốt | AS5: =VLOOKUP(AR5,options!$M$41:$N$45,2,FALSE) -> 4 | AT5: 2.Tốt | AU5: =VLOOKUP(AT5,options!$M$41:$N$45,2,FALSE) -> 4 | AV5: 1.Có liên quan | AX5: 4. Từ 6-8 triệu | AY5: 3. Từ 10-200 người | AZ5: Không | BB5: 2. Nhân viên chính thức | BD5: Không | BF5: =VLOOKUP(BE5,options!$S$39:$T$59,2,FALSE) -> #N/A | BQ5: =VLOOKUP(BP5,options!$V$31:$W$44,2,FALSE) -> #N/A | BS5: 2.Đồng ý | BT5: =VLOOKUP(BS5,options!$S$31:$T$35,2,FALSE) -> 4 | BU5: 2.Đồng ý | BV5: =VLOOKUP(BU5,options!$S$31:$T$35,2,FALSE) -> 4 | BW5: 2.Đồng ý | BX5: =VLOOKUP(BW5,options!$S$31:$T$35,2,FALSE) -> 4 | BY5: Trang thiết bị (máy móc, công cụ, v.v.) | BZ5: Thực tập/ thực hành tại doanh nghiệp | CA5: Khác | CB5: Đầu tư nhiều cho lĩnh vực tự động hóa, thủy lực | CC5: 2.Đồng ý | CD5: 2.Đồng ý | CE5: =VLOOKUP(CD5,options!$S$31:$T$35,2,FALSE) -> 4
A6: 5 | B6: Trường Cao đẳng Lý Tự Trọng thành Phố Hồ Chí Minh | C6: 13D2010274 | D6: Nguyễn | E6: Nhật | F6: Duy | G6: 14CĐ - CK1 | H6: Cơ khí | I6: Công nghệ kỹ thuật Cơ khí | J6: =VLOOKUP(I6,options!$R$65:$S$80,2,FALSE) -> Công nghệ kỹ thuật Cơ khí | K6: =VLOOKUP(I6,'Chuẩn hóa Ngànhnghề'!$A$4:$B$19,2,FALSE) -> Công nghệ kỹ thuật Cơ khí | L6: 4. Cao đẳng | M6: 202A Vĩnh Bình A, | N6: Vĩnh Thạnh, Huyện Lấp Vò | O6: Đồng Tháp | P6: 01225898995 | R6: Nam | S6: 1995 | T6: =2018-S6:S154 -> 23 | U6: =VLOOKUP(T6,'Nhóm tuổi'!$A$3:$B$9,2,FALSE) -> Dưới 25 tuổi | V6: 4.Cao đẳng | W6: Chưa | AA6: 5.Trung bình | AB6: B1.Vừa học vừa làm | AC6: =VLOOKUP(AB6,options!$V$50:$W$55,2,FALSE) -> Đi làm | AD6: =VLOOKUP(AB6,options!$V$57:$W$62,2,FALSE) -> Có việc làm | AE6: Hợp tác lao động tại Nhật | AF6: 5. Sản xuất, phân phối điện, ga, nước | AH6: Haindeco SaiGon | AI6: 75A Nguyễn Sỹ Sách, Phường 15 | AJ6: Quận Tân Bình | AK6: Tp.hcm | AL6: 02862939539 | AM6: haindesaigon.com | AN6: 48 | AO6: 4.Trên 3 tháng | AP6: Qua quảng cáo trên Internet | AR6: 2.Tốt | AS6: =VLOOKUP(AR6,options!$M$41:$N$45,2,FALSE) -> 4 | AT6: 2.Tốt | AU6: =VLOOKUP(AT6,options!$M$41:$N$45,2,FALSE) -> 4 | AV6: 2.Liên quan | AX6: 5. Trên 8 triệu | AY6: 2. Từ 2-10người | AZ6: Có | BA6: 5.Trên 8 tuần | BB6: 1. Nhân viên trong thời gian thử việc (thợ học việc) | BD6: Không | BF6: =VLOOKUP(BE6,options!$S$39:$T$59,2,FALSE) -> #N/A | BQ6: =VLOOKUP(BP6,options!$V$31:$W$44,2,FALSE) -> #N/A | BS6: 2.Đồng ý | BT6: =VLOOKUP(BS6,options!$S$31:$T$35,2,FALSE) -> 4 | BU6: 2.Đồng ý | BV6: =VLOOKUP(BU6,options!$S$31:$T$35,2,FALSE) -> 4 | BW6: 2.Đồng ý | BX6: =VLOOKUP(BW6,options!$S$31:$T$35,2,FALSE) -> 4 | BY6: Tài liệu,chương trình (sách, v.v.) | BZ6: Trang thiết bị (máy móc, công cụ, v.v.) | CA6: Thực tập/ thực hành tại doanh nghiệp | CC6: 2.Đồng ý | CD6: 2.Đồng ý | CE6: =VLOOKUP(CD6,options!$S$31:$T$35,2,FALSE) -> 4
A7: 6 | B7: Trường Cao đẳng Lý Tự Trọng thành Phố Hồ Chí Minh | C7: 13D2010036 | D7: Nguyễn | E7: Vĩnh | F7: Đạt | G7: 14CĐ - CK1 | H7: Cơ khí | I7: Công nghệ kỹ thuật Cơ khí | J7: =VLOOKUP(I7,options!$R$65:$S$80,2,FALSE) -> Công nghệ kỹ thuật Cơ khí | K7: =VLOOKUP(I7,'Chuẩn hóa Ngànhnghề'!$A$4:$B$19,2,FALSE) -> Công nghệ kỹ thuật Cơ khí | L7: 4. Cao đẳng | M7: 945/66 Thống Nhất, Phường 16 | N7: Quận Gò Vấp | O7: Tp.hcm | P7: 0934722310 | R7: Nam | S7: 1995 | T7: =2018-S7:S155 -> 23 | U7: =VLOOKUP(T7,'Nhóm tuổi'!$A$3:$B$9,2,FALSE) -> Dưới 25 tuổi | V7: 4.Cao đẳng | W7: Chưa | AA7: 5.Trung bình | AB7: A2.Tự SX-KD | AC7: =VLOOKUP(AB7,options!$V$50:$W$55,2,FALSE) -> Đi làm | AD7: =VLOOKUP(AB7,options!$V$57:$W$62,2,FALSE) -> Có việc làm | AE7: Phụ gia đình | AF7: 6.Thương mại & Dịch vụ (Bán buôn, bán lẻ) | AH7: Tại gia | AI7: 945/66 Thống Nhất, Phường 16 | AJ7: Quận Gò Vấp | AK7: Tp.hcm | AL7: 0934722310 | AN7: 48 | AO7: 4.Trên 3 tháng | AP7: Quan hệ cá nhân | AR7: 2.Tốt | AS7: =VLOOKUP(AR7,options!$M$41:$N$45,2,FALSE) -> 4 | AT7: 2.Tốt | AU7: =VLOOKUP(AT7,options!$M$41:$N$45,2,FALSE) -> 4 | AV7: 3.Không liên quan | AX7: 3.Từ 4-6 triệu | AY7: 2. Từ 2-10người | AZ7: Không | BB7: 2. Nhân viên chính thức | BD7: Không | BF7: =VLOOKUP(BE7,options!$S$39:$T$59,2,FALSE) -> #N/A | BQ7: =VLOOKUP(BP7,options!$V$31:$W$44,2,FALSE) -> #N/A | BS7: 2.Đồng ý | BT7: =VLOOKUP(BS7,options!$S$31:$T$35,2,FALSE) -> 4 | BU7: 2.Đồng ý | BV7: =VLOOKUP(BU7,options!$S$31:$T$35,2,FALSE) -> 4 | BW7: 2.Đồng ý | BX7: =VLOOKUP(BW7,options!$S$31:$T$35,2,FALSE) -> 4 | BY7: Tài liệu,chương trình (sách, v.v.) | BZ7: Thực tập/ thực hành tại doanh nghiệp | CC7: 2.Đồng ý | CD7: 2.Đồng ý | CE7: =VLOOKUP(CD7,options!$S$31:$T$35,2,FALSE) -> 4
A8: 7 | B8: Trường Cao đẳng Lý Tự Trọng thành Phố Hồ Chí Minh | C8: 14000659 | D8: Bùi | E8: Thị | F8: Nguyệt | G8: 14CĐ - CK1 | H8: Cơ khí | I8: Công nghệ kỹ thuật Cơ khí | J8: =VLOOKUP(I8,options!$R$65:$S$80,2,FALSE) -> Công nghệ kỹ thuật Cơ khí | K8: =VLOOKUP(I8,'Chuẩn hóa Ngànhnghề'!$A$4:$B$19,2,FALSE) -> Công nghệ kỹ thuật Cơ khí | L8: 4. Cao đẳng | M8: F4/29X Ấp 6C, Vĩnh Lộc A, | N8: Huyện Bình Chánh | O8: Tp.hcm | P8: 01657367744 | Q8: buinguyet2109@gmail.com | R8: Nữ | S8: 1995 | T8: =2018-S8:S156 -> 23 | U8: =VLOOKUP(T8,'Nhóm tuổi'!$A$3:$B$9,2,FALSE) -> Dưới 25 tuổi | V8: 4.Cao đẳng | W8: Chưa | AA8: 3.Khá | AB8: A1.Làm công ăn lương | AC8: =VLOOKUP(AB8,options!$V$50:$W$55,2,FALSE) -> Đi làm | AD8: =VLOOKUP(AB8,options!$V$57:$W$62,2,FALSE) -> Có việc làm | AF8: 4. Xây dựng | AH8: Cổ phần kỹ thuật ý tưởng | AI8: 16 Bình Lợi, Phường 13 | AJ8: Quận Bình Thạnh | AK8: Tp.hcm | AL8: 02862800666 | AM8: http://cadcam-vn.com/english/ | AN8: 48 | AO8: 2.Dưới 1 tháng | AP8: Qua quảng cáo trên Internet | AR8: 1.Rất tốt | AS8: =VLOOKUP(AR8,options!$M$41:$N$45,2,FALSE) -> 5 | AT8: 1.Rất tốt | AU8: =VLOOKUP(AT8,options!$M$41:$N$45,2,FALSE) -> 5 | AV8: 1.Có liên quan | AX8: 4. Từ 6-8 triệu | AY8: 3. Từ 10-200 người | AZ8: Có | BA8: 5.Trên 8 tuần | BB8: 2. Nhân viên chính thức | BD8: Có | BE8: Gia công Master Cam | BF8: =VLOOKUP(BE8,options!$S$39:$T$59,2,FALSE) -> Gia công Master Cam | BG8: 4.Sơ cấp | BQ8: =VLOOKUP(BP8,options!$V$31:$W$44,2,FALSE) -> #N/A | BS8: 2.Đồng ý | BT8: =VLOOKUP(BS8,options!$S$31:$T$35,2,FALSE) -> 4 | BU8: 2.Đồng ý | BV8: =VLOOKUP(BU8,options!$S$31:$T$35,2,FALSE) -> 4 | BW8: 2.Đồng ý | BX8: =VLOOKUP(BW8,options!$S$31:$T$35,2,FALSE) -> 4 | BY8: Tài liệu,chương trình (sách, v.v.) | BZ8: Trang thiết bị (máy móc, công cụ, v.v.) | CA8: Cơ sở vật chất (phòng học, thư việnv.v.) | CC8: 2.Đồng ý | CD8: 2.Đồng ý | CE8: =VLOOKUP(CD8,options!$S$31:$T$35,2,FALSE) -> 4
A9: 8 | B9: Trường Cao đẳng Lý Tự Trọng thành Phố Hồ Chí Minh | C9: 14000646 | D9: Đỗ | E9: Ngọc | F9: Huy | G9: 14CĐ - CK1 | H9: Cơ khí | I9: Công nghệ kỹ thuật Cơ khí | J9: =VLOOKUP(I9,options!$R$65:$S$80,2,FALSE) -> Công nghệ kỹ thuật Cơ khí | K9: =VLOOKUP(I9,'Chuẩn hóa Ngànhnghề'!$A$4:$B$19,2,FALSE) -> Công nghệ kỹ thuật Cơ khí | L9: 4. Cao đẳng | M9: 2072/G Bến Nân 1, Phú Cường | N9: Huyện Định Quán | O9: Đồng Nai | P9: 01686754060 | R9: Nam | S9: 1996 | T9: =2018-S9:S157 -> 22 | U9: =VLOOKUP(T9,'Nhóm tuổi'!$A$3:$B$9,2,FALSE) -> Dưới 25 tuổi | V9: 4.Cao đẳng | W9: Chưa | AA9: 5.Trung bình | AB9: A1.Làm công ăn lương | AC9: =VLOOKUP(AB9,options!$V$50:$W$55,2,FALSE) -> Đi làm | AD9: =VLOOKUP(AB9,options!$V$57:$W$62,2,FALSE) -> Có việc làm | AF9: 5. Sản xuất, phân phối điện, ga, nước | AH9: TMB Minh Phát | AI9: 20 Nguyễn Cửa Phú, Xã Tân Kiên, | AJ9: Huyện Bình Chánh | AK9: Tp.hcm | AL9: 0283877057 | AM9: www.tbm.com.vn | AN9: 48 | AO9: 4.Trên 3 tháng | AP9: Quan hệ cá nhân | AR9: 2.Tốt | AS9: =VLOOKUP(AR9,options!$M$41:$N$45,2,FALSE) -> 4 | AT9: 2.Tốt | AU9: =VLOOKUP(AT9,options!$M$41:$N$45,2,FALSE) -> 4 | AV9: 1.Có liên quan | AX9: 4. Từ 6-8 triệu | AY9: 3. Từ 10-200 người | AZ9: Có | BA9: 1. Dưới 2 tuần | BB9: 2. Nhân viên chính thức | BD9: Không | BF9: =VLOOKUP(BE9,options!$S$39:$T$59,2,FALSE) -> #N/A | BQ9: =VLOOKUP(BP9,options!$V$31:$W$44,2,FALSE) -> #N/A | BS9: 2.Đồng ý | BT9: =VLOOKUP(BS9,options!$S$31:$T$35,2,FALSE) -> 4 | BU9: 2.Đồng ý | BV9: =VLOOKUP(BU9,options!$S$31:$T$35,2,FALSE) -> 4 | BW9: 2.Đồng ý | BX9: =VLOOKUP(BW9,options!$S$31:$T$35,2,FALSE) -> 4 | BY9: Tài liệu,chương trình (sách, v.v.) | BZ9: Trang thiết bị (máy móc, công cụ, v.v.) | CA9: Thực tập/ thực hành tại doanh nghiệp | CC9: 2.Đồng ý | CD9: 2.Đồng ý | CE9: =VLOOKUP(CD9,options!$S$31:$T$35,2,FALSE) -> 4
A10: 9 | B10: Trường Cao đẳng Lý Tự Trọng thành Phố Hồ Chí Minh | C10: 14000642 | D10: Phạm | E10: Nguyễn Thái | F10: Hiền | G10: 14CĐ - CK1 | H10: Cơ khí | I10: Công nghệ kỹ thuật Cơ khí | J10: =VLOOKUP(I10,options!$R$65:$S$80,2,FALSE) -> Công nghệ kỹ thuật Cơ khí | K10: =VLOOKUP(I10,'Chuẩn hóa Ngànhnghề'!$A$4:$B$19,2,FALSE) -> Công nghệ kỹ thuật Cơ khí | L10: 4. Cao đẳng | M10: Võ Thành Trang, Phường 10 | N10: Quận Tân Bình | O10: Tp.hcm | P10: 01679069226 | Q10: trannam1cuoctinh@gmail.com | R10: Nam | S10: 1996 | T10: =2018-S10:S158 -> 22 | U10: =VLOOKUP(T10,'Nhóm tuổi'!$A$3:$B$9,2,FALSE) -> Dưới 25 tuổi | V10: 4.Cao đẳng | W10: Chưa | AA10: 5.Trung bình | AB10: A1.Làm công ăn lương | AC10: =VLOOKUP(AB10,options!$V$50:$W$55,2,FALSE) -> Đi làm | AD10: =VLOOKUP(AB10,options!$V$57:$W$62,2,FALSE) -> Có việc làm | AF10: 5. Sản xuất, phân phối điện, ga, nước | AH10: TMB Minh Phát | AI10: 20 Nguyễn Cửa Phú, Xã Tân Kiên, | AJ10: Huyện Bình Chánh | AK10: Tp.hcm | AL10: 0283877057 | AM10: www.tbm.com.vn | AN10: 48 | AO10: 4.Trên 3 tháng | AP10: Quan hệ cá nhân | AR10: 2.Tốt | AS10: =VLOOKUP(AR10,options!$M$41:$N$45,2,FALSE) -> 4 | AT10: 3.Trung bình | AU10: =VLOOKUP(AT10,options!$M$41:$N$45,2,FALSE) -> 3 | AV10: 1.Có liên quan | AX10: 4. Từ 6-8 triệu | AY10: 3. Từ 10-200 người | AZ10: Có | BA10: 1. Dưới 2 tuần | BB10: 2. Nhân viên chính thức | BD10: Có | BE10: Công nghệ kỹ thuật cơ khí | BF10: =VLOOKUP(BE10,options!$S$39:$T$59,2,FALSE) -> Công nghệ kỹ thuật cơ khí | BG10: 1.Đại học | BQ10: =VLOOKUP(BP10,options!$V$31:$W$44,2,FALSE) -> #N/A | BS10: 2.Đồng ý | BT10: =VLOOKUP(BS10,options!$S$31:$T$35,2,FALSE) -> 4 | BU10: 2.Đồng ý | BV10: =VLOOKUP(BU10,options!$S$31:$T$35,2,FALSE) -> 4 | BW10: 2.Đồng ý | BX10: =VLOOKUP(BW10,options!$S$31:$T$35,2,FALSE) -> 4 | BY10: Tài liệu,chương trình (sách, v.v.) | BZ10: Trang thiết bị (máy móc, công cụ, v.v.) | CA10: Thực tập/ thực hành tại doanh nghiệp | CC10: 2.Đồng ý | CD10: 2.Đồng ý | CE10: =VLOOKUP(CD10,options!$S$31:$T$35,2,FALSE) -> 4
A11: 10 | B11: Trường Cao đẳng Lý Tự Trọng thành Phố Hồ Chí Minh | C11: 14000660 | D11: Huỳnh | E11: Minh | F11: Nhàn | G11: 14CĐ - CK1 | H11: Cơ khí | I11: Công nghệ kỹ thuật Cơ khí | J11: =VLOOKUP(I11,options!$R$65:$S$80,2,FALSE) -> Công nghệ kỹ thuật Cơ khí | K11: =VLOOKUP(I11,'Chuẩn hóa Ngànhnghề'!$A$4:$B$19,2,FALSE) -> Công nghệ kỹ thuật Cơ khí | L11: 4. Cao đẳng | M11: 5/10 Võ Trường Toản, Phường 15 | N11: Quận 5 | O11: Tp.hcm | P11: 0966276729 | Q11: minhnhan2729@gmail.com | R11: Nam | S11: 1996 | T11: =2018-S11:S159 -> 22 | U11: =VLOOKUP(T11,'Nhóm tuổi'!$A$3:$B$9,2,FALSE) -> Dưới 25 tuổi | V11: 4.Cao đẳng | W11: Chưa | AA11: 5.Trung bình | AB11: A1.Làm công ăn lương | AC11: =VLOOKUP(AB11,options!$V$50:$W$55,2,FALSE) -> Đi làm | AD11: =VLOOKUP(AB11,options!$V$57:$W$62,2,FALSE) -> Có việc làm | AF11: 6.Thương mại & Dịch vụ (Bán buôn, bán lẻ) | AH11: Quảng cáo Trí Việt | AI11: 195B Nam Kỳ Khởi Nghĩa, Phường 7 | AJ11: Quận 3 | AK11: Tp.hcm | AL11: 02839325092 | AN11: 48 | AO11: 4.Trên 3 tháng | AP11: Qua quảng cáo trên Internet | AR11: 2.Tốt | AS11: =VLOOKUP(AR11,options!$M$41:$N$45,2,FALSE) -> 4 | AT11: 2.Tốt | AU11: =VLOOKUP(AT11,options!$M$41:$N$45,2,FALSE) -> 4 | AV11: 1.Có liên quan | AX11: 3.Từ 4-6 triệu | AY11: 2. Từ 2-10người | AZ11: Có | BA11: 2. Từ 2-4 tuần | BB11: 1. Nhân viên trong thời gian thử việc (thợ học việc) | BD11: Không | BF11: =VLOOKUP(BE11,options!$S$39:$T$59,2,FALSE) -> #N/A | BQ11: =VLOOKUP(BP11,options!$V$31:$W$44,2,FALSE) -> #N/A | BS11: 1.Hoàn toàn đồng ý | BT11: =VLOOKUP(BS11,options!$S$31:$T$35,2,FALSE) -> 5 | BU11: 1.Hoàn toàn đồng ý | BV11: =VLOOKUP(BU11,options!$S$31:$T$35,2,FALSE) -> 5 | BW11: 1.Hoàn toàn đồng ý | BX11: =VLOOKUP(BW11,options!$S$31:$T$35,2,FALSE) -> 5 | BY11: Tài liệu,chương trình (sách, v.v.) | BZ11: Trang thiết bị (máy móc, công cụ, v.v.) | CA11: Thực tập/ thực hành tại doanh nghiệp | CC11: 2.Đồng ý | CD11: 2.Đồng ý | CE11: =VLOOKUP(CD11,options!$S$31:$T$35,2,FALSE) -> 4
A12: 11 | B12: Trường Cao đẳng Lý Tự Trọng thành Phố Hồ Chí Minh | C12: 14000674 | D12: Ngô | E12: Huỳnh Minh | F12: Tự | G12: 14CĐ - CK1 | H12: Cơ khí | I12: Công nghệ kỹ thuật Cơ khí | J12: =VLOOKUP(I12,options!$R$65:$S$80,2,FALSE) -> Công nghệ kỹ thuật Cơ khí | K12: =VLOOKUP(I12,'Chuẩn hóa Ngànhnghề'!$A$4:$B$19,2,FALSE) -> Công nghệ kỹ thuật Cơ khí | L12: 4. Cao đẳng | M12: Quốc Lộ 13, Phường Hiệp Bình Chánh | N12: Quận Thủ Đức | O12: Tp.hcm | P12: 01686725052 | Q12: huynhminh107@gmail.com | R12: Nam | S12: 1996 | T12: =2018-S12:S160 -> 22 | U12: =VLOOKUP(T12,'Nhóm tuổi'!$A$3:$B$9,2,FALSE) -> Dưới 25 tuổi | V12: 4.Cao đẳng | W12: Chưa | AA12: 5.Trung bình | AB12: A1.Làm công ăn lương | AC12: =VLOOKUP(AB12,options!$V$50:$W$55,2,FALSE) -> Đi làm | AD12: =VLOOKUP(AB12,options!$V$57:$W$62,2,FALSE) -> Có việc làm | AF12: 4. Xây dựng | AH12: TNHH Tập Đoàn Thang Máy Thiết Bị Thăng Long | AI12: 17A Điện Biên Phủ,Phường 25, | AJ12: Quận Bình Thạnh | AK12: Tp.hcm | AL12: 02835112607 | AM12: http://www.tle.com.vn | AN12: 48 | AO12: 2.Dưới 1 tháng | AP12: Quan hệ cá nhân | AR12: 1.Rất tốt | AS12: =VLOOKUP(AR12,options!$M$41:$N$45,2,FALSE) -> 5 | AT12: 1.Rất tốt | AU12: =VLOOKUP(AT12,options!$M$41:$N$45,2,FALSE) -> 5 | AV12: 1.Có liên quan | AX12: 4. Từ 6-8 triệu | AY12: 3. Từ 10-200 người | AZ12: Có | BA12: 2. Từ 2-4 tuần | BB12: 2. Nhân viên chính thức | BD12: Có | BE12: Công nghệ kỹ thuật cơ khí | BF12: =VLOOKUP(BE12,options!$S$39:$T$59,2,FALSE) -> Công nghệ kỹ thuật cơ khí | BG12: 1.Đại học | BQ12: =VLOOKUP(BP12,options!$V$31:$W$44,2,FALSE) -> #N/A | BS12: 2.Đồng ý | BT12: =VLOOKUP(BS12,options!$S$31:$T$35,2,FALSE) -> 4 | BU12: 3.Đồng ý phần nào | BV12: =VLOOKUP(BU12,options!$S$31:$T$35,2,FALSE) -> 3 | BW12: 2.Đồng ý | BX12: =VLOOKUP(BW12,options!$S$31:$T$35,2,FALSE) -> 4 | BY12: Tài liệu,chương trình (sách, v.v.) | BZ12: Trang thiết bị (máy móc, công cụ, v.v.) | CA12: Thực tập/ thực hành tại doanh nghiệp | CC12: 2.Đồng ý | CD12: 2.Đồng ý | CE12: =VLOOKUP(CD12,options!$S$31:$T$35,2,FALSE) -> 4
A13: 12 | B13: Trường Cao đẳng Lý Tự Trọng thành Phố Hồ Chí Minh | C13: 14000666 | D13: Phạm | E13: Hoài | F13: Phương | G13: 14CĐ - CK1 | H13: Cơ khí | I13: Công nghệ kỹ thuật Cơ khí | J13: =VLOOKUP(I13,options!$R$65:$S$80,2,FALSE) -> Công nghệ kỹ thuật Cơ khí | K13: =VLOOKUP(I13,'Chuẩn hóa Ngànhnghề'!$A$4:$B$19,2,FALSE) -> Công nghệ kỹ thuật Cơ khí | L13: 4. Cao đẳng | M13: 468 Trường Chinh, Phường 13 | N13: Quận Tân Bình | O13: Tp.hcm | P13: 0964301800 | Q13: phamphuong083@gmail | R13: Nam | S13: 1996 | T13: =2018-S13:S161 -> 22 | U13: =VLOOKUP(T13,'Nhóm tuổi'!$A$3:$B$9,2,FALSE) -> Dưới 25 tuổi | V13: 4.Cao đẳng | W13: Chưa | AA13: 5.Trung bình | AB13: A1.Làm công ăn lương | AC13: =VLOOKUP(AB13,options!$V$50:$W$55,2,FALSE) -> Đi làm | AD13: =VLOOKUP(AB13,options!$V$57:$W$62,2,FALSE) -> Có việc làm | AF13: 5. Sản xuất, phân phối điện, ga, nước | AH13: TNHH Hỗ Trợ Kiểm Định và DVCN Toàn Quốc | AI13: E29 KDC Vạn Hưng Phát, Hoàng Quốc Việt, Phường Phú Thuận | AJ13: Quận 7 | AK13: Tp.hcm | AL13: 908271217 | AM13: hotro@congnghieptoanquoc.com | AN13: 48 | AO13: 2.Dưới 1 tháng | AP13: Do trường giới thiệu | AR13: 2.Tốt | AS13: =VLOOKUP(AR13,options!$M$41:$N$45,2,FALSE) -> 4 | AT13: 3.Trung bình | AU13: =VLOOKUP(AT13,options!$M$41:$N$45,2,FALSE) -> 3 | AV13: 3.Không liên quan | AX13: 4. Từ 6-8 triệu | AY13: 2. Từ 2-10người | AZ13: Có | BA13: 5.Trên 8 tuần | BB13: 2. Nhân viên chính thức | BD13: Không | BF13: =VLOOKUP(BE13,options!$S$39:$T$59,2,FALSE) -> #N/A | BQ13: =VLOOKUP(BP13,options!$V$31:$W$44,2,FALSE) -> #N/A | BS13: 2.Đồng ý | BT13: =VLOOKUP(BS13,options!$S$31:$T$35,2,FALSE) -> 4 | BU13: 2.Đồng ý | BV13: =VLOOKUP(BU13,options!$S$31:$T$35,2,FALSE) -> 4 | BW13: 2.Đồng ý | BX13: =VLOOKUP(BW13,options!$S$31:$T$35,2,FALSE) -> 4 | BY13: Trang thiết bị (máy móc, công cụ, v.v.) | BZ13: Thực tập/ thực hành tại doanh nghiệp | CC13: 2.Đồng ý | CD13: 1.Hoàn toàn đồng ý | CE13: =VLOOKUP(CD13,options!$S$31:$T$35,2,FALSE) -> 5
A14: 13 | B14: Trường Cao đẳng Lý Tự Trọng thành Phố Hồ Chí Minh | C14: 14000668 | D14: Trần | E14: Văn | F14: Qúi | G14: 14CĐ - CK1 | H14: Cơ khí | I14: Công nghệ kỹ thuật Cơ khí | J14: =VLOOKUP(I14,options!$R$65:$S$80,2,FALSE) -> Công nghệ kỹ thuật Cơ khí | K14: =VLOOKUP(I14,'Chuẩn hóa Ngànhnghề'!$A$4:$B$19,2,FALSE) -> Công nghệ kỹ thuật Cơ khí | L14: 4. Cao đẳng | M14: 149/61/20 Bành Văn Trân, Phường 7 | N14: Quận Tân Bình | O14: Tp.hcm | P14: 01669148819 | Q14: tranqui634@gmail.com | R14: Nam | S14: 1996 | T14: =2018-S14:S162 -> 22 | U14: =VLOOKUP(T14,'Nhóm tuổi'!$A$3:$B$9,2,FALSE) -> Dưới 25 tuổi | V14: 4.Cao đẳng | W14: Chưa | AA14: 5.Trung bình | AB14: A1.Làm công ăn lương | AC14: =VLOOKUP(AB14,options!$V$50:$W$55,2,FALSE) -> Đi làm | AD14: =VLOOKUP(AB14,options!$V$57:$W$62,2,FALSE) -> Có việc làm | AF14: 7.Khách sạn, Nhà hàng và Lữ hành | AH14: Cười Lên Cái Coi | AI14: 1012 Trường Sa, Phường 12 | AJ14: Quận 3 | AK14: Tp.hcm | AL14: 0905887486 | AN14: 56 | AO14: 4.Trên 3 tháng | AP14: Qua quảng cáo trên Internet | AR14: 2.Tốt | AS14: =VLOOKUP(AR14,options!$M$41:$N$45,2,FALSE) -> 4 | AT14: 2.Tốt | AU14: =VLOOKUP(AT14,options!$M$41:$N$45,2,FALSE) -> 4 | AV14: 3.Không liên quan | AX14: 3.Từ 4-6 triệu | AY14: 3. Từ 10-200 người | AZ14: Có | BA14: 5.Trên 8 tuần | BB14: 2. Nhân viên chính thức | BD14: Không | BF14: =VLOOKUP(BE14,options!$S$39:$T$59,2,FALSE) -> #N/A | BQ14: =VLOOKUP(BP14,options!$V$31:$W$44,2,FALSE) -> #N/A | BS14: 2.Đồng ý | BT14: =VLOOKUP(BS14,options!$S$31:$T$35,2,FALSE) -> 4 | BU14: 2.Đồng ý | BV14: =VLOOKUP(BU14,options!$S$31:$T$35,2,FALSE) -> 4 | BW14: 2.Đồng ý | BX14: =VLOOKUP(BW14,options!$S$31:$T$35,2,FALSE) -> 4 | BY14: Trang thiết bị (máy móc, công cụ, v.v.) | BZ14: Thực tập/ thực hành tại doanh nghiệp | CA14: Kỹ năng thực hành của giáo viên | CC14: 2.Đồng ý | CD14: 2.Đồng ý | CE14: =VLOOKUP(CD14,options!$S$31:$T$35,2,FALSE) -> 4
A15: 14 | B15: Trường Cao đẳng Lý Tự Trọng thành Phố Hồ Chí Minh | C15: 14000634 | D15: Nguyễn | E15: Thị Thùy | F15: Dương | G15: 14CĐ - CK1 | H15: Cơ khí | I15: Công nghệ kỹ thuật Cơ khí | J15: =VLOOKUP(I15,options!$R$65:$S$80,2,FALSE) -> Công nghệ kỹ thuật Cơ khí | K15: =VLOOKUP(I15,'Chuẩn hóa Ngànhnghề'!$A$4:$B$19,2,FALSE) -> Công nghệ kỹ thuật Cơ khí | L15: 4. Cao đẳng | M15: 15 Lê Tấn Quốc, Phường 13 | N15: Quận Tân Bình | O15: Tp.hcm | P15: 0122367223 | Q15: chaniduong96@gmail.com | R15: Nữ | S15: 1996 | T15: =2018-S15:S163 -> 22 | U15: =VLOOKUP(T15,'Nhóm tuổi'!$A$3:$B$9,2,FALSE) -> Dưới 25 tuổi | V15: 4.Cao đẳng | W15: Chưa | AA15: 5.Trung bình | AB15: A1.Làm công ăn lương | AC15: =VLOOKUP(AB15,options!$V$50:$W$55,2,FALSE) -> Đi làm | AD15: =VLOOKUP(AB15,options!$V$57:$W$62,2,FALSE) -> Có việc làm | AF15: 5. Sản xuất, phân phối điện, ga, nước | AH15: Việt Nhật Tân | AI15: 35/15 Phan Văn Hớn, Phường Tân Thới Nhất | AJ15: Quận 12 | AK15: Tp.hcm | AL15: 02862591213 | AM15: http://www.vietnhattan.com.vn | AN15: 48 | AO15: 2.Dưới 1 tháng | AP15: Qua quảng cáo trên Internet | AR15: 2.Tốt | AS15: =VLOOKUP(AR15,options!$M$41:$N$45,2,FALSE) -> 4 | AT15: 2.Tốt | AU15: =VLOOKUP(AT15,options!$M$41:$N$45,2,FALSE) -> 4 | AV15: 1.Có liên quan | AX15: 4. Từ 6-8 triệu | AY15: 3. Từ 10-200 người | AZ15: Có | BA15: 2. Từ 2-4 tuần | BB15: 2. Nhân viên chính thức | BD15: Có | BE15: Ngôn ngữ Nhật | BF15: =VLOOKUP(BE15,options!$S$39:$T$59,2,FALSE) -> Ngôn ngữ Nhật | BG15: 2.Cao đẳng | BQ15: =VLOOKUP(BP15,options!$V$31:$W$44,2,FALSE) -> #N/A | BS15: 2.Đồng ý | BT15: =VLOOKUP(BS15,options!$S$31:$T$35,2,FALSE) -> 4 | BU15: 2.Đồng ý | BV15: =VLOOKUP(BU15,options!$S$31:$T$35,2,FALSE) -> 4 | BW15: 2.Đồng ý | BX15: =VLOOKUP(BW15,options!$S$31:$T$35,2,FALSE) -> 4 | BY15: Thực tập/ thực hành tại doanh nghiệp | BZ15: Phương pháp giảng dạy của giáo viên | CC15: 2.Đồng ý | CD15: 2.Đồng ý | CE15: =VLOOKUP(CD15,options!$S$31:$T$35,2,FALSE) -> 4
A16: 15 | B16: Trường Cao đẳng Lý Tự Trọng thành Phố Hồ Chí Minh | C16: 14000661 | D16: Nguyễn | E16: Trọng | F16: Nhân | G16: 14CĐ - CK1 | H16: Cơ khí | I16: Công nghệ kỹ thuật Cơ khí | J16: =VLOOKUP(I16,options!$R$65:$S$80,2,FALSE) -> Công nghệ kỹ thuật Cơ khí | K16: =VLOOKUP(I16,'Chuẩn hóa Ngànhnghề'!$A$4:$B$19,2,FALSE) -> Công nghệ kỹ thuật Cơ khí | L16: 4. Cao đẳng | M16: 131/49 Đường Số 1, Phường Bình Hưng Hòa | N16: Quận Bình Tân | O16: Tp.hcm | P16: 01285069677 | R16: Nam | S16: 1996 | T16: =2018-S16:S164 -> 22 | U16: =VLOOKUP(T16,'Nhóm tuổi'!$A$3:$B$9,2,FALSE) -> Dưới 25 tuổi | V16: 4.Cao đẳng | W16: Chưa | AA16: 5.Trung bình | AB16: A1.Làm công ăn lương | AC16: =VLOOKUP(AB16,options!$V$50:$W$55,2,FALSE) -> Đi làm | AD16: =VLOOKUP(AB16,options!$V$57:$W$62,2,FALSE) -> Có việc làm | AF16: 5. Sản xuất, phân phối điện, ga, nước | AH16: Cổ Phần Cơ Điện Năng Lượng Tân Phú | AI16: 50/30 Gò Dầu, Phường Tân Qúi | AJ16: Quận Tân Phú | AK16: Tp.hcm | AL16: 028738114792 | AM16: http://tamepco.com/sam-pham.html(tamepco@gmail.com | AN16: 48 | AO16: 2.Dưới 1 tháng | AP16: Qua quảng cáo trên Internet | AR16: 1.Rất tốt | AS16: =VLOOKUP(AR16,options!$M$41:$N$45,2,FALSE) -> 5 | AT16: 2.Tốt | AU16: =VLOOKUP(AT16,options!$M$41:$N$45,2,FALSE) -> 4 | AV16: 1.Có liên quan | AX16: 4. Từ 6-8 triệu | AY16: 3. Từ 10-200 người | AZ16: Có | BA16: 2. Từ 2-4 tuần | BB16: 2. Nhân viên chính thức | BD16: Không | BF16: =VLOOKUP(BE16,options!$S$39:$T$59,2,FALSE) -> #N/A | BQ16: =VLOOKUP(BP16,options!$V$31:$W$44,2,FALSE) -> #N/A | BS16: 2.Đồng ý | BT16: =VLOOKUP(BS16,options!$S$31:$T$35,2,FALSE) -> 4 | BU16: 2.Đồng ý | BV16: =VLOOKUP(BU16,options!$S$31:$T$35,2,FALSE) -> 4 | BW16: 2.Đồng ý | BX16: =VLOOKUP(BW16,options!$S$31:$T$35,2,FALSE) -> 4 | BY16: Trang thiết bị (máy móc, công cụ, v.v.) | BZ16: Cơ sở vật chất (phòng học, thư việnv.v.) | CA16: Thực tập/ thực hành tại doanh nghiệp | CC16: 2.Đồng ý | CD16: 2.Đồng ý | CE16: =VLOOKUP(CD16,options!$S$31:$T$35,2,FALSE) -> 4
A17: 16 | B17: Trường Cao đẳng Lý Tự Trọng thành Phố Hồ Chí Minh | C17: 14000624 | D17: Trần | E17: Thiện | F17: Minh | G17: 14CĐ - CK2 | H17: Cơ khí | I17: Công nghệ kỹ thuật Cơ khí | J17: =VLOOKUP(I17,options!$R$65:$S$80,2,FALSE) -> Công nghệ kỹ thuật Cơ khí | K17: =VLOOKUP(I17,'Chuẩn hóa Ngànhnghề'!$A$4:$B$19,2,FALSE) -> Công nghệ kỹ thuật Cơ khí | L17: 4. Cao đẳng | M17: An Thạnh, An Ninh Tây | N17: Đức Hòa | O17: Long An | P17: 01667205923 | R17: Nam | S17: 1996 | T17: =2018-S17:S165 -> 22 | U17: =VLOOKUP(T17,'Nhóm tuổi'!$A$3:$B$9,2,FALSE) -> Dưới 25 tuổi | V17: 4.Cao đẳng | W17: Chưa | AA17: 5.Trung bình | AB17: A1.Làm công ăn lương | AC17: =VLOOKUP(AB17,options!$V$50:$W$55,2,FALSE) -> Đi làm | AD17: =VLOOKUP(AB17,options!$V$57:$W$62,2,FALSE) -> Có việc làm | AF17: 6.Thương mại & Dịch vụ (Bán buôn, bán lẻ) | AH17: NOWZONE, FASHION MALL | AI17: 235 Nguyễn Văn Cừ, Phường Nguyễn Cư Trinh | AJ17: Quận 1 | AK17: Tp.hcm | AL17: 02839251550 | AM17: www.nowzone.com.vn | AN17: 48 | AO17: 3. Từ 1-3 tháng | AP17: Qua quảng cáo trên Internet | AR17: 2.Tốt | AS17: =VLOOKUP(AR17,options!$M$41:$N$45,2,FALSE) -> 4 | AT17: 2.Tốt | AU17: =VLOOKUP(AT17,options!$M$41:$N$45,2,FALSE) -> 4 | AV17: 2.Liên quan | AX17: 3.Từ 4-6 triệu | AY17: 3. Từ 10-200 người | AZ17: Có | BA17: 2. Từ 2-4 tuần | BB17: 2. Nhân viên chính thức | BD17: Không | BF17: =VLOOKUP(BE17,options!$S$39:$T$59,2,FALSE) -> #N/A | BQ17: =VLOOKUP(BP17,options!$V$31:$W$44,2,FALSE) -> #N/A | BS17: 2.Đồng ý | BT17: =VLOOKUP(BS17,options!$S$31:$T$35,2,FALSE) -> 4 | BU17: 2.Đồng ý | BV17: =VLOOKUP(BU17,options!$S$31:$T$35,2,FALSE) -> 4 | BW17: 2.Đồng ý | BX17: =VLOOKUP(BW17,options!$S$31:$T$35,2,FALSE) -> 4 | BY17: Tài liệu,chương trình (sách, v.v.) | BZ17: Trang thiết bị (máy móc, công cụ, v.v.) | CA17: Thực tập/ thực hành tại doanh nghiệp | CC17: 2.Đồng ý | CD17: 2.Đồng ý | CE17: =VLOOKUP(CD17,options!$S$31:$T$35,2,FALSE) -> 4
A18: 17 | B18: Trường Cao đẳng Lý Tự Trọng thành Phố Hồ Chí Minh | C18: 14000681 | D18: Đàng | E18: Năng Xuân | F18: Định | G18: 14CĐ - CK2 | H18: Cơ khí | I18: Công nghệ kỹ thuật Cơ khí | J18: =VLOOKUP(I18,options!$R$65:$S$80,2,FALSE) -> Công nghệ kỹ thuật Cơ khí | K18: =VLOOKUP(I18,'Chuẩn hóa Ngànhnghề'!$A$4:$B$19,2,FALSE) -> Công nghệ kỹ thuật Cơ khí | L18: 4. Cao đẳng | M18: 45 Đỗ Xuân Hợp, Phường Phước Long, | N18: Quận 9 | O18: Tp.hcm | P18: 01693742536 | Q18: noya14185@gmaial.com | R18: Nam | S18: 1995 | T18: =2018-S18:S166 -> 23 | U18: =VLOOKUP(T18,'Nhóm tuổi'!$A$3:$B$9,2,FALSE) -> Dưới 25 tuổi | V18: 4.Cao đẳng | W18: Chưa | AA18: 5.Trung bình | AB18: A1.Làm công ăn lương | AC18: =VLOOKUP(AB18,options!$V$50:$W$55,2,FALSE) -> Đi làm | AD18: =VLOOKUP(AB18,options!$V$57:$W$62,2,FALSE) -> Có việc làm | AF18: 5. Sản xuất, phân phối điện, ga, nước | AH18: Công ty Tinh Minh Đống | AI18: 181 Đặng Văn Bi, KP4, Phường Trường Thọ, | AJ18: Quận Thủ Đức | AK18: Tp.hcm | AL18: 02837220977 | AM18: minh_dong@vnn.vn | AN18: 48 | AO18: 3. Từ 1-3 tháng | AP18: Qua quảng cáo trên báo/đài/TV | AR18: 2.Tốt | AS18: =VLOOKUP(AR18,options!$M$41:$N$45,2,FALSE) -> 4 | AT18: 2.Tốt | AU18: =VLOOKUP(AT18,options!$M$41:$N$45,2,FALSE) -> 4 | AV18: 1.Có liên quan | AX18: 3.Từ 4-6 triệu | AY18: 3. Từ 10-200 người | AZ18: Có | BA18: 2. Từ 2-4 tuần | BB18: 1. Nhân viên trong thời gian thử việc (thợ học việc) | BD18: Không | BF18: =VLOOKUP(BE18,options!$S$39:$T$59,2,FALSE) -> #N/A | BQ18: =VLOOKUP(BP18,options!$V$31:$W$44,2,FALSE) -> #N/A | BS18: 2.Đồng ý | BT18: =VLOOKUP(BS18,options!$S$31:$T$35,2,FALSE) -> 4 | BU18: 2.Đồng ý | BV18: =VLOOKUP(BU18,options!$S$31:$T$35,2,FALSE) -> 4 | BW18: 2.Đồng ý | BX18: =VLOOKUP(BW18,options!$S$31:$T$35,2,FALSE) -> 4 | BY18: Tài liệu,chương trình (sách, v.v.) | BZ18: Trang thiết bị (máy móc, công cụ, v.v.) | CA18: Thực tập/ thực hành tại doanh nghiệp | CC18: 2.Đồng ý | CD18: 2.Đồng ý | CE18: =VLOOKUP(CD18,options!$S$31:$T$35,2,FALSE) -> 4
A19: 18 | B19: Trường Cao đẳng Lý Tự Trọng thành Phố Hồ Chí Minh | C19: 14000781 | D19: Phan | E19: Sỹ | F19: Lâm | G19: 14CĐ - CK2 | H19: Cơ khí | I19: Công nghệ kỹ thuật Cơ khí | J19: =VLOOKUP(I19,options!$R$65:$S$80,2,FALSE) -> Công nghệ kỹ thuật Cơ khí | K19: =VLOOKUP(I19,'Chuẩn hóa Ngànhnghề'!$A$4:$B$19,2,FALSE) -> Công nghệ kỹ thuật Cơ khí | L19: 4. Cao đẳng | M19: 66 Lê Đình Cẩn, Phường Bình Trị Đông, | N19: Quận Bình Tân | O19: Tp.hcm | P19: 01264158671 | Q19: phansylam1996@gmail.com | R19: Nam | S19: 1996 | T19: =2018-S19:S167 -> 22 | U19: =VLOOKUP(T19,'Nhóm tuổi'!$A$3:$B$9,2,FALSE) -> Dưới 25 tuổi | V19: 4.Cao đẳng | W19: Chưa | AA19: 5.Trung bình | AB19: C.Không tìm được việc làm | AC19: =VLOOKUP(AB19,options!$V$50:$W$55,2,FALSE) -> Đang tìm việc (Không có việc làm) | AD19: =VLOOKUP(AB19,options!$V$57:$W$62,2,FALSE) -> Không tìm được việc làm | AS19: =VLOOKUP(AR19,options!$M$41:$N$45,2,FALSE) -> #N/A | AU19: =VLOOKUP(AT19,options!$M$41:$N$45,2,FALSE) -> #N/A | BF19: =VLOOKUP(BE19,options!$S$39:$T$59,2,FALSE) -> #N/A | BH19: Vì không tìm được việc làm đúng với ngành nghề được đào tạo | BI19: 2.CV không liên quan đến nghề được đào tạo | BJ19: Kỹ năng nghề không đáp ứng được yêu cầu công việc | BK19: Thiếu kinh nghiệm làm việc | BL19: Thiếu thông tin về việc làm | BQ19: =VLOOKUP(BP19,options!$V$31:$W$44,2,FALSE) -> #N/A | BS19: 2.Đồng ý | BT19: =VLOOKUP(BS19,options!$S$31:$T$35,2,FALSE) -> 4 | BU19: 3.Đồng ý phần nào | BV19: =VLOOKUP(BU19,options!$S$31:$T$35,2,FALSE) -> 3 | BW19: 2.Đồng ý | BX19: =VLOOKUP(BW19,options!$S$31:$T$35,2,FALSE) -> 4 | BY19: Tài liệu,chương trình (sách, v.v.) | BZ19: Thực tập/ thực hành tại doanh nghiệp | CC19: 2.Đồng ý | CD19: 3.Đồng ý phần nào | CE19: =VLOOKUP(CD19,options!$S$31:$T$35,2,FALSE) -> 3
A20: 19 | B20: Trường Cao đẳng Lý Tự Trọng thành Phố Hồ Chí Minh | C20: 14000722 | D20: Nguyễn | E20: Văn | F20: Vương | G20: 14CĐ - CK2 | H20: Cơ khí | I20: Công nghệ kỹ thuật Cơ khí | J20: =VLOOKUP(I20,options!$R$65:$S$80,2,FALSE) -> Công nghệ kỹ thuật Cơ khí | K20: =VLOOKUP(I20,'Chuẩn hóa Ngànhnghề'!$A$4:$B$19,2,FALSE) -> Công nghệ kỹ thuật Cơ khí | L20: 4. Cao đẳng | M20: 3953 Lê Quang Định, Phường 11 | N20: Quận Bình Thạnh | O20: Tp.hcm | P20: 0975930661 | R20: Nam | S20: 1995 | T20: =2018-S20:S168 -> 23 | U20: =VLOOKUP(T20,'Nhóm tuổi'!$A$3:$B$9,2,FALSE) -> Dưới 25 tuổi | V20: 4.Cao đẳng | W20: Chưa | AA20: 5.Trung bình | AB20: A1.Làm công ăn lương | AC20: =VLOOKUP(AB20,options!$V$50:$W$55,2,FALSE) -> Đi làm | AD20: =VLOOKUP(AB20,options!$V$57:$W$62,2,FALSE) -> Có việc làm | AF20: 5. Sản xuất, phân phối điện, ga, nước | AH20: Công ty Cổ Phần Đại Đồng Tiến | AI20: 216 Tân Thành, Phường 15 | AJ20: Quận 5 | AK20: Tp.hcm | AL20: 906600183 | AM20: www.daidongtien.com.vn | AN20: 48 | AO20: 4.Trên 3 tháng | AP20: Quan hệ cá nhân | AR20: 2.Tốt | AS20: =VLOOKUP(AR20,options!$M$41:$N$45,2,FALSE) -> 4 | AT20: 2.Tốt | AU20: =VLOOKUP(AT20,options!$M$41:$N$45,2,FALSE) -> 4 | AV20: 1.Có liên quan | AX20: 3.Từ 4-6 triệu | AY20: 5. Trên 300 người | AZ20: Có | BA20: 2. Từ 2-4 tuần | BB20: 2. Nhân viên chính thức | BD20: Không | BF20: =VLOOKUP(BE20,options!$S$39:$T$59,2,FALSE) -> #N/A | BQ20: =VLOOKUP(BP20,options!$V$31:$W$44,2,FALSE) -> #N/A | BS20: 2.Đồng ý | BT20: =VLOOKUP(BS20,options!$S$31:$T$35,2,FALSE) -> 4 | BU20: 2.Đồng ý | BV20: =VLOOKUP(BU20,options!$S$31:$T$35,2,FALSE) -> 4 | BW20: 2.Đồng ý | BX20: =VLOOKUP(BW20,options!$S$31:$T$35,2,FALSE) -> 4 | BY20: Thực tập/ thực hành tại doanh nghiệp | CB20: Thời gian học CNC ngắn cần bổ sung thời gian | CC20: 2.Đồng ý | CD20: 2.Đồng ý | CE20: =VLOOKUP(CD20,options!$S$31:$T$35,2,FALSE) -> 4
A21: 20 | B21: Trường Cao đẳng Lý Tự Trọng thành Phố Hồ Chí Minh | C21: 14000786 | D21: Trần | E21: Ngọc | F21: Ngọc | G21: 14CĐ - CK2 | H21: Cơ khí | I21: Công nghệ kỹ thuật Cơ khí | J21: =VLOOKUP(I21,options!$R$65:$S$80,2,FALSE) -> Công nghệ kỹ thuật Cơ khí | K21: =VLOOKUP(I21,'Chuẩn hóa Ngànhnghề'!$A$4:$B$19,2,FALSE) -> Công nghệ kỹ thuật Cơ khí | L21: 4. Cao đẳng | M21: 40/41 Lê Lợi , Phường 03 | N21: Quận Gò Vấp | O21: Tp.hcm | P21: 01649234858 | R21: Nam | S21: 1995 | T21: =2018-S21:S169 -> 23 | U21: =VLOOKUP(T21,'Nhóm tuổi'!$A$3:$B$9,2,FALSE) -> Dưới 25 tuổi | V21: 4.Cao đẳng | W21: Chưa | AA21: 5.Trung bình | AB21: C.Không tìm được việc làm | AC21: =VLOOKUP(AB21,options!$V$50:$W$55,2,FALSE) -> Đang tìm việc (Không có việc làm) | AD21: =VLOOKUP(AB21,options!$V$57:$W$62,2,FALSE) -> Không tìm được việc làm | AS21: =VLOOKUP(AR21,options!$M$41:$N$45,2,FALSE) -> #N/A | AU21: =VLOOKUP(AT21,options!$M$41:$N$45,2,FALSE) -> #N/A | BF21: =VLOOKUP(BE21,options!$S$39:$T$59,2,FALSE) -> #N/A | BH21: Lý do khác | BI21: 2.CV không liên quan đến nghề được đào tạo | BJ21: Ngoại ngữ không đạt | BK21: Thiếu kinh nghiệm làm việc | BL21: Lý do khác | BM21: Chưa sắp sếp được thời gian | BQ21: =VLOOKUP(BP21,options!$V$31:$W$44,2,FALSE) -> #N/A | BS21: 2.Đồng ý | BT21: =VLOOKUP(BS21,options!$S$31:$T$35,2,FALSE) -> 4 | BU21: 2.Đồng ý | BV21: =VLOOKUP(BU21,options!$S$31:$T$35,2,FALSE) -> 4 | BW21: 2.Đồng ý | BX21: =VLOOKUP(BW21,options!$S$31:$T$35,2,FALSE) -> 4 | BY21: Tài liệu,chương trình (sách, v.v.) | BZ21: Thực tập/ thực hành tại doanh nghiệp | CC21: 3.Đồng ý phần nào | CD21: 2.Đồng ý | CE21: =VLOOKUP(CD21,options!$S$31:$T$35,2,FALSE) -> 4
A22: 21 | B22: Trường Cao đẳng Lý Tự Trọng thành Phố Hồ Chí Minh | C22: 14000793 | D22: Hồ | E22: Phạm Hoàng | F22: Tâm | G22: 14CĐ - CK2 | H22: Cơ khí | I22: Công nghệ kỹ thuật Cơ khí | J22: =VLOOKUP(I22,options!$R$65:$S$80,2,FALSE) -> Công nghệ kỹ thuật Cơ khí | K22: =VLOOKUP(I22,'Chuẩn hóa Ngànhnghề'!$A$4:$B$19,2,FALSE) -> Công nghệ kỹ thuật Cơ khí | L22: 4. Cao đẳng | M22: 437A Hoàng Văn Thụ, Phường 4 | N22: Quận Tân Bình | O22: Tp.hcm | P22: 01208559991 | Q22: hophamhoangtam@gmail.com | R22: Nam | S22: 1996 | T22: =2018-S22:S170 -> 22 | U22: =VLOOKUP(T22,'Nhóm tuổi'!$A$3:$B$9,2,FALSE) -> Dưới 25 tuổi | V22: 4.Cao đẳng | W22: Chưa | AA22: 5.Trung bình | AB22: A1.Làm công ăn lương | AC22: =VLOOKUP(AB22,options!$V$50:$W$55,2,FALSE) -> Đi làm | AD22: =VLOOKUP(AB22,options!$V$57:$W$62,2,FALSE) -> Có việc làm | AF22: 11.Khác, ghi cụ thể | AG22: Dân quân tự vệ | AH22: Phường 4, Quận Tân Bình | AI22: 324/59 Hoàng Văn Thụ, Phường 4 | AJ22: Quận Tân Bình | AK22: Tp.hcm | AN22: 48 | AO22: 3. Từ 1-3 tháng | AP22: Quan hệ cá nhân | AR22: 2.Tốt | AS22: =VLOOKUP(AR22,options!$M$41:$N$45,2,FALSE) -> 4 | AT22: 2.Tốt | AU22: =VLOOKUP(AT22,options!$M$41:$N$45,2,FALSE) -> 4 | AV22: 3.Không liên quan | AX22: 2. Từ 2-4 triệu | AY22: 3. Từ 10-200 người | AZ22: Có | BA22: 2. Từ 2-4 tuần | BB22: 2. Nhân viên chính thức | BD22: Không | BF22: =VLOOKUP(BE22,options!$S$39:$T$59,2,FALSE) -> #N/A | BQ22: =VLOOKUP(BP22,options!$V$31:$W$44,2,FALSE) -> #N/A | BS22: 2.Đồng ý | BT22: =VLOOKUP(BS22,options!$S$31:$T$35,2,FALSE) -> 4 | BU22: 2.Đồng ý | BV22: =VLOOKUP(BU22,options!$S$31:$T$35,2,FALSE) -> 4 | BW22: 2.Đồng ý | BX22: =VLOOKUP(BW22,options!$S$31:$T$35,2,FALSE) -> 4 | BY22: Trang thiết bị (máy móc, công cụ, v.v.) | BZ22: Cơ sở vật chất (phòng học, thư việnv.v.) | CA22: Thực tập/ thực hành tại doanh nghiệp | CC22: 2.Đồng ý | CD22: 2.Đồng ý | CE22: =VLOOKUP(CD22,options!$S$31:$T$35,2,FALSE) -> 4
A23: 22 | B23: Trường Cao đẳng Lý Tự Trọng thành Phố Hồ Chí Minh | C23: 14000705 | D23: Đác | E23: Duy | F23: Thắng | G23: 14CĐ - CK2 | H23: Cơ khí | I23: Công nghệ kỹ thuật Cơ khí | J23: =VLOOKUP(I23,options!$R$65:$S$80,2,FALSE) -> Công nghệ kỹ thuật Cơ khí | K23: =VLOOKUP(I23,'Chuẩn hóa Ngànhnghề'!$A$4:$B$19,2,FALSE) -> Công nghệ kỹ thuật Cơ khí | L23: 4. Cao đẳng | M23: 68 Đường Số 1, Trần Não, Phường Bình An | N23: Quận 2 | O23: Tp.hcm | P23: 01654667827 | Q23: thangck2011@gmail.com | R23: Nam | S23: 1992 | T23: =2018-S23:S171 -> 26 | U23: =VLOOKUP(T23,'Nhóm tuổi'!$A$3:$B$9,2,FALSE) -> Từ 25 đến 30 tuổi | V23: 4.Cao đẳng | W23: Chưa | AA23: 5.Trung bình | AB23: A1.Làm công ăn lương | AC23: =VLOOKUP(AB23,options!$V$50:$W$55,2,FALSE) -> Đi làm | AD23: =VLOOKUP(AB23,options!$V$57:$W$62,2,FALSE) -> Có việc làm | AF23: 6.Thương mại & Dịch vụ (Bán buôn, bán lẻ) | AH23: Cổ Phần Tư Vấn Xây Dựng Điện 2 | AI23: 45 Đường Số 2, Phường Trường Thọ | AJ23: Quận Thủ Đức | AK23: Tp.hcm | AL23: 02837311406 | AM23: xncd@pecc2.com | AN23: 48 | AO23: 2.Dưới 1 tháng | AP23: Khác, ghi cụ thể | AQ23: Công ty tuyển dụng | AR23: 2.Tốt | AS23: =VLOOKUP(AR23,options!$M$41:$N$45,2,FALSE) -> 4 | AT23: 2.Tốt | AU23: =VLOOKUP(AT23,options!$M$41:$N$45,2,FALSE) -> 4 | AV23: 3.Không liên quan | AX23: 5. Trên 8 triệu | AY23: 3. Từ 10-200 người | AZ23: Có | BA23: 2. Từ 2-4 tuần | BB23: 2. Nhân viên chính thức | BD23: Không | BF23: =VLOOKUP(BE23,options!$S$39:$T$59,2,FALSE) -> #N/A | BQ23: =VLOOKUP(BP23,options!$V$31:$W$44,2,FALSE) -> #N/A | BS23: 2.Đồng ý | BT23: =VLOOKUP(BS23,options!$S$31:$T$35,2,FALSE) -> 4 | BU23: 2.Đồng ý | BV23: =VLOOKUP(BU23,options!$S$31:$T$35,2,FALSE) -> 4 | BW23: 2.Đồng ý | BX23: =VLOOKUP(BW23,options!$S$31:$T$35,2,FALSE) -> 4 | BY23: Tài liệu,chương trình (sách, v.v.) | BZ23: Cơ sở vật chất (phòng học, thư việnv.v.) | CC23: 2.Đồng ý | CD23: 2.Đồng ý | CE23: =VLOOKUP(CD23,options!$S$31:$T$35,2,FALSE) -> 4
A24: 23 | B24: Trường Cao đẳng Lý Tự Trọng thành Phố Hồ Chí Minh | C24: 14000692 | D24: Trần | E24: Tấn | F24: Lộc | G24: 14CĐ - CK2 | H24: Cơ khí | I24: Công nghệ kỹ thuật Cơ khí | J24: =VLOOKUP(I24,options!$R$65:$S$80,2,FALSE) -> Công nghệ kỹ thuật Cơ khí | K24: =VLOOKUP(I24,'Chuẩn hóa Ngànhnghề'!$A$4:$B$19,2,FALSE) -> Công nghệ kỹ thuật Cơ khí | L24: 4. Cao đẳng | M24: Phước Thể | N24: Tuy Phong | O24: Bình Thuận | P24: 01675818299 | Q24: ttanloc120@gmail.com | R24: Nam | S24: 1995 | T24: =2018-S24:S172 -> 23 | U24: =VLOOKUP(T24,'Nhóm tuổi'!$A$3:$B$9,2,FALSE) -> Dưới 25 tuổi | V24: 4.Cao đẳng | W24: Chưa | AA24: 5.Trung bình | AB24: A1.Làm công ăn lương | AC24: =VLOOKUP(AB24,options!$V$50:$W$55,2,FALSE) -> Đi làm | AD24: =VLOOKUP(AB24,options!$V$57:$W$62,2,FALSE) -> Có việc làm | AF24: 4. Xây dựng | AH24: Tại gia | AI24: Phước Thể | AJ24: Huyện Tuy Phong | AK24: Bình Thuận | AL24: 01675818299 | AM24: tta6nloc120@gmail.co..vn | AN24: 48 | AO24: 2.Dưới 1 tháng | AP24: Quan hệ cá nhân | AR24: 3.Trung bình | AS24: =VLOOKUP(AR24,options!$M$41:$N$45,2,FALSE) -> 3 | AT24: 3.Trung bình | AU24: =VLOOKUP(AT24,options!$M$41:$N$45,2,FALSE) -> 3 | AV24: 1.Có liên quan | AX24: 3.Từ 4-6 triệu | AY24: 3. Từ 10-200 người | AZ24: Có | BA24: 2. Từ 2-4 tuần | BB24: 2. Nhân viên chính thức | BD24: Không | BF24: =VLOOKUP(BE24,options!$S$39:$T$59,2,FALSE) -> #N/A | BQ24: =VLOOKUP(BP24,options!$V$31:$W$44,2,FALSE) -> #N/A | BS24: 2.Đồng ý | BT24: =VLOOKUP(BS24,options!$S$31:$T$35,2,FALSE) -> 4 | BU24: 3.Đồng ý phần nào | BV24: =VLOOKUP(BU24,options!$S$31:$T$35,2,FALSE) -> 3 | BW24: 2.Đồng ý | BX24: =VLOOKUP(BW24,options!$S$31:$T$35,2,FALSE) -> 4 | BY24: Thực tập/ thực hành tại doanh nghiệp | CC24: 2.Đồng ý | CD24: 2.Đồng ý | CE24: =VLOOKUP(CD24,options!$S$31:$T$35,2,FALSE) -> 4
A25: 24 | B25: Trường Cao đẳng Lý Tự Trọng thành Phố Hồ Chí Minh | C25: 14000758 | D25: Nguyễn | E25: Hải | F25: Triều | G25: 14CĐ - CK3 | H25: Cơ khí | I25: Chế tạo máy | J25: =VLOOKUP(I25,options!$R$65:$S$80,2,FALSE) -> Công nghệ kỹ thuật Cơ khí | K25: =VLOOKUP(I25,'Chuẩn hóa Ngànhnghề'!$A$4:$B$19,2,FALSE) -> Công nghệ kỹ thuật Cơ khí | L25: 4. Cao đẳng | M25: 237/42 Trịnh Đình Trọng, Phường Phú Trung | N25: Quận Tân Phú | O25: Tp.hcm | P25: 0942289278 | Q25: haitrieunguyen96@gmail.com | R25: Nam | S25: 1996 | T25: =2018-S25:S173 -> 22 | U25: =VLOOKUP(T25,'Nhóm tuổi'!$A$3:$B$9,2,FALSE) -> Dưới 25 tuổi | V25: 4.Cao đẳng | W25: Chưa | AA25: 5.Trung bình | AB25: C.Không tìm được việc làm | AC25: =VLOOKUP(AB25,options!$V$50:$W$55,2,FALSE) -> Đang tìm việc (Không có việc làm) | AD25: =VLOOKUP(AB25,options!$V$57:$W$62,2,FALSE) -> Không tìm được việc làm | AS25: =VLOOKUP(AR25,options!$M$41:$N$45,2,FALSE) -> #N/A | AU25: =VLOOKUP(AT25,options!$M$41:$N$45,2,FALSE) -> #N/A | BF25: =VLOOKUP(BE25,options!$S$39:$T$59,2,FALSE) -> #N/A | BH25: Lý do khác | BI25: 1.CV liên quan đến nghề được đào tạo | BJ25: Ngoại ngữ không đạt | BK25: Thiếu kinh nghiệm làm việc | BL25: Thiếu thông tin về việc làm | BQ25: =VLOOKUP(BP25,options!$V$31:$W$44,2,FALSE) -> #N/A | BS25: 2.Đồng ý | BT25: =VLOOKUP(BS25,options!$S$31:$T$35,2,FALSE) -> 4 | BU25: 2.Đồng ý | BV25: =VLOOKUP(BU25,options!$S$31:$T$35,2,FALSE) -> 4 | BW25: 2.Đồng ý | BX25: =VLOOKUP(BW25,options!$S$31:$T$35,2,FALSE) -> 4 | BY25: Tài liệu,chương trình (sách, v.v.) | BZ25: Cơ sở vật chất (phòng học, thư việnv.v.) | CA25: Phương pháp giảng dạy của giáo viên | CC25: 2.Đồng ý | CD25: 2.Đồng ý | CE25: =VLOOKUP(CD25,options!$S$31:$T$35,2,FALSE) -> 4
A26: 25 | B26: Trường Cao đẳng Lý Tự Trọng thành Phố Hồ Chí Minh | C26: 14000755 | D26: Lê | E26: Trung | F26: Tín | G26: 14CĐ - CK3 | H26: Cơ khí | I26: Chế tạo máy | J26: =VLOOKUP(I26,options!$R$65:$S$80,2,FALSE) -> Công nghệ kỹ thuật Cơ khí | K26: =VLOOKUP(I26,'Chuẩn hóa Ngànhnghề'!$A$4:$B$19,2,FALSE) -> Công nghệ kỹ thuật Cơ khí | L26: 4. Cao đẳng | M26: 47 Phú Lộc, Phường 6 | N26: Quận Tân Bình | O26: Tp.hcm | P26: 01674751540 | Q26: tintrungle2310@gmail.com | R26: Nam | S26: 1996 | T26: =2018-S26:S174 -> 22 | U26: =VLOOKUP(T26,'Nhóm tuổi'!$A$3:$B$9,2,FALSE) -> Dưới 25 tuổi | V26: 4.Cao đẳng | W26: Chưa | AA26: 5.Trung bình | AB26: B1.Vừa học vừa làm | AC26: =VLOOKUP(AB26,options!$V$50:$W$55,2,FALSE) -> Đi làm | AD26: =VLOOKUP(AB26,options!$V$57:$W$62,2,FALSE) -> Có việc làm | AF26: 6.Thương mại & Dịch vụ (Bán buôn, bán lẻ) | AH26: Thương mại - Dịch vụ Nina | AI26: Lầu 1, Tòa nhà Sài Gòn Tel, Công viên phần mềm Quang Trung | AJ26: Quận 12 | AK26: Tp.hcm | AM26: nina.vn | AN26: 48 | AO26: 2.Dưới 1 tháng | AP26: Quan hệ cá nhân | AR26: 2.Tốt | AS26: =VLOOKUP(AR26,options!$M$41:$N$45,2,FALSE) -> 4 | AT26: 2.Tốt | AU26: =VLOOKUP(AT26,options!$M$41:$N$45,2,FALSE) -> 4 | AV26: 3.Không liên quan | AX26: 3.Từ 4-6 triệu | AY26: 5. Trên 300 người | AZ26: Có | BA26: 1. Dưới 2 tuần | BB26: 2. Nhân viên chính thức | BD26: Có | BE26: Công nghệ kỹ thuật cơ khí | BF26: =VLOOKUP(BE26,options!$S$39:$T$59,2,FALSE) -> Công nghệ kỹ thuật cơ khí | BG26: 1.Đại học | BN26: Học nâng cao trình độ | BO26: Truường Đại học sư phạm Kỹ thuật Tp.HCM | BP26: CN Kỹ thuật Cơ khí | BQ26: =VLOOKUP(BP26,options!$V$31:$W$44,2,FALSE) -> Công nghệ Kỹ thuật Cơ khí | BR26: 1.Đại học | BS26: 2.Đồng ý | BT26: =VLOOKUP(BS26,options!$S$31:$T$35,2,FALSE) -> 4 | BU26: 3.Đồng ý phần nào | BV26: =VLOOKUP(BU26,options!$S$31:$T$35,2,FALSE) -> 3 | BW26: 2.Đồng ý | BX26: =VLOOKUP(BW26,options!$S$31:$T$35,2,FALSE) -> 4 | BY26: Tài liệu,chương trình (sách, v.v.) | BZ26: Trang thiết bị (máy móc, công cụ, v.v.) | CA26: Thực tập/ thực hành tại doanh nghiệp | CC26: 2.Đồng ý | CD26: 2.Đồng ý | CE26: =VLOOKUP(CD26,options!$S$31:$T$35,2,FALSE) -> 4
A27: 26 | B27: Trường Cao đẳng Lý Tự Trọng thành Phố Hồ Chí Minh | C27: 14000729 | D27: Nguyễn | E27: Sỹ | F27: Hải | G27: 14CĐ - CK3 | H27: Cơ khí | I27: Công nghệ kỹ thuật Cơ khí | J27: =VLOOKUP(I27,options!$R$65:$S$80,2,FALSE) -> Công nghệ kỹ thuật Cơ khí | K27: =VLOOKUP(I27,'Chuẩn hóa Ngànhnghề'!$A$4:$B$19,2,FALSE) -> Công nghệ kỹ thuật Cơ khí | L27: 4. Cao đẳng | M27: Tổ 23, Ấp Xà Ban 2, Xã Xà Bang | N27: Huyện Châu Đức | O27: BR-VT | P27: 09082003592 | Q27: 1119.syhai@gmail | R27: Nam | S27: 1996 | T27: =2018-S27:S175 -> 22 | U27: =VLOOKUP(T27,'Nhóm tuổi'!$A$3:$B$9,2,FALSE) -> Dưới 25 tuổi | V27: 4.Cao đẳng | W27: Chưa | AA27: 5.Trung bình | AB27: C.Không tìm được việc làm | AC27: =VLOOKUP(AB27,options!$V$50:$W$55,2,FALSE) -> Đang tìm việc (Không có việc làm) | AD27: =VLOOKUP(AB27,options!$V$57:$W$62,2,FALSE) -> Không tìm được việc làm | AS27: =VLOOKUP(AR27,options!$M$41:$N$45,2,FALSE) -> #N/A | AU27: =VLOOKUP(AT27,options!$M$41:$N$45,2,FALSE) -> #N/A | BF27: =VLOOKUP(BE27,options!$S$39:$T$59,2,FALSE) -> #N/A | BH27: Lý do khác | BI27: 1.CV liên quan đến nghề được đào tạo | BJ27: Kỹ năng nghề không đáp ứng được yêu cầu công việc | BK27: Thiếu kinh nghiệm làm việc | BL27: Thiếu thông tin về việc làm | BQ27: =VLOOKUP(BP27,options!$V$31:$W$44,2,FALSE) -> #N/A | BS27: 2.Đồng ý | BT27: =VLOOKUP(BS27,options!$S$31:$T$35,2,FALSE) -> 4 | BU27: 2.Đồng ý | BV27: =VLOOKUP(BU27,options!$S$31:$T$35,2,FALSE) -> 4 | BW27: 2.Đồng ý | BX27: =VLOOKUP(BW27,options!$S$31:$T$35,2,FALSE) -> 4 | BY27: Tài liệu,chương trình (sách, v.v.) | BZ27: Trang thiết bị (máy móc, công cụ, v.v.) | CA27: Thực tập/ thực hành tại doanh nghiệp | CC27: 3.Đồng ý phần nào | CD27: 2.Đồng ý | CE27: =VLOOKUP(CD27,options!$S$31:$T$35,2,FALSE) -> 4
A28: 27 | B28: Trường Cao đẳng Lý Tự Trọng thành Phố Hồ Chí Minh | C28: 14000733 | D28: Thân | E28: Trọng | F28: Hoàng | G28: 14CĐ - CK3 | H28: Cơ khí | I28: Công nghệ kỹ thuật Cơ khí | J28: =VLOOKUP(I28,options!$R$65:$S$80,2,FALSE) -> Công nghệ kỹ thuật Cơ khí | K28: =VLOOKUP(I28,'Chuẩn hóa Ngànhnghề'!$A$4:$B$19,2,FALSE) -> Công nghệ kỹ thuật Cơ khí | L28: 4. Cao đẳng | M28: 164/66/16 Bùi Quang Là, Phường 12 | N28: Quận Gò Vấp | O28: Tp.hcm | P28: 01685789232 | Q28: thantronghoang1996@gmail.com | R28: Nam | S28: 1996 | T28: =2018-S28:S176 -> 22 | U28: =VLOOKUP(T28,'Nhóm tuổi'!$A$3:$B$9,2,FALSE) -> Dưới 25 tuổi | V28: 4.Cao đẳng | W28: Chưa | AA28: 5.Trung bình | AB28: C.Không tìm được việc làm | AC28: =VLOOKUP(AB28,options!$V$50:$W$55,2,FALSE) -> Đang tìm việc (Không có việc làm) | AD28: =VLOOKUP(AB28,options!$V$57:$W$62,2,FALSE) -> Không tìm được việc làm | AS28: =VLOOKUP(AR28,options!$M$41:$N$45,2,FALSE) -> #N/A | AU28: =VLOOKUP(AT28,options!$M$41:$N$45,2,FALSE) -> #N/A | BF28: =VLOOKUP(BE28,options!$S$39:$T$59,2,FALSE) -> #N/A | BH28: Lý do khác | BI28: 2.CV không liên quan đến nghề được đào tạo | BJ28: Ngoại ngữ không đạt | BK28: Thiếu kinh nghiệm làm việc | BL28: Thiếu thông tin về việc làm | BM28: Chưa muốn đi làm | BQ28: =VLOOKUP(BP28,options!$V$31:$W$44,2,FALSE) -> #N/A | BS28: 2.Đồng ý | BT28: =VLOOKUP(BS28,options!$S$31:$T$35,2,FALSE) -> 4 | BU28: 2.Đồng ý | BV28: =VLOOKUP(BU28,options!$S$31:$T$35,2,FALSE) -> 4 | BW28: 2.Đồng ý | BX28: =VLOOKUP(BW28,options!$S$31:$T$35,2,FALSE) -> 4 | BY28: Trang thiết bị (máy móc, công cụ, v.v.) | BZ28: Thực tập/ thực hành tại doanh nghiệp | CC28: 2.Đồng ý | CD28: 2.Đồng ý | CE28: =VLOOKUP(CD28,options!$S$31:$T$35,2,FALSE) -> 4
A29: 28 | B29: Trường Cao đẳng Lý Tự Trọng thành Phố Hồ Chí Minh | C29: 14000760 | D29: Vũ | E29: Thành | F29: Trung | G29: 14CĐ - CK3 | H29: Cơ khí | I29: Công nghệ kỹ thuật Cơ khí | J29: =VLOOKUP(I29,options!$R$65:$S$80,2,FALSE) -> Công nghệ kỹ thuật Cơ khí | K29: =VLOOKUP(I29,'Chuẩn hóa Ngànhnghề'!$A$4:$B$19,2,FALSE) -> Công nghệ kỹ thuật Cơ khí | L29: 4. Cao đẳng | M29: 561 Thị Trấn Thạnh Mỹ | N29: Huyện Đơn Dương | O29: Lâm Đồng | P29: 0964444190 | R29: Nam | S29: 1996 | T29: =2018-S29:S177 -> 22 | U29: =VLOOKUP(T29,'Nhóm tuổi'!$A$3:$B$9,2,FALSE) -> Dưới 25 tuổi | V29: 4.Cao đẳng | W29: Chưa | AA29: 5.Trung bình | AB29: A2.Tự SX-KD | AC29: =VLOOKUP(AB29,options!$V$50:$W$55,2,FALSE) -> Đi làm | AD29: =VLOOKUP(AB29,options!$V$57:$W$62,2,FALSE) -> Có việc làm | AF29: 5. Sản xuất, phân phối điện, ga, nước | AH29: Cơ khí Khoa | AI29: 561 Thị Trấn Thành Mỹ | AJ29: Huyện Đơn Dương | AK29: Lâm Đồng | AL29: 0964444190 | AN29: 48 | AO29: 2.Dưới 1 tháng | AP29: Quan hệ cá nhân | AR29: 3.Trung bình | AS29: =VLOOKUP(AR29,options!$M$41:$N$45,2,FALSE) -> 3 | AT29: 2.Tốt | AU29: =VLOOKUP(AT29,options!$M$41:$N$45,2,FALSE) -> 4 | AV29: 1.Có liên quan | AX29: 3.Từ 4-6 triệu | AY29: 2. Từ 2-10người | AZ29: Có | BA29: 5.Trên 8 tuần | BB29: 2. Nhân viên chính thức | BD29: Không | BF29: =VLOOKUP(BE29,options!$S$39:$T$59,2,FALSE) -> #N/A | BQ29: =VLOOKUP(BP29,options!$V$31:$W$44,2,FALSE) -> #N/A | BS29: 2.Đồng ý | BT29: =VLOOKUP(BS29,options!$S$31:$T$35,2,FALSE) -> 4 | BU29: 2.Đồng ý | BV29: =VLOOKUP(BU29,options!$S$31:$T$35,2,FALSE) -> 4 | BW29: 2.Đồng ý | BX29: =VLOOKUP(BW29,options!$S$31:$T$35,2,FALSE) -> 4 | BY29: Thực tập/ thực hành tại doanh nghiệp | CC29: 2.Đồng ý | CD29: 2.Đồng ý | CE29: =VLOOKUP(CD29,options!$S$31:$T$35,2,FALSE) -> 4
A30: 29 | B30: Trường Cao đẳng Lý Tự Trọng thành Phố Hồ Chí Minh | C30: 14000759 | D30: Huỳnh | E30: Kim | F30: Trọng | G30: 14CĐ - CK3 | H30: Cơ khí | I30: Công nghệ kỹ thuật Cơ khí | J30: =VLOOKUP(I30,options!$R$65:$S$80,2,FALSE) -> Công nghệ kỹ thuật Cơ khí | K30: =VLOOKUP(I30,'Chuẩn hóa Ngànhnghề'!$A$4:$B$19,2,FALSE) -> Công nghệ kỹ thuật Cơ khí | L30: 4. Cao đẳng | M30: Hẻm 62/23 Nhất Chi Mai, Phường 13 | N30: Quận Tân Bình | O30: Tp.hcm | P30: 01642735268 | Q30: htrong53@gmail.com | R30: Nam | S30: 1996 | T30: =2018-S30:S178 -> 22 | U30: =VLOOKUP(T30,'Nhóm tuổi'!$A$3:$B$9,2,FALSE) -> Dưới 25 tuổi | V30: 4.Cao đẳng | W30: Chưa | AA30: 5.Trung bình | AB30: B2.Đang đi học | AC30: =VLOOKUP(AB30,options!$V$50:$W$55,2,FALSE) -> Đang đi học (trọn giờ) | AD30: =VLOOKUP(AB30,options!$V$57:$W$62,2,FALSE) -> Đang đi học | AS30: =VLOOKUP(AR30,options!$M$41:$N$45,2,FALSE) -> #N/A | AU30: =VLOOKUP(AT30,options!$M$41:$N$45,2,FALSE) -> #N/A | BF30: =VLOOKUP(BE30,options!$S$39:$T$59,2,FALSE) -> #N/A | BN30: Lý do khác | BO30: Trường Hykri | BP30: Tiếng Nhật | BQ30: =VLOOKUP(BP30,options!$V$31:$W$44,2,FALSE) -> Ngôn ngữ Nhật | BR30: 4.Sơ cấp | BS30: 2.Đồng ý | BT30: =VLOOKUP(BS30,options!$S$31:$T$35,2,FALSE) -> 4 | BU30: 2.Đồng ý | BV30: =VLOOKUP(BU30,options!$S$31:$T$35,2,FALSE) -> 4 | BW30: 2.Đồng ý | BX30: =VLOOKUP(BW30,options!$S$31:$T$35,2,FALSE) -> 4 | BY30: Trang thiết bị (máy móc, công cụ, v.v.) | BZ30: Trang thiết bị (máy móc, công cụ, v.v.) | CA30: Thực tập/ thực hành tại doanh nghiệp | CC30: 2.Đồng ý | CD30: 2.Đồng ý | CE30: =VLOOKUP(CD30,options!$S$31:$T$35,2,FALSE) -> 4
A31: 30 | B31: Trường Cao đẳng Lý Tự Trọng thành Phố Hồ Chí Minh | C31: 14000795 | D31: Dương | E31: Công | F31: Thắng | G31: 14CĐ - CK3 | H31: Cơ khí | I31: Công nghệ kỹ thuật Cơ khí | J31: =VLOOKUP(I31,options!$R$65:$S$80,2,FALSE) -> Công nghệ kỹ thuật Cơ khí | K31: =VLOOKUP(I31,'Chuẩn hóa Ngànhnghề'!$A$4:$B$19,2,FALSE) -> Công nghệ kỹ thuật Cơ khí | L31: 4. Cao đẳng | M31: 135/21 Kp6, Phường Trung Mỹ Tây | N31: Quận 12 | O31: Tp.hcm | P31: 0965955371 | R31: Nam | S31: 1996 | T31: =2018-S31:S179 -> 22 | U31: =VLOOKUP(T31,'Nhóm tuổi'!$A$3:$B$9,2,FALSE) -> Dưới 25 tuổi | V31: 4.Cao đẳng | W31: Chưa | AA31: 5.Trung bình | AB31: C.Không tìm được việc làm | AC31: =VLOOKUP(AB31,options!$V$50:$W$55,2,FALSE) -> Đang tìm việc (Không có việc làm) | AD31: =VLOOKUP(AB31,options!$V$57:$W$62,2,FALSE) -> Không tìm được việc làm | AS31: =VLOOKUP(AR31,options!$M$41:$N$45,2,FALSE) -> #N/A | AU31: =VLOOKUP(AT31,options!$M$41:$N$45,2,FALSE) -> #N/A | BF31: =VLOOKUP(BE31,options!$S$39:$T$59,2,FALSE) -> #N/A | BH31: Vì không tìm được việc làm đúng với ngành nghề được đào tạo | BI31: 3.Cả 2 công việc trên | BJ31: Ngoại ngữ không đạt | BK31: Thiếu kinh nghiệm làm việc | BL31: Thiếu thông tin về việc làm | BQ31: =VLOOKUP(BP31,options!$V$31:$W$44,2,FALSE) -> #N/A | BS31: 2.Đồng ý | BT31: =VLOOKUP(BS31,options!$S$31:$T$35,2,FALSE) -> 4 | BU31: 2.Đồng ý | BV31: =VLOOKUP(BU31,options!$S$31:$T$35,2,FALSE) -> 4 | BW31: 2.Đồng ý | BX31: =VLOOKUP(BW31,options!$S$31:$T$35,2,FALSE) -> 4 | BY31: Trang thiết bị (máy móc, công cụ, v.v.) | BZ31: Cơ sở vật chất (phòng học, thư việnv.v.) | CA31: Phương pháp giảng dạy của giáo viên | CC31: 2.Đồng ý | CD31: 2.Đồng ý | CE31: =VLOOKUP(CD31,options!$S$31:$T$35,2,FALSE) -> 4
A32: 31 | B32: Trường Cao đẳng Lý Tự Trọng thành Phố Hồ Chí Minh | C32: 14000796 | D32: Lê | E32: Đình | F32: Thành | G32: 14CĐ - CK3 | H32: Cơ khí | I32: Công nghệ kỹ thuật Cơ khí | J32: =VLOOKUP(I32,options!$R$65:$S$80,2,FALSE) -> Công nghệ kỹ thuật Cơ khí | K32: =VLOOKUP(I32,'Chuẩn hóa Ngànhnghề'!$A$4:$B$19,2,FALSE) -> Công nghệ kỹ thuật Cơ khí | L32: 4. Cao đẳng | M32: 191 Đồng Đen, Phường 11 | N32: Quận Tân Bình | O32: Tp.hcm | P32: 01629674436 | R32: Nam | S32: 1995 | T32: =2018-S32:S180 -> 23 | U32: =VLOOKUP(T32,'Nhóm tuổi'!$A$3:$B$9,2,FALSE) -> Dưới 25 tuổi | V32: 4.Cao đẳng | W32: Chưa | AA32: 5.Trung bình | AB32: B2.Đang đi học | AC32: =VLOOKUP(AB32,options!$V$50:$W$55,2,FALSE) -> Đang đi học (trọn giờ) | AD32: =VLOOKUP(AB32,options!$V$57:$W$62,2,FALSE) -> Đang đi học | AS32: =VLOOKUP(AR32,options!$M$41:$N$45,2,FALSE) -> #N/A | AU32: =VLOOKUP(AT32,options!$M$41:$N$45,2,FALSE) -> #N/A | BF32: =VLOOKUP(BE32,options!$S$39:$T$59,2,FALSE) -> #N/A | BN32: Học nâng cao trình độ | BO32: Trung tâm đào tạo Lý Tự Trong | BP32: Công nghệ thông tin | BQ32: =VLOOKUP(BP32,options!$V$31:$W$44,2,FALSE) -> Công nghệ thông tin | BR32: 4.Sơ cấp | BS32: 2.Đồng ý | BT32: =VLOOKUP(BS32,options!$S$31:$T$35,2,FALSE) -> 4 | BU32: 1.Hoàn toàn đồng ý | BV32: =VLOOKUP(BU32,options!$S$31:$T$35,2,FALSE) -> 5 | BW32: 2.Đồng ý | BX32: =VLOOKUP(BW32,options!$S$31:$T$35,2,FALSE) -> 4 | BY32: Trang thiết bị (máy móc, công cụ, v.v.) | BZ32: Thực tập/ thực hành tại doanh nghiệp | CC32: 1.Hoàn toàn đồng ý | CD32: 2.Đồng ý | CE32: =VLOOKUP(CD32,options!$S$31:$T$35,2,FALSE) -> 4
A33: 32 | B33: Trường Cao đẳng Lý Tự Trọng thành Phố Hồ Chí Minh | C33: 14000489 | D33: Đỗ | E33: Trọng | F33: Dũng | G33: 14CĐ - Đ1 | H33: Điện - Điện tử | I33: Điện công nghiệp | J33: =VLOOKUP(I33,options!$R$65:$S$80,2,FALSE) -> Công nghệ kỹ thuật Điện - Điện tử | K33: =VLOOKUP(I33,'Chuẩn hóa Ngànhnghề'!$A$4:$B$19,2,FALSE) -> Công nghệ kỹ thuật Điện | L33: 4. Cao đẳng | M33: Thiệu Tân, Thiệu Hóa, | N33: Thiệu Hóa | O33: Thanh Hóa | P33: 01655822636 | Q33: dotrongdungth5996@gmail.com | R33: Nam | S33: 1996 | T33: =2018-S33:S181 -> 22 | U33: =VLOOKUP(T33,'Nhóm tuổi'!$A$3:$B$9,2,FALSE) -> Dưới 25 tuổi | V33: 4.Cao đẳng | W33: Chưa | AA33: 5.Trung bình | AB33: A1.Làm công ăn lương | AC33: =VLOOKUP(AB33,options!$V$50:$W$55,2,FALSE) -> Đi làm | AD33: =VLOOKUP(AB33,options!$V$57:$W$62,2,FALSE) -> Có việc làm | AF33: 4. Xây dựng | AH33: Công ty Cổ Phần MePac | AI33: 52 Đường Số 2 | AJ33: Quận 7 | AK33: Tp.hcm | AL33: 0988.622964 | AM33: uyen.tran@mepac.vn | AN33: 48 | AO33: 2.Dưới 1 tháng | AP33: Do trường giới thiệu | AR33: 2.Tốt | AS33: =VLOOKUP(AR33,options!$M$41:$N$45,2,FALSE) -> 4 | AT33: 2.Tốt | AU33: =VLOOKUP(AT33,options!$M$41:$N$45,2,FALSE) -> 4 | AV33: 1.Có liên quan | AX33: 3.Từ 4-6 triệu | AY33: 3. Từ 10-200 người | AZ33: Có | BA33: 1. Dưới 2 tuần | BB33: 1. Nhân viên trong thời gian thử việc (thợ học việc) | BD33: Không | BF33: =VLOOKUP(BE33,options!$S$39:$T$59,2,FALSE) -> #N/A | BQ33: =VLOOKUP(BP33,options!$V$31:$W$44,2,FALSE) -> #N/A | BS33: 2.Đồng ý | BT33: =VLOOKUP(BS33,options!$S$31:$T$35,2,FALSE) -> 4 | BU33: 2.Đồng ý | BV33: =VLOOKUP(BU33,options!$S$31:$T$35,2,FALSE) -> 4 | BW33: 2.Đồng ý | BX33: =VLOOKUP(BW33,options!$S$31:$T$35,2,FALSE) -> 4 | BY33: Tài liệu,chương trình (sách, v.v.) | BZ33: Trang thiết bị (máy móc, công cụ, v.v.) | CA33: Thực tập/ thực hành tại doanh nghiệp | CC33: 2.Đồng ý | CD33: 2.Đồng ý | CE33: =VLOOKUP(CD33,options!$S$31:$T$35,2,FALSE) -> 4
A34: 33 | B34: Trường Cao đẳng Lý Tự Trọng thành Phố Hồ Chí Minh | C34: 14000487 | D34: Hồ | E34: Gia | F34: Bảo | G34: 14CĐ - Đ1 | H34: Điện - Điện Tử | I34: Điện công nghiệp | J34: =VLOOKUP(I34,options!$R$65:$S$80,2,FALSE) -> Công nghệ kỹ thuật Điện - Điện tử | K34: =VLOOKUP(I34,'Chuẩn hóa Ngànhnghề'!$A$4:$B$19,2,FALSE) -> Công nghệ kỹ thuật Điện | L34: 4. Cao đẳng | M34: 45/1/9 Đỗ Xuân Hợp | N34: Quận 9 | O34: Tp.hcm | P34: 0934867976 | Q34: giabaoqn08@gmail.com | R34: Nam | S34: 1996 | T34: =2018-S34:S182 -> 22 | U34: =VLOOKUP(T34,'Nhóm tuổi'!$A$3:$B$9,2,FALSE) -> Dưới 25 tuổi | V34: 4.Cao đẳng | W34: Chưa | AA34: 4.Trung bình khá | AB34: B1.Vừa học vừa làm | AC34: =VLOOKUP(AB34,options!$V$50:$W$55,2,FALSE) -> Đi làm | AD34: =VLOOKUP(AB34,options!$V$57:$W$62,2,FALSE) -> Có việc làm | AF34: 4. Xây dựng | AH34: Công ty Cổ Phần MePac | AI34: 52 Đường Số 2 | AJ34: Quận 7 | AK34: Tp.hcm | AL34: 02862639900 | AM34: info@mepac.vn | AN34: 48 | AO34: 2.Dưới 1 tháng | AP34: Do trường giới thiệu | AR34: 2.Tốt | AS34: =VLOOKUP(AR34,options!$M$41:$N$45,2,FALSE) -> 4 | AT34: 2.Tốt | AU34: =VLOOKUP(AT34,options!$M$41:$N$45,2,FALSE) -> 4 | AV34: 1.Có liên quan | AX34: 4. Từ 6-8 triệu | AY34: 3. Từ 10-200 người | AZ34: Có | BA34: 4. Từ 6-8 tuần | BB34: 1. Nhân viên trong thời gian thử việc (thợ học việc) | BD34: Có | BE34: Điện công nghiệp | BF34: =VLOOKUP(BE34,options!$S$39:$T$59,2,FALSE) -> Công nghệ kỹ thuật Điện - Điện Tử | BG34: 1.Đại học | BN34: Học nâng cao trình độ | BO34: Trường Đại học sư phạm kỹ thuật Tp.HCM | BP34: Điện công nghiệp | BQ34: =VLOOKUP(BP34,options!$V$31:$W$44,2,FALSE) -> Công nghệ Kỹ thuật Điện - Điện Tử | BR34: 1.Đại học | BS34: 2.Đồng ý | BT34: =VLOOKUP(BS34,options!$S$31:$T$35,2,FALSE) -> 4 | BU34: 2.Đồng ý | BV34: =VLOOKUP(BU34,options!$S$31:$T$35,2,FALSE) -> 4 | BW34: 1.Hoàn toàn đồng ý | BX34: =VLOOKUP(BW34,options!$S$31:$T$35,2,FALSE) -> 5 | BY34: Tài liệu,chương trình (sách, v.v.) | BZ34: Trang thiết bị (máy móc, công cụ, v.v.) | CA34: Phương pháp giảng dạy của giáo viên | CC34: 2.Đồng ý | CD34: 2.Đồng ý | CE34: =VLOOKUP(CD34,options!$S$31:$T$35,2,FALSE) -> 4
A35: 34 | B35: Trường Cao đẳng Lý Tự Trọng thành Phố Hồ Chí Minh | C35: 14000484 | D35: Thái | E35: Nhật | F35: Anh | G35: 14CĐ - Đ1 | H35: Điện - Điện Tử | I35: Điện công nghiệp | J35: =VLOOKUP(I35,options!$R$65:$S$80,2,FALSE) -> Công nghệ kỹ thuật Điện - Điện tử | K35: =VLOOKUP(I35,'Chuẩn hóa Ngànhnghề'!$A$4:$B$19,2,FALSE) -> Công nghệ kỹ thuật Điện | L35: 4. Cao đẳng | M35: 056 Đường Tràm Dơi | N35: Cao Lãnh | O35: Đồng Tháp | P35: 0944835814 | Q35: cdktltt@gmail.com | R35: Nam | S35: 1995 | T35: =2018-S35:S183 -> 23 | U35: =VLOOKUP(T35,'Nhóm tuổi'!$A$3:$B$9,2,FALSE) -> Dưới 25 tuổi | V35: 4.Cao đẳng | W35: Chưa | AA35: 5.Trung bình | AB35: B1.Vừa học vừa làm | AC35: =VLOOKUP(AB35,options!$V$50:$W$55,2,FALSE) -> Đi làm | AD35: =VLOOKUP(AB35,options!$V$57:$W$62,2,FALSE) -> Có việc làm | AF35: 4. Xây dựng | AH35: Công ty Cổ Phần MePac | AI35: 52 Đường Số 2 | AJ35: Quận 7 | AK35: Tp.hcm | AL35: 0988.622964 | AM35: uyen.tran@mepac.vn | AN35: 48 | AO35: 1.Trước khi TN | AP35: Qua quảng cáo trên Internet | AR35: 2.Tốt | AS35: =VLOOKUP(AR35,options!$M$41:$N$45,2,FALSE) -> 4 | AT35: 2.Tốt | AU35: =VLOOKUP(AT35,options!$M$41:$N$45,2,FALSE) -> 4 | AV35: 1.Có liên quan | AX35: 3.Từ 4-6 triệu | AY35: 3. Từ 10-200 người | AZ35: Không | BB35: 1. Nhân viên trong thời gian thử việc (thợ học việc) | BD35: Có | BE35: Điện công nghiệp | BF35: =VLOOKUP(BE35,options!$S$39:$T$59,2,FALSE) -> Công nghệ kỹ thuật Điện - Điện Tử | BG35: 1.Đại học | BQ35: =VLOOKUP(BP35,options!$V$31:$W$44,2,FALSE) -> #N/A | BR35: 1.Đại học | BS35: 2.Đồng ý | BT35: =VLOOKUP(BS35,options!$S$31:$T$35,2,FALSE) -> 4 | BU35: 2.Đồng ý | BV35: =VLOOKUP(BU35,options!$S$31:$T$35,2,FALSE) -> 4 | BW35: 2.Đồng ý | BX35: =VLOOKUP(BW35,options!$S$31:$T$35,2,FALSE) -> 4 | BY35: Thực tập/ thực hành tại doanh nghiệp | CC35: 2.Đồng ý | CD35: 2.Đồng ý | CE35: =VLOOKUP(CD35,options!$S$31:$T$35,2,FALSE) -> 4
A36: 35 | B36: Trường Cao đẳng Lý Tự Trọng thành Phố Hồ Chí Minh | C36: 14000527 | D36: Huỳnh | E36: Hữu | F36: Thức | G36: 14CĐ - Đ1 | H36: Điện - Điện Tử | I36: Điện công nghiệp | J36: =VLOOKUP(I36,options!$R$65:$S$80,2,FALSE) -> Công nghệ kỹ thuật Điện - Điện tử | K36: =VLOOKUP(I36,'Chuẩn hóa Ngànhnghề'!$A$4:$B$19,2,FALSE) -> Công nghệ kỹ thuật Điện | L36: 4. Cao đẳng | M36: xóm 8, Phước Thể, | N36: Tuy Phong | O36: Bình Thuận | P36: 01626555065 | Q36: htchuuthuc@gmail.com | R36: Nam | S36: 1996 | T36: =2018-S36:S184 -> 22 | U36: =VLOOKUP(T36,'Nhóm tuổi'!$A$3:$B$9,2,FALSE) -> Dưới 25 tuổi | V36: 4.Cao đẳng | W36: Chưa | AA36: 5.Trung bình | AB36: A1.Làm công ăn lương | AC36: =VLOOKUP(AB36,options!$V$50:$W$55,2,FALSE) -> Đi làm | AD36: =VLOOKUP(AB36,options!$V$57:$W$62,2,FALSE) -> Có việc làm | AF36: 4. Xây dựng | AH36: Công ty Cổ Phần MePac | AI36: 52 Đường Số 2 | AJ36: Quận 7 | AK36: Tp.hcm | AL36: 0988.622964 | AM36: uyen.tran@mepac.vn | AN36: 50 | AO36: 1.Trước khi TN | AP36: Do trường giới thiệu | AR36: 3.Trung bình | AS36: =VLOOKUP(AR36,options!$M$41:$N$45,2,FALSE) -> 3 | AT36: 3.Trung bình | AU36: =VLOOKUP(AT36,options!$M$41:$N$45,2,FALSE) -> 3 | AV36: 1.Có liên quan | AX36: 2. Từ 2-4 triệu | AY36: 3. Từ 10-200 người | AZ36: Có | BA36: 2. Từ 2-4 tuần | BB36: 2. Nhân viên chính thức | BD36: Không | BF36: =VLOOKUP(BE36,options!$S$39:$T$59,2,FALSE) -> #N/A | BQ36: =VLOOKUP(BP36,options!$V$31:$W$44,2,FALSE) -> #N/A | BS36: 2.Đồng ý | BT36: =VLOOKUP(BS36,options!$S$31:$T$35,2,FALSE) -> 4 | BU36: 2.Đồng ý | BV36: =VLOOKUP(BU36,options!$S$31:$T$35,2,FALSE) -> 4 | BW36: 2.Đồng ý | BX36: =VLOOKUP(BW36,options!$S$31:$T$35,2,FALSE) -> 4 | BY36: Thực tập/ thực hành tại doanh nghiệp | CC36: 2.Đồng ý | CD36: 2.Đồng ý | CE36: =VLOOKUP(CD36,options!$S$31:$T$35,2,FALSE) -> 4
A37: 36 | B37: Trường Cao đẳng Lý Tự Trọng thành Phố Hồ Chí Minh | C37: 14000484 | D37: Thái | E37: Nhật | F37: Anh | G37: 14CĐ - Đ1 | H37: Điện - Điện Tử | I37: Điện công nghiệp | J37: =VLOOKUP(I37,options!$R$65:$S$80,2,FALSE) -> Công nghệ kỹ thuật Điện - Điện tử | K37: =VLOOKUP(I37,'Chuẩn hóa Ngànhnghề'!$A$4:$B$19,2,FALSE) -> Công nghệ kỹ thuật Điện | L37: 4. Cao đẳng | M37: 56 Tổ 2, Ấp Mỹ Đông 2, | N37: Huyện Cao Lãnh, Tỉnh Đồng Tháp | O37: Tp.hcm | P37: 0944835814 | Q37: Cdktltt@gmail.com | R37: Nam | S37: 1995 | T37: =2018-S37:S185 -> 23 | U37: =VLOOKUP(T37,'Nhóm tuổi'!$A$3:$B$9,2,FALSE) -> Dưới 25 tuổi | V37: 4.Cao đẳng | W37: Chưa | AA37: 5.Trung bình | AB37: B1.Vừa học vừa làm | AC37: =VLOOKUP(AB37,options!$V$50:$W$55,2,FALSE) -> Đi làm | AD37: =VLOOKUP(AB37,options!$V$57:$W$62,2,FALSE) -> Có việc làm | AF37: 4. Xây dựng | AH37: Công ty Cổ Phần MePac | AI37: 52 Đường Số 2 | AJ37: Quận 7 | AK37: Tp.hcm | AL37: 0988.622964 | AM37: uyen.tran@mepac.vn | AN37: 48 | AO37: 2.Dưới 1 tháng | AP37: Do trường giới thiệu | AR37: 2.Tốt | AS37: =VLOOKUP(AR37,options!$M$41:$N$45,2,FALSE) -> 4 | AT37: 2.Tốt | AU37: =VLOOKUP(AT37,options!$M$41:$N$45,2,FALSE) -> 4 | AV37: 1.Có liên quan | AX37: 3.Từ 4-6 triệu | AY37: 3. Từ 10-200 người | AZ37: Không | BB37: 1. Nhân viên trong thời gian thử việc (thợ học việc) | BD37: Có | BE37: Điện công nghiệp | BF37: =VLOOKUP(BE37,options!$S$39:$T$59,2,FALSE) -> Công nghệ kỹ thuật Điện - Điện Tử | BG37: 1.Đại học | BN37: Học nâng cao trình độ | BO37: Trường Đại học sư phạm kỹ thuật Tp.HCM | BP37: Điện Công nghiệp | BQ37: =VLOOKUP(BP37,options!$V$31:$W$44,2,FALSE) -> Công nghệ Kỹ thuật Điện - Điện Tử | BR37: 1.Đại học | BS37: 2.Đồng ý | BT37: =VLOOKUP(BS37,options!$S$31:$T$35,2,FALSE) -> 4 | BU37: 2.Đồng ý | BV37: =VLOOKUP(BU37,options!$S$31:$T$35,2,FALSE) -> 4 | BW37: 2.Đồng ý | BX37: =VLOOKUP(BW37,options!$S$31:$T$35,2,FALSE) -> 4 | BY37: Trang thiết bị (máy móc, công cụ, v.v.) | BZ37: Thực tập/ thực hành tại doanh nghiệp | CA37: Phương pháp giảng dạy của giáo viên | CC37: 2.Đồng ý | CD37: 2.Đồng ý | CE37: =VLOOKUP(CD37,options!$S$31:$T$35,2,FALSE) -> 4
A38: 37 | B38: Trường Cao đẳng Lý Tự Trọng thành Phố Hồ Chí Minh | C38: 14000499 | D38: Trần | E38: Minh | F38: Hiếu | G38: 14CĐ - Đ1 | H38: Điện - Điện Tử | I38: Điện công nghiệp | J38: =VLOOKUP(I38,options!$R$65:$S$80,2,FALSE) -> Công nghệ kỹ thuật Điện - Điện tử | K38: =VLOOKUP(I38,'Chuẩn hóa Ngànhnghề'!$A$4:$B$19,2,FALSE) -> Công nghệ kỹ thuật Điện | L38: 4. Cao đẳng | M38: 50/14 Ấp Mỹ Hòa, Xã Trung Chánh | N38: Huyện Hóc Môn | O38: Tp.hcm | P38: 09398186723 | Q38: hiieumiinh@gmail.com | R38: Nam | S38: 1995 | T38: =2018-S38:S186 -> 23 | U38: =VLOOKUP(T38,'Nhóm tuổi'!$A$3:$B$9,2,FALSE) -> Dưới 25 tuổi | V38: 4.Cao đẳng | W38: Chưa | AA38: 4.Trung bình khá | AB38: A1.Làm công ăn lương | AC38: =VLOOKUP(AB38,options!$V$50:$W$55,2,FALSE) -> Đi làm | AD38: =VLOOKUP(AB38,options!$V$57:$W$62,2,FALSE) -> Có việc làm | AF38: 6.Thương mại & Dịch vụ (Bán buôn, bán lẻ) | AH38: An Lộc Phát | AI38: 31/14 Tân Trụ, Phường 15 | AJ38: Quận Tân Bình | AK38: Tp.hcm | AL38: 02838153642 | AM38: anlocphat@thietbidongcat.com | AN38: 48 | AO38: 2.Dưới 1 tháng | AP38: Do trường giới thiệu | AR38: 1.Rất tốt | AS38: =VLOOKUP(AR38,options!$M$41:$N$45,2,FALSE) -> 5 | AT38: 2.Tốt | AU38: =VLOOKUP(AT38,options!$M$41:$N$45,2,FALSE) -> 4 | AV38: 1.Có liên quan | AX38: 3.Từ 4-6 triệu | AY38: 3. Từ 10-200 người | AZ38: Có | BA38: 2. Từ 2-4 tuần | BB38: 2. Nhân viên chính thức | BD38: Không | BF38: =VLOOKUP(BE38,options!$S$39:$T$59,2,FALSE) -> #N/A | BQ38: =VLOOKUP(BP38,options!$V$31:$W$44,2,FALSE) -> #N/A | BS38: 1.Hoàn toàn đồng ý | BT38: =VLOOKUP(BS38,options!$S$31:$T$35,2,FALSE) -> 5 | BU38: 2.Đồng ý | BV38: =VLOOKUP(BU38,options!$S$31:$T$35,2,FALSE) -> 4 | BW38: 2.Đồng ý | BX38: =VLOOKUP(BW38,options!$S$31:$T$35,2,FALSE) -> 4 | BY38: Tài liệu,chương trình (sách, v.v.) | BZ38: Trang thiết bị (máy móc, công cụ, v.v.) | CA38: Thực tập/ thực hành tại doanh nghiệp | CC38: 1.Hoàn toàn đồng ý | CD38: 2.Đồng ý | CE38: =VLOOKUP(CD38,options!$S$31:$T$35,2,FALSE) -> 4
A39: 38 | B39: Trường Cao đẳng Lý Tự Trọng thành Phố Hồ Chí Minh | C39: 14000415 | D39: Võ | E39: Thành | F39: Thôi | G39: 14CĐ - ĐT1 | H39: Điện - Điện Tử | I39: Điện tử công nghiệp | J39: =VLOOKUP(I39,options!$R$65:$S$80,2,FALSE) -> Công nghệ kỹ thuật Điện - Điện tử | K39: =VLOOKUP(I39,'Chuẩn hóa Ngànhnghề'!$A$4:$B$19,2,FALSE) -> Công nghệ kỹ thuật Điện tử | L39: 4. Cao đẳng | M39: 279 Lâm Văn Bền, Phường Bình Thuận | N39: Quận 7 | O39: Tp.hcm | P39: 0979833580 | Q39: vothanhthoi96@gmail.com | R39: Nam | S39: 1996 | T39: =2018-S39:S187 -> 22 | U39: =VLOOKUP(T39,'Nhóm tuổi'!$A$3:$B$9,2,FALSE) -> Dưới 25 tuổi | V39: 4.Cao đẳng | W39: Chưa | AA39: 4.Trung bình khá | AB39: A1.Làm công ăn lương | AC39: =VLOOKUP(AB39,options!$V$50:$W$55,2,FALSE) -> Đi làm | AD39: =VLOOKUP(AB39,options!$V$57:$W$62,2,FALSE) -> Có việc làm | AF39: 5. Sản xuất, phân phối điện, ga, nước | AH39: TNHH New Ha Nam | AI39: HT 3-1, Tăng Nhơn Phú B, Khu Công nghệ cao | AJ39: Quận 9 | AK39: Tp.hcm | AL39: 02822531782 | AM39: kinhdoanh@newhanam.com | AN39: 48 | AO39: 3. Từ 1-3 tháng | AP39: Qua quảng cáo trên báo/đài/TV | AR39: 2.Tốt | AS39: =VLOOKUP(AR39,options!$M$41:$N$45,2,FALSE) -> 4 | AT39: 2.Tốt | AU39: =VLOOKUP(AT39,options!$M$41:$N$45,2,FALSE) -> 4 | AV39: 1.Có liên quan | AX39: 4. Từ 6-8 triệu | AY39: 5. Trên 300 người | AZ39: Có | BA39: 5.Trên 8 tuần | BB39: 2. Nhân viên chính thức | BD39: Không | BF39: =VLOOKUP(BE39,options!$S$39:$T$59,2,FALSE) -> #N/A | BQ39: =VLOOKUP(BP39,options!$V$31:$W$44,2,FALSE) -> #N/A | BS39: 2.Đồng ý | BT39: =VLOOKUP(BS39,options!$S$31:$T$35,2,FALSE) -> 4 | BU39: 1.Hoàn toàn đồng ý | BV39: =VLOOKUP(BU39,options!$S$31:$T$35,2,FALSE) -> 5 | BW39: 1.Hoàn toàn đồng ý | BX39: =VLOOKUP(BW39,options!$S$31:$T$35,2,FALSE) -> 5 | BY39: Trang thiết bị (máy móc, công cụ, v.v.) | CB39: Cảm biến trong lĩnh vực điện tử | CC39: 1.Hoàn toàn đồng ý | CD39: 1.Hoàn toàn đồng ý | CE39: =VLOOKUP(CD39,options!$S$31:$T$35,2,FALSE) -> 5
A40: 39 | B40: Trường Cao đẳng Lý Tự Trọng thành Phố Hồ Chí Minh | C40: 14000372 | D40: Phan | E40: Đình Nguyễn | F40: Diệm | G40: 14CĐ - ĐT1 | H40: Điện - Điện Tử | I40: Kỹ thuật Điện tử | J40: =VLOOKUP(I40,options!$R$65:$S$80,2,FALSE) -> Công nghệ kỹ thuật Điện - Điện tử | K40: =VLOOKUP(I40,'Chuẩn hóa Ngànhnghề'!$A$4:$B$19,2,FALSE) -> Công nghệ kỹ thuật Điện tử | L40: 4. Cao đẳng | M40: Ấp 5, Sông Nhạn | N40: Cẩm Mỹ | O40: Đồng Nai | P40: 1656424436 | Q40: nguyediem110591@gmail.com | R40: Nam | S40: 1995 | T40: =2018-S40:S188 -> 23 | U40: =VLOOKUP(T40,'Nhóm tuổi'!$A$3:$B$9,2,FALSE) -> Dưới 25 tuổi | V40: 4.Cao đẳng | W40: Chưa | AA40: 5.Trung bình | AB40: A1.Làm công ăn lương | AC40: =VLOOKUP(AB40,options!$V$50:$W$55,2,FALSE) -> Đi làm | AD40: =VLOOKUP(AB40,options!$V$57:$W$62,2,FALSE) -> Có việc làm | AF40: 4. Xây dựng | AH40: Công ty Cổ Phần MePac | AI40: 52 Đường Số 2 | AJ40: Quận 7 | AK40: Tp.hcm | AL40: 0988.622964 | AM40: uyen.tran@mepac.vn | AN40: 48 | AO40: 1.Trước khi TN | AP40: Do trường giới thiệu | AR40: 1.Rất tốt | AS40: =VLOOKUP(AR40,options!$M$41:$N$45,2,FALSE) -> 5 | AT40: 1.Rất tốt | AU40: =VLOOKUP(AT40,options!$M$41:$N$45,2,FALSE) -> 5 | AV40: 1.Có liên quan | AX40: 3.Từ 4-6 triệu | AY40: 5. Trên 300 người | AZ40: Không | BB40: 5. Vị trí khác | BC40: Công nhân | BD40: Không | BF40: =VLOOKUP(BE40,options!$S$39:$T$59,2,FALSE) -> #N/A | BQ40: =VLOOKUP(BP40,options!$V$31:$W$44,2,FALSE) -> #N/A | BS40: 2.Đồng ý | BT40: =VLOOKUP(BS40,options!$S$31:$T$35,2,FALSE) -> 4 | BU40: 2.Đồng ý | BV40: =VLOOKUP(BU40,options!$S$31:$T$35,2,FALSE) -> 4 | BW40: 2.Đồng ý | BX40: =VLOOKUP(BW40,options!$S$31:$T$35,2,FALSE) -> 4 | BY40: Thực tập/ thực hành tại doanh nghiệp | CC40: 1.Hoàn toàn đồng ý | CD40: 1.Hoàn toàn đồng ý | CE40: =VLOOKUP(CD40,options!$S$31:$T$35,2,FALSE) -> 5
A41: 40 | B41: Trường Cao đẳng Lý Tự Trọng thành Phố Hồ Chí Minh | C41: 14000369 | D41: MoHaMed | F41: AlSaRi | G41: 14CĐ - ĐT1 | H41: Điện - Điện Tử | I41: Kỹ thuật Điện tử | J41: =VLOOKUP(I41,options!$R$65:$S$80,2,FALSE) -> Công nghệ kỹ thuật Điện - Điện tử | K41: =VLOOKUP(I41,'Chuẩn hóa Ngànhnghề'!$A$4:$B$19,2,FALSE) -> Công nghệ kỹ thuật Điện tử | L41: 4. Cao đẳng | M41: TK 25/35, Đường Trần Hưng Đạo | N41: Quận 1 | O41: Tp.hcm | P41: 964422050 | R41: Nam | S41: 1995 | T41: =2018-S41:S189 -> 23 | U41: =VLOOKUP(T41,'Nhóm tuổi'!$A$3:$B$9,2,FALSE) -> Dưới 25 tuổi | V41: 4.Cao đẳng | W41: Chưa | AA41: 5.Trung bình | AB41: A1.Làm công ăn lương | AC41: =VLOOKUP(AB41,options!$V$50:$W$55,2,FALSE) -> Đi làm | AD41: =VLOOKUP(AB41,options!$V$57:$W$62,2,FALSE) -> Có việc làm | AF41: 4. Xây dựng | AH41: Công ty Cổ Phần MePac | AI41: 52 Đường Số 2 | AJ41: Quận 7 | AK41: Tp.hcm | AL41: 0988.622964 | AM41: uyen.tran@mepac.vn | AN41: 50 | AO41: 1.Trước khi TN | AP41: Do trường giới thiệu | AR41: 1.Rất tốt | AS41: =VLOOKUP(AR41,options!$M$41:$N$45,2,FALSE) -> 5 | AT41: 2.Tốt | AU41: =VLOOKUP(AT41,options!$M$41:$N$45,2,FALSE) -> 4 | AV41: 1.Có liên quan | AX41: 3.Từ 4-6 triệu | AY41: 3. Từ 10-200 người | AZ41: Có | BA41: 4. Từ 6-8 tuần | BB41: 1. Nhân viên trong thời gian thử việc (thợ học việc) | BD41: Không | BF41: =VLOOKUP(BE41,options!$S$39:$T$59,2,FALSE) -> #N/A | BQ41: =VLOOKUP(BP41,options!$V$31:$W$44,2,FALSE) -> #N/A | BS41: 1.Hoàn toàn đồng ý | BT41: =VLOOKUP(BS41,options!$S$31:$T$35,2,FALSE) -> 5 | BU41: 1.Hoàn toàn đồng ý | BV41: =VLOOKUP(BU41,options!$S$31:$T$35,2,FALSE) -> 5 | BW41: 1.Hoàn toàn đồng ý | BX41: =VLOOKUP(BW41,options!$S$31:$T$35,2,FALSE) -> 5 | BY41: Trang thiết bị (máy móc, công cụ, v.v.) | CC41: 1.Hoàn toàn đồng ý | CD41: 1.Hoàn toàn đồng ý | CE41: =VLOOKUP(CD41,options!$S$31:$T$35,2,FALSE) -> 5
A42: 41 | B42: Trường Cao đẳng Lý Tự Trọng thành Phố Hồ Chí Minh | C42: 14000375 | D42: Văn | E42: Xuân | F42: Duy | G42: 14CĐ - ĐT1 | H42: Điện - Điện Tử | I42: Điện tử công nghiệp | J42: =VLOOKUP(I42,options!$R$65:$S$80,2,FALSE) -> Công nghệ kỹ thuật Điện - Điện tử | K42: =VLOOKUP(I42,'Chuẩn hóa Ngànhnghề'!$A$4:$B$19,2,FALSE) -> Công nghệ kỹ thuật Điện tử | L42: 4. Cao đẳng | M42: 237/64 Trình Đình Trọng | N42: Quận Tân Phú | O42: Tp.hcm | P42: 01288430802 | R42: Nam | S42: 1996 | T42: =2018-S42:S190 -> 22 | U42: =VLOOKUP(T42,'Nhóm tuổi'!$A$3:$B$9,2,FALSE) -> Dưới 25 tuổi | V42: 4.Cao đẳng | W42: Chưa | AA42: 5.Trung bình | AB42: A1.Làm công ăn lương | AC42: =VLOOKUP(AB42,options!$V$50:$W$55,2,FALSE) -> Đi làm | AD42: =VLOOKUP(AB42,options!$V$57:$W$62,2,FALSE) -> Có việc làm | AF42: 4. Xây dựng | AH42: Công ty Cổ Phần MePac | AI42: 52 Đường Số 2 | AJ42: Quận 7 | AK42: Tp.hcm | AL42: 0988.622964 | AM42: uyen.tran@mepac.vn | AN42: 50 | AO42: 2.Dưới 1 tháng | AP42: Do trường giới thiệu | AR42: 1.Rất tốt | AS42: =VLOOKUP(AR42,options!$M$41:$N$45,2,FALSE) -> 5 | AT42: 2.Tốt | AU42: =VLOOKUP(AT42,options!$M$41:$N$45,2,FALSE) -> 4 | AV42: 1.Có liên quan | AX42: 3.Từ 4-6 triệu | AY42: 3. Từ 10-200 người | AZ42: Có | BA42: 2. Từ 2-4 tuần | BB42: 1. Nhân viên trong thời gian thử việc (thợ học việc) | BD42: Có | BE42: Điện công nghiệp | BF42: =VLOOKUP(BE42,options!$S$39:$T$59,2,FALSE) -> Công nghệ kỹ thuật Điện - Điện Tử | BG42: 1.Đại học | BQ42: =VLOOKUP(BP42,options!$V$31:$W$44,2,FALSE) -> #N/A | BS42: 1.Hoàn toàn đồng ý | BT42: =VLOOKUP(BS42,options!$S$31:$T$35,2,FALSE) -> 5 | BU42: 1.Hoàn toàn đồng ý | BV42: =VLOOKUP(BU42,options!$S$31:$T$35,2,FALSE) -> 5 | BW42: 1.Hoàn toàn đồng ý | BX42: =VLOOKUP(BW42,options!$S$31:$T$35,2,FALSE) -> 5 | BY42: Thực tập/ thực hành tại doanh nghiệp | BZ42: Phương pháp giảng dạy của giáo viên | CA42: Kỹ năng thực hành của giáo viên | CC42: 2.Đồng ý | CD42: 2.Đồng ý | CE42: =VLOOKUP(CD42,options!$S$31:$T$35,2,FALSE) -> 4
A43: 42 | B43: Trường Cao đẳng Lý Tự Trọng thành Phố Hồ Chí Minh | C43: 14000419 | D43: Nguyễn | E43: Văn | F43: Toàn | G43: 14CĐ - ĐT1 | H43: Điện - Điện Tử | I43: Điện tử công nghiệp | J43: =VLOOKUP(I43,options!$R$65:$S$80,2,FALSE) -> Công nghệ kỹ thuật Điện - Điện tử | K43: =VLOOKUP(I43,'Chuẩn hóa Ngànhnghề'!$A$4:$B$19,2,FALSE) -> Công nghệ kỹ thuật Điện tử | L43: 4. Cao đẳng | M43: 252 Thoại Ngọc Hầu, Phường Phú Thạnh | N43: Quận Tân Phú | O43: Tp.hcm | P43: 0982665957 | Q43: nguyenvantoan@gmail.com | R43: Nam | S43: 1996 | T43: =2018-S43:S191 -> 22 | U43: =VLOOKUP(T43,'Nhóm tuổi'!$A$3:$B$9,2,FALSE) -> Dưới 25 tuổi | V43: 4.Cao đẳng | W43: Chưa | AA43: 5.Trung bình | AB43: A1.Làm công ăn lương | AC43: =VLOOKUP(AB43,options!$V$50:$W$55,2,FALSE) -> Đi làm | AD43: =VLOOKUP(AB43,options!$V$57:$W$62,2,FALSE) -> Có việc làm | AF43: 4. Xây dựng | AH43: TNHH một thành viên SX-TM-XNK Hỷ Lộc | AI43: 183/6K Tân Hòa Đông, Phường 14 | AJ43: Quận 6 | AK43: Tp.hcm | AL43: 02837513551 | AM43: hyloc@hyloc.vn | AN43: 48 | AO43: 4.Trên 3 tháng | AP43: Quan hệ cá nhân | AR43: 2.Tốt | AS43: =VLOOKUP(AR43,options!$M$41:$N$45,2,FALSE) -> 4 | AT43: 2.Tốt | AU43: =VLOOKUP(AT43,options!$M$41:$N$45,2,FALSE) -> 4 | AV43: 1.Có liên quan | AX43: 4. Từ 6-8 triệu | AY43: 2. Từ 2-10người | AZ43: Có | BA43: 5.Trên 8 tuần | BB43: 1. Nhân viên trong thời gian thử việc (thợ học việc) | BD43: Không | BF43: =VLOOKUP(BE43,options!$S$39:$T$59,2,FALSE) -> #N/A | BQ43: =VLOOKUP(BP43,options!$V$31:$W$44,2,FALSE) -> #N/A | BS43: 1.Hoàn toàn đồng ý | BT43: =VLOOKUP(BS43,options!$S$31:$T$35,2,FALSE) -> 5 | BU43: 2.Đồng ý | BV43: =VLOOKUP(BU43,options!$S$31:$T$35,2,FALSE) -> 4 | BW43: 1.Hoàn toàn đồng ý | BX43: =VLOOKUP(BW43,options!$S$31:$T$35,2,FALSE) -> 5 | BY43: Trang thiết bị (máy móc, công cụ, v.v.) | BZ43: Cơ sở vật chất (phòng học, thư việnv.v.) | CA43: Thực tập/ thực hành tại doanh nghiệp | CC43: 2.Đồng ý | CD43: 2.Đồng ý | CE43: =VLOOKUP(CD43,options!$S$31:$T$35,2,FALSE) -> 4
A44: 43 | B44: Trường Cao đẳng Lý Tự Trọng thành Phố Hồ Chí Minh | C44: 14000402 | D44: Trương | E44: Quang | F44: Nhật | G44: 14CĐ - ĐT1 | H44: Điện - Điện Tử | I44: Điện tử công nghiệp | J44: =VLOOKUP(I44,options!$R$65:$S$80,2,FALSE) -> Công nghệ kỹ thuật Điện - Điện tử | K44: =VLOOKUP(I44,'Chuẩn hóa Ngànhnghề'!$A$4:$B$19,2,FALSE) -> Công nghệ kỹ thuật Điện tử | L44: 4. Cao đẳng | M44: 85A Tân Lập, Phường Hiệp Phú | N44: Quận 9 | O44: Tp.hcm | P44: 0964024723 | Q44: truongquangnhat@gmail.com | R44: Nam | S44: 1996 | T44: =2018-S44:S192 -> 22 | U44: =VLOOKUP(T44,'Nhóm tuổi'!$A$3:$B$9,2,FALSE) -> Dưới 25 tuổi | V44: 4.Cao đẳng | W44: Chưa | AA44: 5.Trung bình | AB44: A1.Làm công ăn lương | AC44: =VLOOKUP(AB44,options!$V$50:$W$55,2,FALSE) -> Đi làm | AD44: =VLOOKUP(AB44,options!$V$57:$W$62,2,FALSE) -> Có việc làm | AF44: 4. Xây dựng | AG44: Điện công trình | AH44: An Phú Hưng | AI44: 65 Tân Kỳ - Tân Qúy, Phường Sơn Kỳ | AJ44: Quận Tân Phú | AK44: Tp.hcm | AL44: 01687334121 | AM44: lengocthanh@gmail.com | AN44: 48 | AO44: 2.Dưới 1 tháng | AP44: Quan hệ cá nhân | AR44: 2.Tốt | AS44: =VLOOKUP(AR44,options!$M$41:$N$45,2,FALSE) -> 4 | AT44: 2.Tốt | AU44: =VLOOKUP(AT44,options!$M$41:$N$45,2,FALSE) -> 4 | AV44: 1.Có liên quan | AX44: 4. Từ 6-8 triệu | AY44: 2. Từ 2-10người | AZ44: Có | BA44: 1. Dưới 2 tuần | BB44: 2. Nhân viên chính thức | BD44: Không | BF44: =VLOOKUP(BE44,options!$S$39:$T$59,2,FALSE) -> #N/A | BQ44: =VLOOKUP(BP44,options!$V$31:$W$44,2,FALSE) -> #N/A | BS44: 2.Đồng ý | BT44: =VLOOKUP(BS44,options!$S$31:$T$35,2,FALSE) -> 4 | BU44: 2.Đồng ý | BV44: =VLOOKUP(BU44,options!$S$31:$T$35,2,FALSE) -> 4 | BW44: 2.Đồng ý | BX44: =VLOOKUP(BW44,options!$S$31:$T$35,2,FALSE) -> 4 | BY44: Tài liệu,chương trình (sách, v.v.) | BZ44: Trang thiết bị (máy móc, công cụ, v.v.) | CA44: Thực tập/ thực hành tại doanh nghiệp | CC44: 2.Đồng ý | CD44: 2.Đồng ý | CE44: =VLOOKUP(CD44,options!$S$31:$T$35,2,FALSE) -> 4
A45: 44 | B45: Trường Cao đẳng Lý Tự Trọng thành Phố Hồ Chí Minh | C45: 14000399 | D45: Nguyễn | E45: Văn | F45: Nghĩa | G45: 14CĐ - ĐT1 | H45: Điện - Điện Tử | I45: Điện tử công nghiệp | J45: =VLOOKUP(I45,options!$R$65:$S$80,2,FALSE) -> Công nghệ kỹ thuật Điện - Điện tử | K45: =VLOOKUP(I45,'Chuẩn hóa Ngànhnghề'!$A$4:$B$19,2,FALSE) -> Công nghệ kỹ thuật Điện tử | L45: 4. Cao đẳng | M45: Thị Trấn Thành Dũng | N45: Huyện Đơn Dương | O45: Lâm Đồng | P45: 0963269321 | R45: Nam | S45: 1996 | T45: =2018-S45:S193 -> 22 | U45: =VLOOKUP(T45,'Nhóm tuổi'!$A$3:$B$9,2,FALSE) -> Dưới 25 tuổi | V45: 4.Cao đẳng | W45: Chưa | AA45: 5.Trung bình | AB45: C.Không tìm được việc làm | AC45: =VLOOKUP(AB45,options!$V$50:$W$55,2,FALSE) -> Đang tìm việc (Không có việc làm) | AD45: =VLOOKUP(AB45,options!$V$57:$W$62,2,FALSE) -> Không tìm được việc làm | AS45: =VLOOKUP(AR45,options!$M$41:$N$45,2,FALSE) -> #N/A | AU45: =VLOOKUP(AT45,options!$M$41:$N$45,2,FALSE) -> #N/A | BF45: =VLOOKUP(BE45,options!$S$39:$T$59,2,FALSE) -> #N/A | BH45: Lý do khác | BI45: 3.Cả 2 công việc trên | BJ45: Ngành nghề được đào tạo đang dư thừa lao động trên thị trường | BK45: Ngoại ngữ không đạt | BL45: Thiếu thông tin về việc làm | BQ45: =VLOOKUP(BP45,options!$V$31:$W$44,2,FALSE) -> #N/A | BS45: 3.Đồng ý phần nào | BT45: =VLOOKUP(BS45,options!$S$31:$T$35,2,FALSE) -> 3 | BU45: 2.Đồng ý | BV45: =VLOOKUP(BU45,options!$S$31:$T$35,2,FALSE) -> 4 | BW45: 3.Đồng ý phần nào | BX45: =VLOOKUP(BW45,options!$S$31:$T$35,2,FALSE) -> 3 | BY45: Tài liệu,chương trình (sách, v.v.) | BZ45: Thực tập/ thực hành tại doanh nghiệp | CA45: Kỹ năng thực hành của giáo viên | CC45: 2.Đồng ý | CD45: 2.Đồng ý | CE45: =VLOOKUP(CD45,options!$S$31:$T$35,2,FALSE) -> 4
A46: 45 | B46: Trường Cao đẳng Lý Tự Trọng thành Phố Hồ Chí Minh | C46: 14000394 | D46: Đoàn | E46: Văn | F46: Linh | G46: 14CĐ - ĐT1 | H46: Điện - Điện Tử | I46: Điện tử công nghiệp | J46: =VLOOKUP(I46,options!$R$65:$S$80,2,FALSE) -> Công nghệ kỹ thuật Điện - Điện tử | K46: =VLOOKUP(I46,'Chuẩn hóa Ngànhnghề'!$A$4:$B$19,2,FALSE) -> Công nghệ kỹ thuật Điện tử | L46: 4. Cao đẳng | M46: 33 Thiền Viên, Phường Mỹ Đình | N46: Quận Nam Từ Liêm | O46: Hà Nội | P46: 01663198488 | Q46: utlinh131996@gmail.com | R46: Nam | S46: 1996 | T46: =2018-S46:S194 -> 22 | U46: =VLOOKUP(T46,'Nhóm tuổi'!$A$3:$B$9,2,FALSE) -> Dưới 25 tuổi | V46: 4.Cao đẳng | W46: Chưa | AA46: 5.Trung bình | AB46: A1.Làm công ăn lương | AC46: =VLOOKUP(AB46,options!$V$50:$W$55,2,FALSE) -> Đi làm | AD46: =VLOOKUP(AB46,options!$V$57:$W$62,2,FALSE) -> Có việc làm | AF46: 6.Thương mại & Dịch vụ (Bán buôn, bán lẻ) | AH46: GaRa Ôtô HTC Quang Minh | AI46: Ngô 68 Dương Đình Nghệ | AJ46: Quận Nam Từ Liêm | AK46: Hà Nội | AN46: 48 | AO46: 3. Từ 1-3 tháng | AP46: Quan hệ cá nhân | AR46: 2.Tốt | AS46: =VLOOKUP(AR46,options!$M$41:$N$45,2,FALSE) -> 4 | AT46: 2.Tốt | AU46: =VLOOKUP(AT46,options!$M$41:$N$45,2,FALSE) -> 4 | AV46: 1.Có liên quan | AX46: 4. Từ 6-8 triệu | AY46: 3. Từ 10-200 người | AZ46: Có | BA46: 5.Trên 8 tuần | BB46: 2. Nhân viên chính thức | BD46: Không | BF46: =VLOOKUP(BE46,options!$S$39:$T$59,2,FALSE) -> #N/A | BQ46: =VLOOKUP(BP46,options!$V$31:$W$44,2,FALSE) -> #N/A | BS46: 3.Đồng ý phần nào | BT46: =VLOOKUP(BS46,options!$S$31:$T$35,2,FALSE) -> 3 | BU46: 2.Đồng ý | BV46: =VLOOKUP(BU46,options!$S$31:$T$35,2,FALSE) -> 4 | BW46: 2.Đồng ý | BX46: =VLOOKUP(BW46,options!$S$31:$T$35,2,FALSE) -> 4 | BY46: Tài liệu,chương trình (sách, v.v.) | BZ46: Thực tập/ thực hành tại doanh nghiệp | CA46: Phương pháp giảng dạy của giáo viên | CC46: 2.Đồng ý | CD46: 2.Đồng ý | CE46: =VLOOKUP(CD46,options!$S$31:$T$35,2,FALSE) -> 4
A47: 46 | B47: Trường Cao đẳng Lý Tự Trọng thành Phố Hồ Chí Minh | C47: 14000368 | D47: Nguyễn | E47: Ngọc | F47: Anh | G47: 14CĐ - ĐT1 | H47: Điện - Điện Tử | I47: Điện tử công nghiệp | J47: =VLOOKUP(I47,options!$R$65:$S$80,2,FALSE) -> Công nghệ kỹ thuật Điện - Điện tử | K47: =VLOOKUP(I47,'Chuẩn hóa Ngànhnghề'!$A$4:$B$19,2,FALSE) -> Công nghệ kỹ thuật Điện tử | L47: 4. Cao đẳng | M47: 100/5D Ấp Tam Đông 3, Xã Thới Tam Thôn, | N47: Huyện Hóc Môn, | O47: Tp.hcm | P47: 01687302433 | R47: Nam | S47: 1996 | T47: =2018-S47:S195 -> 22 | U47: =VLOOKUP(T47,'Nhóm tuổi'!$A$3:$B$9,2,FALSE) -> Dưới 25 tuổi | V47: 4.Cao đẳng | W47: Chưa | AA47: 3.Khá | AB47: A2.Tự SX-KD | AC47: =VLOOKUP(AB47,options!$V$50:$W$55,2,FALSE) -> Đi làm | AD47: =VLOOKUP(AB47,options!$V$57:$W$62,2,FALSE) -> Có việc làm | AF47: 4. Xây dựng | AH47: Tại gia | AI47: 100/5D Ấp Tam Đông, Xã Thới Tam Thôn | AJ47: Hốc Môn | AK47: Tp.hcm | AL47: 01687302433 | AN47: 48 | AO47: 2.Dưới 1 tháng | AP47: Quan hệ cá nhân | AR47: 3.Trung bình | AS47: =VLOOKUP(AR47,options!$M$41:$N$45,2,FALSE) -> 3 | AT47: 3.Trung bình | AU47: =VLOOKUP(AT47,options!$M$41:$N$45,2,FALSE) -> 3 | AV47: 2.Liên quan | AX47: 4. Từ 6-8 triệu | AY47: 2. Từ 2-10người | AZ47: Có | BA47: 5.Trên 8 tuần | BB47: 2. Nhân viên chính thức | BD47: Không | BF47: =VLOOKUP(BE47,options!$S$39:$T$59,2,FALSE) -> #N/A | BQ47: =VLOOKUP(BP47,options!$V$31:$W$44,2,FALSE) -> #N/A | BS47: 2.Đồng ý | BT47: =VLOOKUP(BS47,options!$S$31:$T$35,2,FALSE) -> 4 | BU47: 3.Đồng ý phần nào | BV47: =VLOOKUP(BU47,options!$S$31:$T$35,2,FALSE) -> 3 | BW47: 2.Đồng ý | BX47: =VLOOKUP(BW47,options!$S$31:$T$35,2,FALSE) -> 4 | BY47: Trang thiết bị (máy móc, công cụ, v.v.) | BZ47: Cơ sở vật chất (phòng học, thư việnv.v.) | CA47: Thực tập/ thực hành tại doanh nghiệp | CC47: 2.Đồng ý | CD47: 3.Đồng ý phần nào | CE47: =VLOOKUP(CD47,options!$S$31:$T$35,2,FALSE) -> 3
A48: 47 | B48: Trường Cao đẳng Lý Tự Trọng thành Phố Hồ Chí Minh | C48: 14000457 | D48: Đoàn | E48: Việt | F48: Quang | G48: 14CĐ - ĐT2 | H48: Điện - Điện Tử | I48: Điện tử công nghiệp | J48: =VLOOKUP(I48,options!$R$65:$S$80,2,FALSE) -> Công nghệ kỹ thuật Điện - Điện tử | K48: =VLOOKUP(I48,'Chuẩn hóa Ngànhnghề'!$A$4:$B$19,2,FALSE) -> Công nghệ kỹ thuật Điện tử | L48: 4. Cao đẳng | M48: 373/1/3Thống Nhất, Phường 8 | N48: Quận Gò Vấp | O48: Tp.hcm | P48: 01649913769 | Q48: doanviet767@gmail | R48: Nam | S48: 1996 | T48: =2018-S48:S196 -> 22 | U48: =VLOOKUP(T48,'Nhóm tuổi'!$A$3:$B$9,2,FALSE) -> Dưới 25 tuổi | V48: 4.Cao đẳng | W48: Chưa | AA48: 5.Trung bình | AB48: A1.Làm công ăn lương | AC48: =VLOOKUP(AB48,options!$V$50:$W$55,2,FALSE) -> Đi làm | AD48: =VLOOKUP(AB48,options!$V$57:$W$62,2,FALSE) -> Có việc làm | AF48: 4. Xây dựng | AH48: Công ty Cổ phần KT Cường Thịnh | AI48: 168/44H Đường D2, Phường 25 | AJ48: Quận Bình Thạnh | AK48: Tp.hcm | AL48: 028362944571 | AM48: http://www.ctcjsc.com.vn | AN48: 48 | AO48: 3. Từ 1-3 tháng | AP48: Qua quảng cáo trên Internet | AR48: 2.Tốt | AS48: =VLOOKUP(AR48,options!$M$41:$N$45,2,FALSE) -> 4 | AT48: 2.Tốt | AU48: =VLOOKUP(AT48,options!$M$41:$N$45,2,FALSE) -> 4 | AV48: 2.Liên quan | AX48: 4. Từ 6-8 triệu | AY48: 3. Từ 10-200 người | AZ48: Có | BA48: 5.Trên 8 tuần | BB48: 2. Nhân viên chính thức | BD48: Không | BF48: =VLOOKUP(BE48,options!$S$39:$T$59,2,FALSE) -> #N/A | BQ48: =VLOOKUP(BP48,options!$V$31:$W$44,2,FALSE) -> #N/A | BS48: 2.Đồng ý | BT48: =VLOOKUP(BS48,options!$S$31:$T$35,2,FALSE) -> 4 | BU48: 3.Đồng ý phần nào | BV48: =VLOOKUP(BU48,options!$S$31:$T$35,2,FALSE) -> 3 | BW48: 3.Đồng ý phần nào | BX48: =VLOOKUP(BW48,options!$S$31:$T$35,2,FALSE) -> 3 | BY48: Tài liệu,chương trình (sách, v.v.) | BZ48: Kỹ năng thực hành của giáo viên | CC48: 3.Đồng ý phần nào | CD48: 3.Đồng ý phần nào | CE48: =VLOOKUP(CD48,options!$S$31:$T$35,2,FALSE) -> 3
A49: 48 | B49: Trường Cao đẳng Lý Tự Trọng thành Phố Hồ Chí Minh | C49: 14000451 | D49: Trần | E49: Thanh | F49: Minh | G49: 14CĐ - ĐT2 | H49: Điện - Điện Tử | I49: Điện tử công nghiệp | J49: =VLOOKUP(I49,options!$R$65:$S$80,2,FALSE) -> Công nghệ kỹ thuật Điện - Điện tử | K49: =VLOOKUP(I49,'Chuẩn hóa Ngànhnghề'!$A$4:$B$19,2,FALSE) -> Công nghệ kỹ thuật Điện tử | L49: 4. Cao đẳng | M49: 147 Dương Quảng Hàm, Phường 5 | N49: Quận Gò Vấp | O49: Tp.hcm | P49: 016966747020 | R49: Nam | S49: 1996 | T49: =2018-S49:S197 -> 22 | U49: =VLOOKUP(T49,'Nhóm tuổi'!$A$3:$B$9,2,FALSE) -> Dưới 25 tuổi | V49: 4.Cao đẳng | W49: Chưa | AA49: 5.Trung bình | AB49: A1.Làm công ăn lương | AC49: =VLOOKUP(AB49,options!$V$50:$W$55,2,FALSE) -> Đi làm | AD49: =VLOOKUP(AB49,options!$V$57:$W$62,2,FALSE) -> Có việc làm | AF49: 4. Xây dựng | AI49: 102 Lê Thị Hồng Gấm, Phường Nguyễn Thái Bình | AJ49: Quận 1 | AK49: Tp.hcm | AN49: 48 | AO49: 3. Từ 1-3 tháng | AP49: Qua quảng cáo trên Internet | AR49: 1.Rất tốt | AS49: =VLOOKUP(AR49,options!$M$41:$N$45,2,FALSE) -> 5 | AT49: 1.Rất tốt | AU49: =VLOOKUP(AT49,options!$M$41:$N$45,2,FALSE) -> 5 | AV49: 2.Liên quan | AX49: 4. Từ 6-8 triệu | AY49: 2. Từ 2-10người | AZ49: Có | BA49: 2. Từ 2-4 tuần | BB49: 2. Nhân viên chính thức | BD49: Không | BF49: =VLOOKUP(BE49,options!$S$39:$T$59,2,FALSE) -> #N/A | BQ49: =VLOOKUP(BP49,options!$V$31:$W$44,2,FALSE) -> #N/A | BS49: 1.Hoàn toàn đồng ý | BT49: =VLOOKUP(BS49,options!$S$31:$T$35,2,FALSE) -> 5 | BU49: 1.Hoàn toàn đồng ý | BV49: =VLOOKUP(BU49,options!$S$31:$T$35,2,FALSE) -> 5 | BW49: 1.Hoàn toàn đồng ý | BX49: =VLOOKUP(BW49,options!$S$31:$T$35,2,FALSE) -> 5 | BY49: Tài liệu,chương trình (sách, v.v.) | BZ49: Cơ sở vật chất (phòng học, thư việnv.v.) | CA49: Kỹ năng thực hành của giáo viên | CC49: 1.Hoàn toàn đồng ý | CD49: 1.Hoàn toàn đồng ý | CE49: =VLOOKUP(CD49,options!$S$31:$T$35,2,FALSE) -> 5
A50: 49 | B50: Trường Cao đẳng Lý Tự Trọng thành Phố Hồ Chí Minh | C50: 14000456 | D50: Hà | E50: Duy | F50: Phước | G50: 14CĐ - ĐT2 | H50: Điện - Điện Tử | I50: Điện tử công nghiệp | J50: =VLOOKUP(I50,options!$R$65:$S$80,2,FALSE) -> Công nghệ kỹ thuật Điện - Điện tử | K50: =VLOOKUP(I50,'Chuẩn hóa Ngànhnghề'!$A$4:$B$19,2,FALSE) -> Công nghệ kỹ thuật Điện tử | L50: 4. Cao đẳng | M50: 160 Quốc Lộ 13, Phường 26 | N50: Quận Bình Thạnh | O50: Tp.hcm | P50: 01695424239 | Q50: hoduyphuoc02@gmail | R50: Nam | S50: 1995 | T50: =2018-S50:S198 -> 23 | U50: =VLOOKUP(T50,'Nhóm tuổi'!$A$3:$B$9,2,FALSE) -> Dưới 25 tuổi | V50: 4.Cao đẳng | W50: Chưa | AA50: 5.Trung bình | AB50: B2.Đang đi học | AC50: =VLOOKUP(AB50,options!$V$50:$W$55,2,FALSE) -> Đang đi học (trọn giờ) | AD50: =VLOOKUP(AB50,options!$V$57:$W$62,2,FALSE) -> Đang đi học | AS50: =VLOOKUP(AR50,options!$M$41:$N$45,2,FALSE) -> #N/A | AU50: =VLOOKUP(AT50,options!$M$41:$N$45,2,FALSE) -> #N/A | BF50: =VLOOKUP(BE50,options!$S$39:$T$59,2,FALSE) -> #N/A | BN50: Học nâng cao trình độ | BO50: Trường Đại học sư phạm Kỹ thuật Tp.HCM | BP50: Công nghệ KT Điện - Điện Tử | BQ50: =VLOOKUP(BP50,options!$V$31:$W$44,2,FALSE) -> Công nghệ Kỹ thuật Điện - Điện Tử | BR50: 1.Đại học | BS50: 2.Đồng ý | BT50: =VLOOKUP(BS50,options!$S$31:$T$35,2,FALSE) -> 4 | BU50: 2.Đồng ý | BV50: =VLOOKUP(BU50,options!$S$31:$T$35,2,FALSE) -> 4 | BW50: 2.Đồng ý | BX50: =VLOOKUP(BW50,options!$S$31:$T$35,2,FALSE) -> 4 | BY50: Trang thiết bị (máy móc, công cụ, v.v.) | BZ50: Thực tập/ thực hành tại doanh nghiệp | CA50: Kỹ năng thực hành của giáo viên | CC50: 2.Đồng ý | CD50: 2.Đồng ý | CE50: =VLOOKUP(CD50,options!$S$31:$T$35,2,FALSE) -> 4
A51: 50 | B51: Trường Cao đẳng Lý Tự Trọng thành Phố Hồ Chí Minh | C51: 14000455 | D51: Nguyễn | F51: Phát | G51: 14CĐ - ĐT2 | H51: Điện - Điện Tử | I51: Điện tử công nghiệp | J51: =VLOOKUP(I51,options!$R$65:$S$80,2,FALSE) -> Công nghệ kỹ thuật Điện - Điện tử | K51: =VLOOKUP(I51,'Chuẩn hóa Ngànhnghề'!$A$4:$B$19,2,FALSE) -> Công nghệ kỹ thuật Điện tử | L51: 4. Cao đẳng | M51: 261 Chu Văn An, Phường 24 | N51: Quận Bình Thạnh | O51: Tp.hcm | P51: 0965954232 | Q51: phat1996bsvt@gmail | R51: Nam | S51: 1996 | T51: =2018-S51:S199 -> 22 | U51: =VLOOKUP(T51,'Nhóm tuổi'!$A$3:$B$9,2,FALSE) -> Dưới 25 tuổi | V51: 4.Cao đẳng | W51: Chưa | AA51: 5.Trung bình | AB51: C.Không tìm được việc làm | AC51: =VLOOKUP(AB51,options!$V$50:$W$55,2,FALSE) -> Đang tìm việc (Không có việc làm) | AD51: =VLOOKUP(AB51,options!$V$57:$W$62,2,FALSE) -> Không tìm được việc làm | AS51: =VLOOKUP(AR51,options!$M$41:$N$45,2,FALSE) -> #N/A | AU51: =VLOOKUP(AT51,options!$M$41:$N$45,2,FALSE) -> #N/A | BF51: =VLOOKUP(BE51,options!$S$39:$T$59,2,FALSE) -> #N/A | BH51: Vì không tìm được việc làm đúng với ngành nghề được đào tạo | BI51: 2.CV không liên quan đến nghề được đào tạo | BJ51: Thiếu kinh nghiệm làm việc | BQ51: =VLOOKUP(BP51,options!$V$31:$W$44,2,FALSE) -> #N/A | BS51: 1.Hoàn toàn đồng ý | BT51: =VLOOKUP(BS51,options!$S$31:$T$35,2,FALSE) -> 5 | BU51: 2.Đồng ý | BV51: =VLOOKUP(BU51,options!$S$31:$T$35,2,FALSE) -> 4 | BW51: 2.Đồng ý | BX51: =VLOOKUP(BW51,options!$S$31:$T$35,2,FALSE) -> 4 | BY51: Tài liệu,chương trình (sách, v.v.) | BZ51: Trang thiết bị (máy móc, công cụ, v.v.) | CA51: Thực tập/ thực hành tại doanh nghiệp | CC51: 2.Đồng ý | CD51: 2.Đồng ý | CE51: =VLOOKUP(CD51,options!$S$31:$T$35,2,FALSE) -> 4
A52: 51 | B52: Trường Cao đẳng Lý Tự Trọng thành Phố Hồ Chí Minh | C52: 14000427 | D52: Đinh | E52: Văn | F52: Cường | G52: 14CĐ - ĐT2 | H52: Điện - Điện Tử | I52: Điện tử công nghiệp | J52: =VLOOKUP(I52,options!$R$65:$S$80,2,FALSE) -> Công nghệ kỹ thuật Điện - Điện tử | K52: =VLOOKUP(I52,'Chuẩn hóa Ngànhnghề'!$A$4:$B$19,2,FALSE) -> Công nghệ kỹ thuật Điện tử | L52: 4. Cao đẳng | M52: Đường Số 4, Phường Linh Tây | N52: Quận Thủ Đức | O52: Tp.hcm | P52: 0966150078 | R52: Nam | S52: 1996 | T52: =2018-S52:S200 -> 22 | U52: =VLOOKUP(T52,'Nhóm tuổi'!$A$3:$B$9,2,FALSE) -> Dưới 25 tuổi | V52: 4.Cao đẳng | W52: Chưa | AA52: 5.Trung bình | AB52: A1.Làm công ăn lương | AC52: =VLOOKUP(AB52,options!$V$50:$W$55,2,FALSE) -> Đi làm | AD52: =VLOOKUP(AB52,options!$V$57:$W$62,2,FALSE) -> Có việc làm | AF52: 4. Xây dựng | AH52: TNHH xây dựng cơ điện Trí Trung | AI52: 37 Lê Văn Huân, P.13 | AJ52: Quận Tân Bình | AK52: Tp.hcm | AL52: 02838121637 | AM52: http://www.tritrung.vn/ | AN52: 48 | AO52: 3. Từ 1-3 tháng | AP52: Qua quảng cáo trên Internet | AR52: 2.Tốt | AS52: =VLOOKUP(AR52,options!$M$41:$N$45,2,FALSE) -> 4 | AT52: 2.Tốt | AU52: =VLOOKUP(AT52,options!$M$41:$N$45,2,FALSE) -> 4 | AV52: 1.Có liên quan | AX52: 3.Từ 4-6 triệu | AY52: 2. Từ 2-10người | AZ52: Có | BA52: 5.Trên 8 tuần | BB52: 1. Nhân viên trong thời gian thử việc (thợ học việc) | BD52: Không | BF52: =VLOOKUP(BE52,options!$S$39:$T$59,2,FALSE) -> #N/A | BQ52: =VLOOKUP(BP52,options!$V$31:$W$44,2,FALSE) -> #N/A | BS52: 2.Đồng ý | BT52: =VLOOKUP(BS52,options!$S$31:$T$35,2,FALSE) -> 4 | BU52: 3.Đồng ý phần nào | BV52: =VLOOKUP(BU52,options!$S$31:$T$35,2,FALSE) -> 3 | BW52: 2.Đồng ý | BX52: =VLOOKUP(BW52,options!$S$31:$T$35,2,FALSE) -> 4 | BY52: Tài liệu,chương trình (sách, v.v.) | BZ52: Thực tập/ thực hành tại doanh nghiệp | CA52: Kỹ năng thực hành của giáo viên | CC52: 2.Đồng ý | CD52: 2.Đồng ý | CE52: =VLOOKUP(CD52,options!$S$31:$T$35,2,FALSE) -> 4
A53: 52 | B53: Trường Cao đẳng Lý Tự Trọng thành Phố Hồ Chí Minh | C53: 14000438 | D53: Lưu | E53: Văn | F53: Hiếu | G53: 14CĐ - ĐT2 | H53: Điện - Điện Tử | I53: Kỹ thuật Điện tử | J53: =VLOOKUP(I53,options!$R$65:$S$80,2,FALSE) -> Công nghệ kỹ thuật Điện - Điện tử | K53: =VLOOKUP(I53,'Chuẩn hóa Ngànhnghề'!$A$4:$B$19,2,FALSE) -> Công nghệ kỹ thuật Điện tử | L53: 4. Cao đẳng | M53: KP5, Phường 2 | N53: TX. Kiến Tường | O53: Long An | P53: 01264700704 | R53: Nam | S53: 1995 | T53: =2018-S53:S201 -> 23 | U53: =VLOOKUP(T53,'Nhóm tuổi'!$A$3:$B$9,2,FALSE) -> Dưới 25 tuổi | V53: 4.Cao đẳng | W53: Chưa | AA53: 5.Trung bình | AB53: A1.Làm công ăn lương | AC53: =VLOOKUP(AB53,options!$V$50:$W$55,2,FALSE) -> Đi làm | AD53: =VLOOKUP(AB53,options!$V$57:$W$62,2,FALSE) -> Có việc làm | AF53: 4. Xây dựng | AH53: Công ty Cổ Phần MePac | AI53: 52 Đường Số 2 | AJ53: Quận 7 | AK53: Tp.hcm | AL53: 0988.622964 | AM53: uyen.tran@mepac.vn | AN53: 48 | AO53: 4.Trên 3 tháng | AP53: Do trường giới thiệu | AR53: 3.Trung bình | AS53: =VLOOKUP(AR53,options!$M$41:$N$45,2,FALSE) -> 3 | AT53: 3.Trung bình | AU53: =VLOOKUP(AT53,options!$M$41:$N$45,2,FALSE) -> 3 | AV53: 1.Có liên quan | AX53: 4. Từ 6-8 triệu | AY53: 4. Từ 200-300 người | AZ53: Có | BA53: 2. Từ 2-4 tuần | BB53: 2. Nhân viên chính thức | BD53: Có | BE53: Điện tử công nghiệp | BF53: =VLOOKUP(BE53,options!$S$39:$T$59,2,FALSE) -> Công nghệ kỹ thuật Điện - Điện Tử | BG53: 1.Đại học | BQ53: =VLOOKUP(BP53,options!$V$31:$W$44,2,FALSE) -> #N/A | BS53: 2.Đồng ý | BT53: =VLOOKUP(BS53,options!$S$31:$T$35,2,FALSE) -> 4 | BU53: 2.Đồng ý | BV53: =VLOOKUP(BU53,options!$S$31:$T$35,2,FALSE) -> 4 | BW53: 1.Hoàn toàn đồng ý | BX53: =VLOOKUP(BW53,options!$S$31:$T$35,2,FALSE) -> 5 | BZ53: Tài liệu,chương trình (sách, v.v.) | CC53: 1.Hoàn toàn đồng ý | CD53: 1.Hoàn toàn đồng ý | CE53: =VLOOKUP(CD53,options!$S$31:$T$35,2,FALSE) -> 5
A54: 53 | B54: Trường Cao đẳng Lý Tự Trọng thành Phố Hồ Chí Minh | C54: 14000450 | D54: Chương | E54: Hoàng | F54: Minh | G54: 14CĐ - ĐT2 | H54: Điện - Điện Tử | I54: Điện tử công nghiệp | J54: =VLOOKUP(I54,options!$R$65:$S$80,2,FALSE) -> Công nghệ kỹ thuật Điện - Điện tử | K54: =VLOOKUP(I54,'Chuẩn hóa Ngànhnghề'!$A$4:$B$19,2,FALSE) -> Công nghệ kỹ thuật Điện tử | L54: 4. Cao đẳng | M54: 19/6/8 Hoàng Xuân Nhị, Phường Phú Trung | N54: Quận Tân Phú | O54: Tp.hcm | P54: 0989972934 | R54: Nam | S54: 1996 | T54: =2018-S54:S202 -> 22 | U54: =VLOOKUP(T54,'Nhóm tuổi'!$A$3:$B$9,2,FALSE) -> Dưới 25 tuổi | V54: 4.Cao đẳng | W54: Chưa | AA54: 5.Trung bình | AB54: A1.Làm công ăn lương | AC54: =VLOOKUP(AB54,options!$V$50:$W$55,2,FALSE) -> Đi làm | AD54: =VLOOKUP(AB54,options!$V$57:$W$62,2,FALSE) -> Có việc làm | AF54: 4. Xây dựng | AH54: Công ty Cổ Phần MePac | AI54: 52 Đường Số 2 | AJ54: Quận 7 | AK54: Tp.hcm | AL54: 0988.622964 | AM54: uyen.tran@mepac.vn | AN54: 48 | AO54: 4.Trên 3 tháng | AP54: Do trường giới thiệu | AR54: 2.Tốt | AS54: =VLOOKUP(AR54,options!$M$41:$N$45,2,FALSE) -> 4 | AT54: 2.Tốt | AU54: =VLOOKUP(AT54,options!$M$41:$N$45,2,FALSE) -> 4 | AV54: 1.Có liên quan | AX54: 3.Từ 4-6 triệu | AY54: 3. Từ 10-200 người | AZ54: Không | BB54: 1. Nhân viên trong thời gian thử việc (thợ học việc) | BD54: Không | BF54: =VLOOKUP(BE54,options!$S$39:$T$59,2,FALSE) -> #N/A | BQ54: =VLOOKUP(BP54,options!$V$31:$W$44,2,FALSE) -> #N/A | BS54: 1.Hoàn toàn đồng ý | BT54: =VLOOKUP(BS54,options!$S$31:$T$35,2,FALSE) -> 5 | BU54: 1.Hoàn toàn đồng ý | BV54: =VLOOKUP(BU54,options!$S$31:$T$35,2,FALSE) -> 5 | BW54: 1.Hoàn toàn đồng ý | BX54: =VLOOKUP(BW54,options!$S$31:$T$35,2,FALSE) -> 5 | BY54: Tài liệu,chương trình (sách, v.v.) | BZ54: Trang thiết bị (máy móc, công cụ, v.v.) | CA54: Thực tập/ thực hành tại doanh nghiệp | CC54: 1.Hoàn toàn đồng ý | CD54: 1.Hoàn toàn đồng ý | CE54: =VLOOKUP(CD54,options!$S$31:$T$35,2,FALSE) -> 5
A55: 54 | B55: Trường Cao đẳng Lý Tự Trọng thành Phố Hồ Chí Minh | C55: 14001067 | D55: Phan | E55: Anh | F55: Phúc | G55: 14CĐ - ĐT2 | H55: Điện - Điện Tử | I55: Điện tử công nghiệp | J55: =VLOOKUP(I55,options!$R$65:$S$80,2,FALSE) -> Công nghệ kỹ thuật Điện - Điện tử | K55: =VLOOKUP(I55,'Chuẩn hóa Ngànhnghề'!$A$4:$B$19,2,FALSE) -> Công nghệ kỹ thuật Điện tử | L55: 4. Cao đẳng | M55: 125/5 Hoàng Hoa Thám, Phường 13 | N55: Quận Tân Bình | O55: Tp.hcm | P55: 01689596948 | Q55: phanphuc3127@gmail.com | R55: Nam | S55: 1994 | T55: =2018-S55:S203 -> 24 | U55: =VLOOKUP(T55,'Nhóm tuổi'!$A$3:$B$9,2,FALSE) -> Dưới 25 tuổi | V55: 4.Cao đẳng | W55: Chưa | AA55: 5.Trung bình | AB55: A1.Làm công ăn lương | AC55: =VLOOKUP(AB55,options!$V$50:$W$55,2,FALSE) -> Đi làm | AD55: =VLOOKUP(AB55,options!$V$57:$W$62,2,FALSE) -> Có việc làm | AF55: 11.Khác, ghi cụ thể | AG55: Cố vấn | AH55: Giang Minh Đức | AI55: 328 Ung Văn Khiêm, Phường 25 | AJ55: Quận Bình Thạnh | AK55: Tp.hcm | AL55: 0949838579 | AN55: 48 | AO55: 4.Trên 3 tháng | AP55: Quan hệ cá nhân | AR55: 2.Tốt | AS55: =VLOOKUP(AR55,options!$M$41:$N$45,2,FALSE) -> 4 | AT55: 2.Tốt | AU55: =VLOOKUP(AT55,options!$M$41:$N$45,2,FALSE) -> 4 | AV55: 1.Có liên quan | AX55: 5. Trên 8 triệu | AY55: 3. Từ 10-200 người | AZ55: Không | BB55: 2. Nhân viên chính thức | BD55: Không | BF55: =VLOOKUP(BE55,options!$S$39:$T$59,2,FALSE) -> #N/A | BQ55: =VLOOKUP(BP55,options!$V$31:$W$44,2,FALSE) -> #N/A | BS55: 2.Đồng ý | BT55: =VLOOKUP(BS55,options!$S$31:$T$35,2,FALSE) -> 4 | BU55: 2.Đồng ý | BV55: =VLOOKUP(BU55,options!$S$31:$T$35,2,FALSE) -> 4 | BW55: 2.Đồng ý | BX55: =VLOOKUP(BW55,options!$S$31:$T$35,2,FALSE) -> 4 | BY55: Tài liệu,chương trình (sách, v.v.) | BZ55: Trang thiết bị (máy móc, công cụ, v.v.) | CA55: Thực tập/ thực hành tại doanh nghiệp | CC55: 2.Đồng ý | CD55: 2.Đồng ý | CE55: =VLOOKUP(CD55,options!$S$31:$T$35,2,FALSE) -> 4
A56: 55 | B56: Trường Cao đẳng Lý Tự Trọng thành Phố Hồ Chí Minh | C56: 14001116 | D56: Trần | E56: Thị Ý | F56: Nhi | G56: 14CĐ - MT1 | H56: May - Thời trang | I56: Công nghệ May | J56: =VLOOKUP(I56,options!$R$65:$S$80,2,FALSE) -> Các ngành khác | K56: =VLOOKUP(I56,'Chuẩn hóa Ngànhnghề'!$A$4:$B$19,2,FALSE) -> Công nghệ May | L56: 4. Cao đẳng | M56: 481/35 Trường Chinh, Phường 4 | N56: Quận Tân Bình | O56: Tp.hcm | P56: 0923269238 | Q56: ynhilytc@gmail.com | R56: Nữ | S56: 1996 | T56: =2018-S56:S204 -> 22 | U56: =VLOOKUP(T56,'Nhóm tuổi'!$A$3:$B$9,2,FALSE) -> Dưới 25 tuổi | V56: 4.Cao đẳng | W56: Chưa | AA56: 3.Khá | AB56: A1.Làm công ăn lương | AC56: =VLOOKUP(AB56,options!$V$50:$W$55,2,FALSE) -> Đi làm | AD56: =VLOOKUP(AB56,options!$V$57:$W$62,2,FALSE) -> Có việc làm | AF56: 5. Sản xuất, phân phối điện, ga, nước | AH56: Công ty Cổ Phần may Việt Tiến | AI56: Số 7 Lê Minh Xuân | AJ56: Phường 7 | AK56: Tp.hcm | AL56: 02838640800 | AM56: www.viettien.com.vn | AN56: 44 | AO56: 2.Dưới 1 tháng | AP56: Qua quảng cáo trên Internet | AR56: 3.Trung bình | AS56: =VLOOKUP(AR56,options!$M$41:$N$45,2,FALSE) -> 3 | AT56: 3.Trung bình | AU56: =VLOOKUP(AT56,options!$M$41:$N$45,2,FALSE) -> 3 | AV56: 2.Liên quan | AX56: 3.Từ 4-6 triệu | AY56: 5. Trên 300 người | AZ56: Không | BB56: 2. Nhân viên chính thức | BD56: Không | BF56: =VLOOKUP(BE56,options!$S$39:$T$59,2,FALSE) -> #N/A | BQ56: =VLOOKUP(BP56,options!$V$31:$W$44,2,FALSE) -> #N/A | BS56: 2.Đồng ý | BT56: =VLOOKUP(BS56,options!$S$31:$T$35,2,FALSE) -> 4 | BU56: 3.Đồng ý phần nào | BV56: =VLOOKUP(BU56,options!$S$31:$T$35,2,FALSE) -> 3 | BW56: 2.Đồng ý | BX56: =VLOOKUP(BW56,options!$S$31:$T$35,2,FALSE) -> 4 | BY56: Tài liệu,chương trình (sách, v.v.) | BZ56: Trang thiết bị (máy móc, công cụ, v.v.) | CA56: Phương pháp giảng dạy của giáo viên | CC56: 3.Đồng ý phần nào | CD56: 3.Đồng ý phần nào | CE56: =VLOOKUP(CD56,options!$S$31:$T$35,2,FALSE) -> 3
A57: 56 | B57: Trường Cao đẳng Lý Tự Trọng thành Phố Hồ Chí Minh | C57: 14001099 | D57: Lâm | E57: Thanh | F57: Hảo | G57: 14CĐ - MT1 | H57: May - Thời trang | I57: Công nghệ May | J57: =VLOOKUP(I57,options!$R$65:$S$80,2,FALSE) -> Các ngành khác | K57: =VLOOKUP(I57,'Chuẩn hóa Ngànhnghề'!$A$4:$B$19,2,FALSE) -> Công nghệ May | L57: 4. Cao đẳng | M57: 442 Ấp Phước Hậu, ã Gia Bình | N57: Huyện Trảng Bom | O57: Tỉnh Tây Ninh | P57: 01623877602 | Q57: lam63499@gmail.com | R57: Nữ | S57: 1996 | T57: =2018-S57:S205 -> 22 | U57: =VLOOKUP(T57,'Nhóm tuổi'!$A$3:$B$9,2,FALSE) -> Dưới 25 tuổi | V57: 4.Cao đẳng | W57: Chưa | AA57: 5.Trung bình | AB57: A1.Làm công ăn lương | AC57: =VLOOKUP(AB57,options!$V$50:$W$55,2,FALSE) -> Đi làm | AD57: =VLOOKUP(AB57,options!$V$57:$W$62,2,FALSE) -> Có việc làm | AF57: 5. Sản xuất, phân phối điện, ga, nước | AH57: Công ty Brotex Việt Nam | AI57: Lô 34- 6 Đường D11, Khu Công nghiệp Phước Đông, | AJ57: Huyện Gò Dầu | AK57: Tây Ninh | AL57: 02763530999 | AM57: http://www.bros.com.cn | AN57: 48 | AO57: 3. Từ 1-3 tháng | AP57: Quan hệ cá nhân | AR57: 3.Trung bình | AS57: =VLOOKUP(AR57,options!$M$41:$N$45,2,FALSE) -> 3 | AT57: 3.Trung bình | AU57: =VLOOKUP(AT57,options!$M$41:$N$45,2,FALSE) -> 3 | AV57: 3.Không liên quan | AX57: 3.Từ 4-6 triệu | AY57: 5. Trên 300 người | AZ57: Không | BB57: 2. Nhân viên chính thức | BD57: Không | BF57: =VLOOKUP(BE57,options!$S$39:$T$59,2,FALSE) -> #N/A | BQ57: =VLOOKUP(BP57,options!$V$31:$W$44,2,FALSE) -> #N/A | BS57: 2.Đồng ý | BT57: =VLOOKUP(BS57,options!$S$31:$T$35,2,FALSE) -> 4 | BU57: 2.Đồng ý | BV57: =VLOOKUP(BU57,options!$S$31:$T$35,2,FALSE) -> 4 | BW57: 2.Đồng ý | BX57: =VLOOKUP(BW57,options!$S$31:$T$35,2,FALSE) -> 4 | BY57: Tài liệu,chương trình (sách, v.v.) | BZ57: Trang thiết bị (máy móc, công cụ, v.v.) | CA57: Phương pháp giảng dạy của giáo viên | CC57: 2.Đồng ý | CD57: 2.Đồng ý | CE57: =VLOOKUP(CD57,options!$S$31:$T$35,2,FALSE) -> 4
A58: 57 | B58: Trường Cao đẳng Lý Tự Trọng thành Phố Hồ Chí Minh | C58: 14001116 | D58: Lê | E58: Thị Yến | F58: Nhi | G58: 14CĐ - MT1 | H58: May - Thời trang | I58: Công nghệ May | J58: =VLOOKUP(I58,options!$R$65:$S$80,2,FALSE) -> Các ngành khác | K58: =VLOOKUP(I58,'Chuẩn hóa Ngànhnghề'!$A$4:$B$19,2,FALSE) -> Công nghệ May | L58: 4. Cao đẳng | M58: 778/32/29C Thống Nhất, Phường 15 | N58: Quận Gò Vấp | O58: Tp.hcm | P58: 0933279879 | Q58: leyennhi879@gmail.com | R58: Nữ | S58: 1996 | T58: =2018-S58:S206 -> 22 | U58: =VLOOKUP(T58,'Nhóm tuổi'!$A$3:$B$9,2,FALSE) -> Dưới 25 tuổi | V58: 4.Cao đẳng | W58: Chưa | AA58: 5.Trung bình | AB58: A2.Tự SX-KD | AC58: =VLOOKUP(AB58,options!$V$50:$W$55,2,FALSE) -> Đi làm | AD58: =VLOOKUP(AB58,options!$V$57:$W$62,2,FALSE) -> Có việc làm | AE58: Làm tại gia | AF58: 5. Sản xuất, phân phối điện, ga, nước | AI58: 778/32/29C Thống Nhất, Phường 15, | AJ58: Quận Gò Vấp | AK58: Tp.hcm | AL58: 0933279879 | AM58: leyennhi879gmail.com | AN58: 48 | AO58: 2.Dưới 1 tháng | AP58: Quan hệ cá nhân | AR58: 2.Tốt | AS58: =VLOOKUP(AR58,options!$M$41:$N$45,2,FALSE) -> 4 | AT58: 2.Tốt | AU58: =VLOOKUP(AT58,options!$M$41:$N$45,2,FALSE) -> 4 | AV58: 1.Có liên quan | AX58: 4. Từ 6-8 triệu | AY58: 2. Từ 2-10người | AZ58: Không | BB58: 2. Nhân viên chính thức | BD58: Không | BF58: =VLOOKUP(BE58,options!$S$39:$T$59,2,FALSE) -> #N/A | BQ58: =VLOOKUP(BP58,options!$V$31:$W$44,2,FALSE) -> #N/A | BS58: 1.Hoàn toàn đồng ý | BT58: =VLOOKUP(BS58,options!$S$31:$T$35,2,FALSE) -> 5 | BU58: 1.Hoàn toàn đồng ý | BV58: =VLOOKUP(BU58,options!$S$31:$T$35,2,FALSE) -> 5 | BW58: 1.Hoàn toàn đồng ý | BX58: =VLOOKUP(BW58,options!$S$31:$T$35,2,FALSE) -> 5 | BY58: Tài liệu,chương trình (sách, v.v.) | BZ58: Trang thiết bị (máy móc, công cụ, v.v.) | CA58: Thực tập/ thực hành tại doanh nghiệp | CC58: 2.Đồng ý | CD58: 2.Đồng ý | CE58: =VLOOKUP(CD58,options!$S$31:$T$35,2,FALSE) -> 4
A59: 58 | B59: Trường Cao đẳng Lý Tự Trọng thành Phố Hồ Chí Minh | C59: 14001105 | D59: Nguyễn | E59: Thu | F59: Hương | G59: 14CĐ - MT1 | H59: May - Thời trang | I59: Công nghệ May | J59: =VLOOKUP(I59,options!$R$65:$S$80,2,FALSE) -> Các ngành khác | K59: =VLOOKUP(I59,'Chuẩn hóa Ngànhnghề'!$A$4:$B$19,2,FALSE) -> Công nghệ May | L59: 4. Cao đẳng | M59: 49/16 Thuận Giao 2, Thuận Giao | N59: Thị Xã Thuận An | O59: Tỉnh Bình Dương | P59: 01629614587 | Q59: nangham95@gmail.com | R59: Nữ | S59: 1996 | T59: =2018-S59:S207 -> 22 | U59: =VLOOKUP(T59,'Nhóm tuổi'!$A$3:$B$9,2,FALSE) -> Dưới 25 tuổi | V59: 4.Cao đẳng | W59: Chưa | AA59: 5.Trung bình | AB59: A1.Làm công ăn lương | AC59: =VLOOKUP(AB59,options!$V$50:$W$55,2,FALSE) -> Đi làm | AD59: =VLOOKUP(AB59,options!$V$57:$W$62,2,FALSE) -> Có việc làm | AF59: 5. Sản xuất, phân phối điện, ga, nước | AH59: May Mặc Global Nam Phương | AI59: 1/433 Kp Hòa Lâm 2, Thuận Giao | AJ59: Huyện Thuận An | AK59: Bình Dương | AN59: 48 | AO59: 4.Trên 3 tháng | AP59: Qua quảng cáo trên báo/đài/TV | AR59: 2.Tốt | AS59: =VLOOKUP(AR59,options!$M$41:$N$45,2,FALSE) -> 4 | AT59: 2.Tốt | AU59: =VLOOKUP(AT59,options!$M$41:$N$45,2,FALSE) -> 4 | AV59: 2.Liên quan | AX59: 4. Từ 6-8 triệu | AY59: 5. Trên 300 người | AZ59: Có | BA59: 2. Từ 2-4 tuần | BB59: 2. Nhân viên chính thức | BD59: Không | BF59: =VLOOKUP(BE59,options!$S$39:$T$59,2,FALSE) -> #N/A | BQ59: =VLOOKUP(BP59,options!$V$31:$W$44,2,FALSE) -> #N/A | BS59: 2.Đồng ý | BT59: =VLOOKUP(BS59,options!$S$31:$T$35,2,FALSE) -> 4 | BU59: 2.Đồng ý | BV59: =VLOOKUP(BU59,options!$S$31:$T$35,2,FALSE) -> 4 | BW59: 3.Đồng ý phần nào | BX59: =VLOOKUP(BW59,options!$S$31:$T$35,2,FALSE) -> 3 | BY59: Thực tập/ thực hành tại doanh nghiệp | BZ59: Trang thiết bị (máy móc, công cụ, v.v.) | CA59: Khác | CB59: Máy móc ngành may hiện địa hơn | CC59: 3.Đồng ý phần nào | CD59: 3.Đồng ý phần nào | CE59: =VLOOKUP(CD59,options!$S$31:$T$35,2,FALSE) -> 3
A60: 59 | B60: Trường Cao đẳng Lý Tự Trọng thành Phố Hồ Chí Minh | C60: 14001106 | D60: Phạm | E60: Thị Mỹ | F60: Huyền | G60: 14CĐ - MT1 | H60: May - Thời trang | I60: Công nghệ May | J60: =VLOOKUP(I60,options!$R$65:$S$80,2,FALSE) -> Các ngành khác | K60: =VLOOKUP(I60,'Chuẩn hóa Ngànhnghề'!$A$4:$B$19,2,FALSE) -> Công nghệ May | L60: 4. Cao đẳng | M60: 1141/12/4 Kp, Phường Trung Mỹ Tây, | N60: Quận 12 | O60: Tp.hcm | P60: 01643994562 | Q60: huyenpham38837@gmail.com | R60: Nữ | S60: 1996 | T60: =2018-S60:S208 -> 22 | U60: =VLOOKUP(T60,'Nhóm tuổi'!$A$3:$B$9,2,FALSE) -> Dưới 25 tuổi | V60: 4.Cao đẳng | W60: Chưa | AA60: 3.Khá | AB60: A1.Làm công ăn lương | AC60: =VLOOKUP(AB60,options!$V$50:$W$55,2,FALSE) -> Đi làm | AD60: =VLOOKUP(AB60,options!$V$57:$W$62,2,FALSE) -> Có việc làm | AF60: 11.Khác, ghi cụ thể | AG60: Trợ lý thiết kế | AH60: Dynamie Sourcing(văn phòng đại diện) | AI60: 90A Nguyễn Văn Qúa, Phường Đông Hưng Thuận, | AJ60: Quận 12 | AK60: Tp.hcm | AN60: 48 | AO60: 2.Dưới 1 tháng | AP60: Qua quảng cáo trên báo/đài/TV | AR60: 2.Tốt | AS60: =VLOOKUP(AR60,options!$M$41:$N$45,2,FALSE) -> 4 | AT60: 3.Trung bình | AU60: =VLOOKUP(AT60,options!$M$41:$N$45,2,FALSE) -> 3 | AV60: 2.Liên quan | AX60: 4. Từ 6-8 triệu | AY60: 3. Từ 10-200 người | AZ60: Có | BA60: 5.Trên 8 tuần | BB60: 2. Nhân viên chính thức | BD60: Có | BE60: Quản trị nhân lực | BF60: =VLOOKUP(BE60,options!$S$39:$T$59,2,FALSE) -> Quản trị nhân lực | BG60: 1.Đại học | BQ60: =VLOOKUP(BP60,options!$V$31:$W$44,2,FALSE) -> #N/A | BS60: 3.Đồng ý phần nào | BT60: =VLOOKUP(BS60,options!$S$31:$T$35,2,FALSE) -> 3 | BU60: 4.Không đồng ý | BV60: =VLOOKUP(BU60,options!$S$31:$T$35,2,FALSE) -> 2 | BW60: 2.Đồng ý | BX60: =VLOOKUP(BW60,options!$S$31:$T$35,2,FALSE) -> 4 | BY60: Trang thiết bị (máy móc, công cụ, v.v.) | BZ60: Cơ sở vật chất (phòng học, thư việnv.v.) | CA60: Thực tập/ thực hành tại doanh nghiệp | CC60: 3.Đồng ý phần nào | CD60: 2.Đồng ý | CE60: =VLOOKUP(CD60,options!$S$31:$T$35,2,FALSE) -> 4
A61: 60 | B61: Trường Cao đẳng Lý Tự Trọng thành Phố Hồ Chí Minh | C61: 13D2040013 | D61: Nguyễn | E61: Thị Quỳnh | F61: Hoa | G61: 14CĐ - MT1 | H61: May - Thời trang | I61: Công nghệ May | J61: =VLOOKUP(I61,options!$R$65:$S$80,2,FALSE) -> Các ngành khác | K61: =VLOOKUP(I61,'Chuẩn hóa Ngànhnghề'!$A$4:$B$19,2,FALSE) -> Công nghệ May | L61: 4. Cao đẳng | M61: 70B Bác Ái, Phường Tân Thành | N61: Quận Tân Phú | O61: Tp.hcm | P61: 0936013330 | Q61: nguyenthiquynhhoa1011@gmail.com | R61: Nữ | S61: 1994 | T61: =2018-S61:S209 -> 24 | U61: =VLOOKUP(T61,'Nhóm tuổi'!$A$3:$B$9,2,FALSE) -> Dưới 25 tuổi | V61: 4.Cao đẳng | W61: Chưa | AA61: 5.Trung bình | AB61: B2.Đang đi học | AC61: =VLOOKUP(AB61,options!$V$50:$W$55,2,FALSE) -> Đang đi học (trọn giờ) | AD61: =VLOOKUP(AB61,options!$V$57:$W$62,2,FALSE) -> Đang đi học | AS61: =VLOOKUP(AR61,options!$M$41:$N$45,2,FALSE) -> #N/A | AU61: =VLOOKUP(AT61,options!$M$41:$N$45,2,FALSE) -> #N/A | BF61: =VLOOKUP(BE61,options!$S$39:$T$59,2,FALSE) -> #N/A | BN61: Học nâng cao trình độ | BO61: Trường Nhật Ngữ SaKura | BP61: Tiếng Nhật | BQ61: =VLOOKUP(BP61,options!$V$31:$W$44,2,FALSE) -> Ngôn ngữ Nhật | BR61: 4.Sơ cấp | BS61: 2.Đồng ý | BT61: =VLOOKUP(BS61,options!$S$31:$T$35,2,FALSE) -> 4 | BU61: 2.Đồng ý | BV61: =VLOOKUP(BU61,options!$S$31:$T$35,2,FALSE) -> 4 | BW61: 2.Đồng ý | BX61: =VLOOKUP(BW61,options!$S$31:$T$35,2,FALSE) -> 4 | BY61: Tài liệu,chương trình (sách, v.v.) | BZ61: Trang thiết bị (máy móc, công cụ, v.v.) | CA61: Thực tập/ thực hành tại doanh nghiệp | CC61: 3.Đồng ý phần nào | CD61: 2.Đồng ý | CE61: =VLOOKUP(CD61,options!$S$31:$T$35,2,FALSE) -> 4
A62: 61 | B62: Trường Cao đẳng Lý Tự Trọng thành Phố Hồ Chí Minh | C62: 14001109 | D62: Nguyễn | E62: Thị Thùy | F62: Linh | G62: 14CĐ - MT1 | H62: May - Thời trang | I62: Công nghệ May | J62: =VLOOKUP(I62,options!$R$65:$S$80,2,FALSE) -> Các ngành khác | K62: =VLOOKUP(I62,'Chuẩn hóa Ngànhnghề'!$A$4:$B$19,2,FALSE) -> Công nghệ May | L62: 4. Cao đẳng | M62: Tổ 3, Khối Thủ Đức | N62: Thị Trấn Bồng Sông, Huyện Hoài Nhơn | O62: Bình Định | P62: 0962112063 | Q62: linhnguyen17996@gmail | R62: Nữ | S62: 1996 | T62: =2018-S62:S210 -> 22 | U62: =VLOOKUP(T62,'Nhóm tuổi'!$A$3:$B$9,2,FALSE) -> Dưới 25 tuổi | V62: 4.Cao đẳng | W62: Chưa | AA62: 4.Trung bình khá | AB62: C.Không tìm được việc làm | AC62: =VLOOKUP(AB62,options!$V$50:$W$55,2,FALSE) -> Đang tìm việc (Không có việc làm) | AD62: =VLOOKUP(AB62,options!$V$57:$W$62,2,FALSE) -> Không tìm được việc làm | AS62: =VLOOKUP(AR62,options!$M$41:$N$45,2,FALSE) -> #N/A | AU62: =VLOOKUP(AT62,options!$M$41:$N$45,2,FALSE) -> #N/A | BF62: =VLOOKUP(BE62,options!$S$39:$T$59,2,FALSE) -> #N/A | BH62: Vì không tìm được việc làm đúng với ngành nghề được đào tạo | BI62: 3.Cả 2 công việc trên | BJ62: Kỹ năng nghề không đáp ứng được yêu cầu công việc | BK62: Ngoại ngữ không đạt | BL62: Thiếu kinh nghiệm làm việc | BQ62: =VLOOKUP(BP62,options!$V$31:$W$44,2,FALSE) -> #N/A | BS62: 2.Đồng ý | BT62: =VLOOKUP(BS62,options!$S$31:$T$35,2,FALSE) -> 4 | BU62: 2.Đồng ý | BV62: =VLOOKUP(BU62,options!$S$31:$T$35,2,FALSE) -> 4 | BW62: 4.Không đồng ý | BX62: =VLOOKUP(BW62,options!$S$31:$T$35,2,FALSE) -> 2 | BY62: Thực tập/ thực hành tại doanh nghiệp | BZ62: Kỹ năng thực hành của giáo viên | CC62: 3.Đồng ý phần nào | CD62: 2.Đồng ý | CE62: =VLOOKUP(CD62,options!$S$31:$T$35,2,FALSE) -> 4
A63: 62 | B63: Trường Cao đẳng Lý Tự Trọng thành Phố Hồ Chí Minh | C63: 14001102 | D63: Đỗ | E63: Thị Cẩm | F63: Hương | G63: 14CĐ - MT1 | H63: May - Thời trang | I63: Công nghệ May | J63: =VLOOKUP(I63,options!$R$65:$S$80,2,FALSE) -> Các ngành khác | K63: =VLOOKUP(I63,'Chuẩn hóa Ngànhnghề'!$A$4:$B$19,2,FALSE) -> Công nghệ May | L63: 4. Cao đẳng | M63: 710A Trường Chinh, Phường 15 | N63: Quận Tân Bình | O63: Tp.hcm | P63: 01689732368 | Q63: dohuong1295@gmail.com | R63: Nữ | S63: 1995 | T63: =2018-S63:S211 -> 23 | U63: =VLOOKUP(T63,'Nhóm tuổi'!$A$3:$B$9,2,FALSE) -> Dưới 25 tuổi | V63: 4.Cao đẳng | W63: Chưa | AA63: 5.Trung bình | AB63: A1.Làm công ăn lương | AC63: =VLOOKUP(AB63,options!$V$50:$W$55,2,FALSE) -> Đi làm | AD63: =VLOOKUP(AB63,options!$V$57:$W$62,2,FALSE) -> Có việc làm | AF63: 6.Thương mại & Dịch vụ (Bán buôn, bán lẻ) | AH63: Công ty TNHH Pacific Quality Control centre Việt Nam | AI63: 124 Điện Biên Phủ, Phường Đa Kao | AJ63: Quận 1 | AK63: Tp.hcm | AL63: 02838200305 | AM63: www.pqcjp.com | AN63: 48 | AO63: 4.Trên 3 tháng | AP63: Qua quảng cáo trên Internet | AR63: 3.Trung bình | AS63: =VLOOKUP(AR63,options!$M$41:$N$45,2,FALSE) -> 3 | AT63: 3.Trung bình | AU63: =VLOOKUP(AT63,options!$M$41:$N$45,2,FALSE) -> 3 | AV63: 1.Có liên quan | AX63: 2. Từ 2-4 triệu | AY63: 3. Từ 10-200 người | AZ63: Có | BA63: 1. Dưới 2 tuần | BB63: 1. Nhân viên trong thời gian thử việc (thợ học việc) | BD63: Có | BE63: Công nghệ May | BF63: =VLOOKUP(BE63,options!$S$39:$T$59,2,FALSE) -> Công nghệ May | BG63: 1.Đại học | BQ63: =VLOOKUP(BP63,options!$V$31:$W$44,2,FALSE) -> #N/A | BS63: 2.Đồng ý | BT63: =VLOOKUP(BS63,options!$S$31:$T$35,2,FALSE) -> 4 | BU63: 2.Đồng ý | BV63: =VLOOKUP(BU63,options!$S$31:$T$35,2,FALSE) -> 4 | BW63: 2.Đồng ý | BX63: =VLOOKUP(BW63,options!$S$31:$T$35,2,FALSE) -> 4 | BY63: Tài liệu,chương trình (sách, v.v.) | BZ63: Trang thiết bị (máy móc, công cụ, v.v.) | CC63: 2.Đồng ý | CD63: 2.Đồng ý | CE63: =VLOOKUP(CD63,options!$S$31:$T$35,2,FALSE) -> 4
A64: 63 | B64: Trường Cao đẳng Lý Tự Trọng thành Phố Hồ Chí Minh | C64: 14001056 | D64: Dương | E64: Minh | F64: Kha | G64: 14CĐ - Ô1 | H64: Động lực | I64: Công nghệ Ô Tô | J64: =VLOOKUP(I64,options!$R$65:$S$80,2,FALSE) -> Công nghệ Kỹ Thuật Ô Tô | K64: =VLOOKUP(I64,'Chuẩn hóa Ngànhnghề'!$A$4:$B$19,2,FALSE) -> Công nghệ Kỹ Thuật Ô Tô | L64: 4. Cao đẳng | M64: Đường Nguyễn Ái Quốc, Phường Quang Vinh | N64: Tp. Biên Hòa, Đồng Nai | O64: Đồng Nai | P64: 01867776871 | Q64: minhkhamun@gmail.com | R64: Nam | S64: 1996 | T64: =2018-S64:S212 -> 22 | U64: =VLOOKUP(T64,'Nhóm tuổi'!$A$3:$B$9,2,FALSE) -> Dưới 25 tuổi | V64: 4.Cao đẳng | W64: Chưa | AA64: 5.Trung bình | AB64: A1.Làm công ăn lương | AC64: =VLOOKUP(AB64,options!$V$50:$W$55,2,FALSE) -> Đi làm | AD64: =VLOOKUP(AB64,options!$V$57:$W$62,2,FALSE) -> Có việc làm | AF64: 6.Thương mại & Dịch vụ (Bán buôn, bán lẻ) | AH64: Công ty phát triển công cộng và dịch vụ công ích TP Biên Hòa | AI64: 290 Đường 30/4, Phường Thanh Bình | AJ64: Tp. Biên Hòa, Tỉnh Đồng Nai | AK64: Đồng Nai | AL64: 0613948668 | AN64: 48 | AO64: 2.Dưới 1 tháng | AP64: Quan hệ cá nhân | AR64: 2.Tốt | AS64: =VLOOKUP(AR64,options!$M$41:$N$45,2,FALSE) -> 4 | AT64: 2.Tốt | AU64: =VLOOKUP(AT64,options!$M$41:$N$45,2,FALSE) -> 4 | AV64: 2.Liên quan | AX64: 4. Từ 6-8 triệu | AY64: 4. Từ 200-300 người | AZ64: Có | BA64: 1. Dưới 2 tuần | BB64: 2. Nhân viên chính thức | BD64: Không | BF64: =VLOOKUP(BE64,options!$S$39:$T$59,2,FALSE) -> #N/A | BQ64: =VLOOKUP(BP64,options!$V$31:$W$44,2,FALSE) -> #N/A | BS64: 2.Đồng ý | BT64: =VLOOKUP(BS64,options!$S$31:$T$35,2,FALSE) -> 4 | BU64: 2.Đồng ý | BV64: =VLOOKUP(BU64,options!$S$31:$T$35,2,FALSE) -> 4 | BW64: 2.Đồng ý | BX64: =VLOOKUP(BW64,options!$S$31:$T$35,2,FALSE) -> 4 | BY64: Trang thiết bị (máy móc, công cụ, v.v.) | BZ64: Cơ sở vật chất (phòng học, thư việnv.v.) | CA64: Thực tập/ thực hành tại doanh nghiệp | CC64: 2.Đồng ý | CD64: 2.Đồng ý | CE64: =VLOOKUP(CD64,options!$S$31:$T$35,2,FALSE) -> 4
A65: 64 | B65: Trường Cao đẳng Lý Tự Trọng thành Phố Hồ Chí Minh | C65: 14000819 | D65: Dịp | E65: Chí | F65: Dũng | G65: 14CĐ - Ô1 | H65: Động lực | I65: Công nghệ Kỹ Thuật Ô Tô | J65: =VLOOKUP(I65,options!$R$65:$S$80,2,FALSE) -> Công nghệ Kỹ Thuật Ô Tô | K65: =VLOOKUP(I65,'Chuẩn hóa Ngànhnghề'!$A$4:$B$19,2,FALSE) -> Công nghệ Kỹ Thuật Ô Tô | L65: 4. Cao đẳng | M65: 416/6/11 Lạc Long Quân, Phường 15 | N65: Quận 11 | O65: Tp.hcm | P65: 01675998141 | Q65: chidungkv@gmail.com | R65: Nam | S65: 1996 | T65: =2018-S65:S213 -> 22 | U65: =VLOOKUP(T65,'Nhóm tuổi'!$A$3:$B$9,2,FALSE) -> Dưới 25 tuổi | V65: 4.Cao đẳng | W65: Chưa | AA65: 3.Khá | AB65: B1.Vừa học vừa làm | AC65: =VLOOKUP(AB65,options!$V$50:$W$55,2,FALSE) -> Đi làm | AD65: =VLOOKUP(AB65,options!$V$57:$W$62,2,FALSE) -> Có việc làm | AF65: 5. Sản xuất, phân phối điện, ga, nước | AH65: TNHH Ô TÔ ISUZU Việt Nam | AI65: 695 Quang Trung, Phường 8 | AJ65: Quận Gò Vấp | AK65: Tp.hcm | AL65: 0983902578 | AM65: ngocnguyen@isuzu-vietnam.com | AN65: 42.5 | AO65: 2.Dưới 1 tháng | AP65: Qua quảng cáo trên Internet | AR65: 2.Tốt | AS65: =VLOOKUP(AR65,options!$M$41:$N$45,2,FALSE) -> 4 | AT65: 3.Trung bình | AU65: =VLOOKUP(AT65,options!$M$41:$N$45,2,FALSE) -> 3 | AV65: 1.Có liên quan | AX65: 3.Từ 4-6 triệu | AY65: 5. Trên 300 người | AZ65: Không | BB65: 2. Nhân viên chính thức | BD65: Có | BE65: Công nghệ ô tô | BF65: =VLOOKUP(BE65,options!$S$39:$T$59,2,FALSE) -> Công nghệ kỹ thuật ô tô | BG65: 1.Đại học | BN65: Học nâng cao trình độ | BO65: Trường Đại học sư phạm Kỹ thuật TP.HCM | BP65: Công nghệ Ô tô | BQ65: =VLOOKUP(BP65,options!$V$31:$W$44,2,FALSE) -> Công nghệ Kỹ thuật Ô tô | BR65: 1.Đại học | BS65: 2.Đồng ý | BT65: =VLOOKUP(BS65,options!$S$31:$T$35,2,FALSE) -> 4 | BU65: 3.Đồng ý phần nào | BV65: =VLOOKUP(BU65,options!$S$31:$T$35,2,FALSE) -> 3 | BW65: 2.Đồng ý | BX65: =VLOOKUP(BW65,options!$S$31:$T$35,2,FALSE) -> 4 | BY65: Trang thiết bị (máy móc, công cụ, v.v.) | BZ65: Cơ sở vật chất (phòng học, thư việnv.v.) | CA65: Kỹ năng thực hành của giáo viên | CC65: 2.Đồng ý | CD65: 2.Đồng ý | CE65: =VLOOKUP(CD65,options!$S$31:$T$35,2,FALSE) -> 4
A66: 65 | B66: Trường Cao đẳng Lý Tự Trọng thành Phố Hồ Chí Minh | C66: 14000816 | D66: Trần | E66: Minh | F66: Cường | G66: 14CĐ - Ô1 | H66: Động lực | I66: Công nghệ Kỹ Thuật Ô Tô | J66: =VLOOKUP(I66,options!$R$65:$S$80,2,FALSE) -> Công nghệ Kỹ Thuật Ô Tô | K66: =VLOOKUP(I66,'Chuẩn hóa Ngànhnghề'!$A$4:$B$19,2,FALSE) -> Công nghệ Kỹ Thuật Ô Tô | L66: 4. Cao đẳng | M66: 84 Đường D11, Phường 13 | N66: Quận Tân Bình | O66: Tp.hcm | P66: 0965560905 | Q66: tranminhcuongbd54@gmail.com | R66: Nam | S66: 1996 | T66: =2018-S66:S214 -> 22 | U66: =VLOOKUP(T66,'Nhóm tuổi'!$A$3:$B$9,2,FALSE) -> Dưới 25 tuổi | V66: 4.Cao đẳng | W66: Chưa | AA66: 5.Trung bình | AB66: B1.Vừa học vừa làm | AC66: =VLOOKUP(AB66,options!$V$50:$W$55,2,FALSE) -> Đi làm | AD66: =VLOOKUP(AB66,options!$V$57:$W$62,2,FALSE) -> Có việc làm | AF66: 6.Thương mại & Dịch vụ (Bán buôn, bán lẻ) | AH66: Best car Việt Nam | AI66: 14 Phan Văn Trị, | AJ66: Quận Gò Vấp | AK66: Tp.hcm | AL66: 02838105014 | AN66: 48 | AO66: 3. Từ 1-3 tháng | AP66: Quan hệ cá nhân | AR66: 3.Trung bình | AS66: =VLOOKUP(AR66,options!$M$41:$N$45,2,FALSE) -> 3 | AT66: 3.Trung bình | AU66: =VLOOKUP(AT66,options!$M$41:$N$45,2,FALSE) -> 3 | AV66: 1.Có liên quan | AX66: 3.Từ 4-6 triệu | AY66: 3. Từ 10-200 người | AZ66: Có | BA66: 2. Từ 2-4 tuần | BB66: 2. Nhân viên chính thức | BD66: Có | BE66: Công nghệ ô tô | BF66: =VLOOKUP(BE66,options!$S$39:$T$59,2,FALSE) -> Công nghệ kỹ thuật ô tô | BG66: 1.Đại học | BN66: Học nâng cao trình độ | BO66: Trường Đại học sư phạm Kỹ thuật TP.HCM | BP66: Công nghệ Ô tô | BQ66: =VLOOKUP(BP66,options!$V$31:$W$44,2,FALSE) -> Công nghệ Kỹ thuật Ô tô | BR66: 1.Đại học | BS66: 1.Hoàn toàn đồng ý | BT66: =VLOOKUP(BS66,options!$S$31:$T$35,2,FALSE) -> 5 | BU66: 1.Hoàn toàn đồng ý | BV66: =VLOOKUP(BU66,options!$S$31:$T$35,2,FALSE) -> 5 | BW66: 1.Hoàn toàn đồng ý | BX66: =VLOOKUP(BW66,options!$S$31:$T$35,2,FALSE) -> 5 | BY66: Tài liệu,chương trình (sách, v.v.) | BZ66: Trang thiết bị (máy móc, công cụ, v.v.) | CA66: Thực tập/ thực hành tại doanh nghiệp | CC66: 2.Đồng ý | CD66: 2.Đồng ý | CE66: =VLOOKUP(CD66,options!$S$31:$T$35,2,FALSE) -> 4
A67: 66 | B67: Trường Cao đẳng Lý Tự Trọng thành Phố Hồ Chí Minh | C67: 13D2050003 | D67: Nguyễn | E67: Hồ Minh | F67: Anh | G67: 14CĐ - Ô1 | H67: Động lực | I67: Công nghệ Ô Tô | J67: =VLOOKUP(I67,options!$R$65:$S$80,2,FALSE) -> Công nghệ Kỹ Thuật Ô Tô | K67: =VLOOKUP(I67,'Chuẩn hóa Ngànhnghề'!$A$4:$B$19,2,FALSE) -> Công nghệ Kỹ Thuật Ô Tô | L67: 4. Cao đẳng | M67: 01 Đường Hùng Vương, Phường Xuân An, | N67: Long Khánh | O67: Đồng Nai | P67: 01649922730 | Q67: minhanhtilover191295@gmail.com | R67: Nam | S67: 1995 | T67: =2018-S67:S215 -> 23 | U67: =VLOOKUP(T67,'Nhóm tuổi'!$A$3:$B$9,2,FALSE) -> Dưới 25 tuổi | V67: 4.Cao đẳng | W67: Chưa | AA67: 4.Trung bình khá | AB67: A1.Làm công ăn lương | AC67: =VLOOKUP(AB67,options!$V$50:$W$55,2,FALSE) -> Đi làm | AD67: =VLOOKUP(AB67,options!$V$57:$W$62,2,FALSE) -> Có việc làm | AF67: 6.Thương mại & Dịch vụ (Bán buôn, bán lẻ) | AH67: Thế giới di động | AI67: 116 Hồ Thị Hương | AJ67: Thị Xã Long Khánh | AK67: Đồng Nai | AL67: 18001060 | AM67: http://www.thegioididong.com | AN67: 48 | AO67: 4.Trên 3 tháng | AP67: Qua quảng cáo trên Internet | AR67: 2.Tốt | AS67: =VLOOKUP(AR67,options!$M$41:$N$45,2,FALSE) -> 4 | AT67: 2.Tốt | AU67: =VLOOKUP(AT67,options!$M$41:$N$45,2,FALSE) -> 4 | AV67: 3.Không liên quan | AX67: 4. Từ 6-8 triệu | AY67: 3. Từ 10-200 người | AZ67: Có | BA67: 2. Từ 2-4 tuần | BB67: 2. Nhân viên chính thức | BD67: Không | BF67: =VLOOKUP(BE67,options!$S$39:$T$59,2,FALSE) -> #N/A | BQ67: =VLOOKUP(BP67,options!$V$31:$W$44,2,FALSE) -> #N/A | BS67: 2.Đồng ý | BT67: =VLOOKUP(BS67,options!$S$31:$T$35,2,FALSE) -> 4 | BU67: 2.Đồng ý | BV67: =VLOOKUP(BU67,options!$S$31:$T$35,2,FALSE) -> 4 | BW67: 1.Hoàn toàn đồng ý | BX67: =VLOOKUP(BW67,options!$S$31:$T$35,2,FALSE) -> 5 | BY67: Thực tập/ thực hành tại doanh nghiệp | BZ67: Phương pháp giảng dạy của giáo viên | CA67: Kỹ năng thực hành của giáo viên | CC67: 2.Đồng ý | CD67: 2.Đồng ý | CE67: =VLOOKUP(CD67,options!$S$31:$T$35,2,FALSE) -> 4
A68: 67 | B68: Trường Cao đẳng Lý Tự Trọng thành Phố Hồ Chí Minh | C68: 14000817 | D68: Phạm | E68: Công | F68: Danh | G68: 14CĐ - Ô1 | H68: Động lực | I68: Công nghệ Ô Tô | J68: =VLOOKUP(I68,options!$R$65:$S$80,2,FALSE) -> Công nghệ Kỹ Thuật Ô Tô | K68: =VLOOKUP(I68,'Chuẩn hóa Ngànhnghề'!$A$4:$B$19,2,FALSE) -> Công nghệ Kỹ Thuật Ô Tô | L68: 4. Cao đẳng | M68: 57/6K Ấp 3, Xã Xuân Thới Thượng | N68: Huyện Hóc Môn, | O68: Tp.hcm | P68: 01644930092 | Q68: congdanh0987654321@gmail.com | R68: Nam | S68: 1996 | T68: =2018-S68:S216 -> 22 | U68: =VLOOKUP(T68,'Nhóm tuổi'!$A$3:$B$9,2,FALSE) -> Dưới 25 tuổi | V68: 4.Cao đẳng | W68: Chưa | AA68: 5.Trung bình | AB68: A1.Làm công ăn lương | AC68: =VLOOKUP(AB68,options!$V$50:$W$55,2,FALSE) -> Đi làm | AD68: =VLOOKUP(AB68,options!$V$57:$W$62,2,FALSE) -> Có việc làm | AF68: 5. Sản xuất, phân phối điện, ga, nước | AH68: Mecederben- Việt nam | AI68: 693 Quang Trung, Phường 8 | AJ68: Quận Gò Vấp | AK68: Tp.hcm | AL68: 02835889100 | AM68: recruitment_mbv@daimler.com | AN68: 42 | AO68: 4.Trên 3 tháng | AP68: Quan hệ cá nhân | AR68: 2.Tốt | AS68: =VLOOKUP(AR68,options!$M$41:$N$45,2,FALSE) -> 4 | AT68: 2.Tốt | AU68: =VLOOKUP(AT68,options!$M$41:$N$45,2,FALSE) -> 4 | AV68: 1.Có liên quan | AX68: 3.Từ 4-6 triệu | AY68: 5. Trên 300 người | AZ68: Có | BA68: 2. Từ 2-4 tuần | BB68: 2. Nhân viên chính thức | BD68: Không | BF68: =VLOOKUP(BE68,options!$S$39:$T$59,2,FALSE) -> #N/A | BQ68: =VLOOKUP(BP68,options!$V$31:$W$44,2,FALSE) -> #N/A | BS68: 1.Hoàn toàn đồng ý | BT68: =VLOOKUP(BS68,options!$S$31:$T$35,2,FALSE) -> 5 | BU68: 2.Đồng ý | BV68: =VLOOKUP(BU68,options!$S$31:$T$35,2,FALSE) -> 4 | BW68: 2.Đồng ý | BX68: =VLOOKUP(BW68,options!$S$31:$T$35,2,FALSE) -> 4 | BY68: Tài liệu,chương trình (sách, v.v.) | BZ68: Thực tập/ thực hành tại doanh nghiệp | CA68: Kỹ năng thực hành của giáo viên | CC68: 1.Hoàn toàn đồng ý | CD68: 1.Hoàn toàn đồng ý | CE68: =VLOOKUP(CD68,options!$S$31:$T$35,2,FALSE) -> 5
A69: 68 | B69: Trường Cao đẳng Lý Tự Trọng thành Phố Hồ Chí Minh | C69: 14000825 | D69: Trần | E69: Tiến | F69: Đạt | G69: 14CĐ - Ô1 | H69: Động lực | I69: Công nghệ Ô Tô | J69: =VLOOKUP(I69,options!$R$65:$S$80,2,FALSE) -> Công nghệ Kỹ Thuật Ô Tô | K69: =VLOOKUP(I69,'Chuẩn hóa Ngànhnghề'!$A$4:$B$19,2,FALSE) -> Công nghệ Kỹ Thuật Ô Tô | L69: 4. Cao đẳng | M69: 49/18/1 KP9, Phường Tân Chánh Hiệp | N69: Quận 12 | O69: Tp.hcm | P69: 0902146145 | R69: Nam | S69: 1996 | T69: =2018-S69:S217 -> 22 | U69: =VLOOKUP(T69,'Nhóm tuổi'!$A$3:$B$9,2,FALSE) -> Dưới 25 tuổi | V69: 4.Cao đẳng | W69: Chưa | AA69: 5.Trung bình | AB69: A1.Làm công ăn lương | AC69: =VLOOKUP(AB69,options!$V$50:$W$55,2,FALSE) -> Đi làm | AD69: =VLOOKUP(AB69,options!$V$57:$W$62,2,FALSE) -> Có việc làm | AF69: 5. Sản xuất, phân phối điện, ga, nước | AH69: Mecederben- Việt nam | AI69: 693 Quang Trung, Phường 8 | AJ69: Quận Gò Vấp | AK69: Tp.hcm | AL69: 02835889100 | AM69: recruitment_mbe@daimler.com | AN69: 42 | AO69: 4.Trên 3 tháng | AP69: Quan hệ cá nhân | AR69: 2.Tốt | AS69: =VLOOKUP(AR69,options!$M$41:$N$45,2,FALSE) -> 4 | AT69: 2.Tốt | AU69: =VLOOKUP(AT69,options!$M$41:$N$45,2,FALSE) -> 4 | AV69: 2.Liên quan | AX69: 4. Từ 6-8 triệu | AY69: 5. Trên 300 người | AZ69: Có | BA69: 2. Từ 2-4 tuần | BB69: 2. Nhân viên chính thức | BD69: Không | BF69: =VLOOKUP(BE69,options!$S$39:$T$59,2,FALSE) -> #N/A | BQ69: =VLOOKUP(BP69,options!$V$31:$W$44,2,FALSE) -> #N/A | BS69: 2.Đồng ý | BT69: =VLOOKUP(BS69,options!$S$31:$T$35,2,FALSE) -> 4 | BU69: 2.Đồng ý | BV69: =VLOOKUP(BU69,options!$S$31:$T$35,2,FALSE) -> 4 | BW69: 2.Đồng ý | BX69: =VLOOKUP(BW69,options!$S$31:$T$35,2,FALSE) -> 4 | BY69: Tài liệu,chương trình (sách, v.v.) | BZ69: Thực tập/ thực hành tại doanh nghiệp | CA69: Kỹ năng thực hành của giáo viên | CC69: 1.Hoàn toàn đồng ý | CD69: 1.Hoàn toàn đồng ý | CE69: =VLOOKUP(CD69,options!$S$31:$T$35,2,FALSE) -> 5
A70: 69 | B70: Trường Cao đẳng Lý Tự Trọng thành Phố Hồ Chí Minh | C70: 14001044 | D70: Phạm | E70: Đình | F70: Duy | G70: 14CĐ - Ô1 | H70: Động lực | I70: Công nghệ Ô Tô | J70: =VLOOKUP(I70,options!$R$65:$S$80,2,FALSE) -> Công nghệ Kỹ Thuật Ô Tô | K70: =VLOOKUP(I70,'Chuẩn hóa Ngànhnghề'!$A$4:$B$19,2,FALSE) -> Công nghệ Kỹ Thuật Ô Tô | L70: 4. Cao đẳng | M70: Hồ Đắc Di, Phường Tây Thạnh | N70: Quận Tân Phú | O70: Tp.hcm | P70: 0973706971 | Q70: phamdinhduy131@gmail.com | R70: Nam | S70: 1993 | T70: =2018-S70:S218 -> 25 | U70: =VLOOKUP(T70,'Nhóm tuổi'!$A$3:$B$9,2,FALSE) -> Từ 25 đến 30 tuổi | V70: 4.Cao đẳng | W70: Chưa | AA70: 5.Trung bình | AB70: B1.Vừa học vừa làm | AC70: =VLOOKUP(AB70,options!$V$50:$W$55,2,FALSE) -> Đi làm | AD70: =VLOOKUP(AB70,options!$V$57:$W$62,2,FALSE) -> Có việc làm | AF70: 6.Thương mại & Dịch vụ (Bán buôn, bán lẻ) | AH70: Tại gia | AI70: Hồ Đắc Di, Phường tây Thạnh | AJ70: Quận Tân Phú | AK70: Tp.hcm | AL70: 0973706971 | AM70: phamdinhduy131@gmail.com | AN70: 48 | AO70: 4.Trên 3 tháng | AP70: Quan hệ cá nhân | AR70: 2.Tốt | AS70: =VLOOKUP(AR70,options!$M$41:$N$45,2,FALSE) -> 4 | AT70: 2.Tốt | AU70: =VLOOKUP(AT70,options!$M$41:$N$45,2,FALSE) -> 4 | AV70: 1.Có liên quan | AX70: 1.Dưới 2 triệu | AY70: 2. Từ 2-10người | AZ70: Có | BA70: 5.Trên 8 tuần | BB70: 1. Nhân viên trong thời gian thử việc (thợ học việc) | BD70: Có | BE70: Công nghệ Ô tô | BF70: =VLOOKUP(BE70,options!$S$39:$T$59,2,FALSE) -> Công nghệ kỹ thuật ô tô | BG70: 1.Đại học | BN70: Học nâng cao trình độ | BO70: Trường Đại học sư phạm Kỹ thuật TP.HCM | BP70: Công nghệ Ô tô | BQ70: =VLOOKUP(BP70,options!$V$31:$W$44,2,FALSE) -> Công nghệ Kỹ thuật Ô tô | BR70: 1.Đại học | BS70: 1.Hoàn toàn đồng ý | BT70: =VLOOKUP(BS70,options!$S$31:$T$35,2,FALSE) -> 5 | BU70: 2.Đồng ý | BV70: =VLOOKUP(BU70,options!$S$31:$T$35,2,FALSE) -> 4 | BW70: 2.Đồng ý | BX70: =VLOOKUP(BW70,options!$S$31:$T$35,2,FALSE) -> 4 | BY70: Tài liệu,chương trình (sách, v.v.) | BZ70: Thực tập/ thực hành tại doanh nghiệp | CA70: Kỹ năng thực hành của giáo viên | CC70: 1.Hoàn toàn đồng ý | CD70: 1.Hoàn toàn đồng ý | CE70: =VLOOKUP(CD70,options!$S$31:$T$35,2,FALSE) -> 5
A71: 70 | B71: Trường Cao đẳng Lý Tự Trọng thành Phố Hồ Chí Minh | C71: 14001043 | D71: Nguyễn | E71: Ngọc | F71: Duy | G71: 14CĐ - Ô1 | H71: Động lực | I71: Công nghệ Ô tô | J71: =VLOOKUP(I71,options!$R$65:$S$80,2,FALSE) -> Công nghệ Kỹ Thuật Ô Tô | K71: =VLOOKUP(I71,'Chuẩn hóa Ngànhnghề'!$A$4:$B$19,2,FALSE) -> Công nghệ Kỹ Thuật Ô Tô | L71: 4. Cao đẳng | M71: 229 Nguyên Chí Thanh, Xã Tân Bình | N71: Tx. LaGi | O71: Tỉnh Bình Thuận | P71: 01682030235 | Q71: nguyenngocduy224786@gmail.com | R71: Nam | S71: 1996 | T71: =2018-S71:S219 -> 22 | U71: =VLOOKUP(T71,'Nhóm tuổi'!$A$3:$B$9,2,FALSE) -> Dưới 25 tuổi | V71: 4.Cao đẳng | W71: Chưa | AA71: 5.Trung bình | AB71: C.Không tìm được việc làm | AC71: =VLOOKUP(AB71,options!$V$50:$W$55,2,FALSE) -> Đang tìm việc (Không có việc làm) | AD71: =VLOOKUP(AB71,options!$V$57:$W$62,2,FALSE) -> Không tìm được việc làm | AS71: =VLOOKUP(AR71,options!$M$41:$N$45,2,FALSE) -> #N/A | AU71: =VLOOKUP(AT71,options!$M$41:$N$45,2,FALSE) -> #N/A | BF71: =VLOOKUP(BE71,options!$S$39:$T$59,2,FALSE) -> #N/A | BH71: Lý do khác | BI71: 1.CV liên quan đến nghề được đào tạo | BJ71: Ngành nghề được đào tạo đang dư thừa lao động trên thị trường | BK71: Ngoại ngữ không đạt | BL71: Thiếu kinh nghiệm làm việc | BQ71: =VLOOKUP(BP71,options!$V$31:$W$44,2,FALSE) -> #N/A | BS71: 2.Đồng ý | BT71: =VLOOKUP(BS71,options!$S$31:$T$35,2,FALSE) -> 4 | BU71: 2.Đồng ý | BV71: =VLOOKUP(BU71,options!$S$31:$T$35,2,FALSE) -> 4 | BW71: 3.Đồng ý phần nào | BX71: =VLOOKUP(BW71,options!$S$31:$T$35,2,FALSE) -> 3 | BY71: Tài liệu,chương trình (sách, v.v.) | BZ71: Cơ sở vật chất (phòng học, thư việnv.v.) | CA71: Thực tập/ thực hành tại doanh nghiệp | CC71: 2.Đồng ý | CD71: 2.Đồng ý | CE71: =VLOOKUP(CD71,options!$S$31:$T$35,2,FALSE) -> 4
A72: 71 | B72: Trường Cao đẳng Lý Tự Trọng thành Phố Hồ Chí Minh | C72: 14000860 | D72: Võ | E72: Đoàn | F72: Triều | G72: 14CĐ - Ô1 | H72: Động lực | I72: Công nghệ Ô Tô | J72: =VLOOKUP(I72,options!$R$65:$S$80,2,FALSE) -> Công nghệ Kỹ Thuật Ô Tô | K72: =VLOOKUP(I72,'Chuẩn hóa Ngànhnghề'!$A$4:$B$19,2,FALSE) -> Công nghệ Kỹ Thuật Ô Tô | L72: 4. Cao đẳng | M72: 27 Nguyễn Thị Thập, Phường Tân Phú, | N72: Quận 7 | O72: Tp.hcm | P72: 0967039503 | Q72: trieupingu060796@gmail | R72: Nam | S72: 1996 | T72: =2018-S72:S220 -> 22 | U72: =VLOOKUP(T72,'Nhóm tuổi'!$A$3:$B$9,2,FALSE) -> Dưới 25 tuổi | V72: 4.Cao đẳng | W72: Chưa | AA72: 4.Trung bình khá | AB72: C.Không tìm được việc làm | AC72: =VLOOKUP(AB72,options!$V$50:$W$55,2,FALSE) -> Đang tìm việc (Không có việc làm) | AD72: =VLOOKUP(AB72,options!$V$57:$W$62,2,FALSE) -> Không tìm được việc làm | AS72: =VLOOKUP(AR72,options!$M$41:$N$45,2,FALSE) -> #N/A | AU72: =VLOOKUP(AT72,options!$M$41:$N$45,2,FALSE) -> #N/A | BF72: =VLOOKUP(BE72,options!$S$39:$T$59,2,FALSE) -> #N/A | BH72: Vì không tìm được việc làm đúng với ngành nghề được đào tạo | BI72: 1.CV liên quan đến nghề được đào tạo | BJ72: Kỹ năng nghề không đáp ứng được yêu cầu công việc | BK72: Ngoại ngữ không đạt | BL72: Thiếu thông tin về việc làm | BQ72: =VLOOKUP(BP72,options!$V$31:$W$44,2,FALSE) -> #N/A | BS72: 2.Đồng ý | BT72: =VLOOKUP(BS72,options!$S$31:$T$35,2,FALSE) -> 4 | BU72: 2.Đồng ý | BV72: =VLOOKUP(BU72,options!$S$31:$T$35,2,FALSE) -> 4 | BW72: 2.Đồng ý | BX72: =VLOOKUP(BW72,options!$S$31:$T$35,2,FALSE) -> 4 | BY72: Tài liệu,chương trình (sách, v.v.) | BZ72: Trang thiết bị (máy móc, công cụ, v.v.) | CA72: Thực tập/ thực hành tại doanh nghiệp | CC72: 2.Đồng ý | CD72: 2.Đồng ý | CE72: =VLOOKUP(CD72,options!$S$31:$T$35,2,FALSE) -> 4
A73: 72 | B73: Trường Cao đẳng Lý Tự Trọng thành Phố Hồ Chí Minh | C73: 14000859 | D73: Nguyễn | E73: Xuân | F73: Thiện | G73: 14CĐ - Ô1 | H73: Động lực | I73: Công nghệ Ô Tô | J73: =VLOOKUP(I73,options!$R$65:$S$80,2,FALSE) -> Công nghệ Kỹ Thuật Ô Tô | K73: =VLOOKUP(I73,'Chuẩn hóa Ngànhnghề'!$A$4:$B$19,2,FALSE) -> Công nghệ Kỹ Thuật Ô Tô | L73: 4. Cao đẳng | M73: Hẻm 207 Lạc Long Quân, Phường 3 | N73: Quận 11 | O73: Tp.hcm | P73: 0969388751 | R73: Nam | S73: 1994 | T73: =2018-S73:S221 -> 24 | U73: =VLOOKUP(T73,'Nhóm tuổi'!$A$3:$B$9,2,FALSE) -> Dưới 25 tuổi | V73: 4.Cao đẳng | W73: Chưa | AA73: 5.Trung bình | AB73: A2.Tự SX-KD | AC73: =VLOOKUP(AB73,options!$V$50:$W$55,2,FALSE) -> Đi làm | AD73: =VLOOKUP(AB73,options!$V$57:$W$62,2,FALSE) -> Có việc làm | AE73: Làm nghề tự do | AF73: 4. Xây dựng | AH73: Tại gia | AI73: Hẻm 207 Lạc Long Quân, Phường 3 | AJ73: Quận 11 | AK73: Tp.hcm | AL73: 0969388751 | AN73: 20 | AO73: 3. Từ 1-3 tháng | AP73: Qua quảng cáo trên Internet | AR73: 5.Rất kém | AS73: =VLOOKUP(AR73,options!$M$41:$N$45,2,FALSE) -> 1 | AT73: 4.Kém | AU73: =VLOOKUP(AT73,options!$M$41:$N$45,2,FALSE) -> 2 | AV73: 3.Không liên quan | AX73: 3.Từ 4-6 triệu | AY73: 2. Từ 2-10người | AZ73: Có | BB73: 5. Vị trí khác | BC73: Có việc thì làm | BD73: Không | BF73: =VLOOKUP(BE73,options!$S$39:$T$59,2,FALSE) -> #N/A | BQ73: =VLOOKUP(BP73,options!$V$31:$W$44,2,FALSE) -> #N/A | BS73: 3.Đồng ý phần nào | BT73: =VLOOKUP(BS73,options!$S$31:$T$35,2,FALSE) -> 3 | BU73: 3.Đồng ý phần nào | BV73: =VLOOKUP(BU73,options!$S$31:$T$35,2,FALSE) -> 3 | BW73: 4.Không đồng ý | BX73: =VLOOKUP(BW73,options!$S$31:$T$35,2,FALSE) -> 2 | BY73: Tài liệu,chương trình (sách, v.v.) | BZ73: Thực tập/ thực hành tại doanh nghiệp | CA73: Phương pháp giảng dạy của giáo viên | CC73: 3.Đồng ý phần nào | CD73: 3.Đồng ý phần nào | CE73: =VLOOKUP(CD73,options!$S$31:$T$35,2,FALSE) -> 3
A74: 73 | B74: Trường Cao đẳng Lý Tự Trọng thành Phố Hồ Chí Minh | C74: 14000858 | D74: Lê | E74: Công | F74: Thành | G74: 14CĐ - Ô1 | H74: Động lực | I74: Công nghệ Ô Tô | J74: =VLOOKUP(I74,options!$R$65:$S$80,2,FALSE) -> Công nghệ Kỹ Thuật Ô Tô | K74: =VLOOKUP(I74,'Chuẩn hóa Ngànhnghề'!$A$4:$B$19,2,FALSE) -> Công nghệ Kỹ Thuật Ô Tô | L74: 4. Cao đẳng | M74: 111 Đào Duy Anh, Phường 9 | N74: Quận Phú Nhuận | O74: Tp.hcm | P74: 01697639925 | R74: Nam | S74: 1996 | T74: =2018-S74:S222 -> 22 | U74: =VLOOKUP(T74,'Nhóm tuổi'!$A$3:$B$9,2,FALSE) -> Dưới 25 tuổi | V74: 4.Cao đẳng | W74: Chưa | AA74: 5.Trung bình | AB74: C.Không tìm được việc làm | AC74: =VLOOKUP(AB74,options!$V$50:$W$55,2,FALSE) -> Đang tìm việc (Không có việc làm) | AD74: =VLOOKUP(AB74,options!$V$57:$W$62,2,FALSE) -> Không tìm được việc làm | AS74: =VLOOKUP(AR74,options!$M$41:$N$45,2,FALSE) -> #N/A | AU74: =VLOOKUP(AT74,options!$M$41:$N$45,2,FALSE) -> #N/A | BF74: =VLOOKUP(BE74,options!$S$39:$T$59,2,FALSE) -> #N/A | BH74: Lý do khác | BI74: 3.Cả 2 công việc trên | BJ74: Kỹ năng nghề không đáp ứng được yêu cầu công việc | BK74: Ngoại ngữ không đạt | BL74: Thiếu kinh nghiệm làm việc | BQ74: =VLOOKUP(BP74,options!$V$31:$W$44,2,FALSE) -> #N/A | BS74: 2.Đồng ý | BT74: =VLOOKUP(BS74,options!$S$31:$T$35,2,FALSE) -> 4 | BU74: 2.Đồng ý | BV74: =VLOOKUP(BU74,options!$S$31:$T$35,2,FALSE) -> 4 | BW74: 2.Đồng ý | BX74: =VLOOKUP(BW74,options!$S$31:$T$35,2,FALSE) -> 4 | BY74: Trang thiết bị (máy móc, công cụ, v.v.) | BZ74: Thực tập/ thực hành tại doanh nghiệp | CA74: Kỹ năng thực hành của giáo viên | CC74: 2.Đồng ý | CD74: 2.Đồng ý | CE74: =VLOOKUP(CD74,options!$S$31:$T$35,2,FALSE) -> 4
A75: 74 | B75: Trường Cao đẳng Lý Tự Trọng thành Phố Hồ Chí Minh | C75: 14000857 | D75: Nguyễn | E75: Lê Minh | F75: Tân | G75: 14CĐ - Ô1 | H75: Động lực | I75: Công nghệ Ô Tô | J75: =VLOOKUP(I75,options!$R$65:$S$80,2,FALSE) -> Công nghệ Kỹ Thuật Ô Tô | K75: =VLOOKUP(I75,'Chuẩn hóa Ngànhnghề'!$A$4:$B$19,2,FALSE) -> Công nghệ Kỹ Thuật Ô Tô | L75: 4. Cao đẳng | M75: 183/4 Quốc Lộ 1K, Phường Linh Xuân | N75: Quận Thủ Đức | O75: Tp.hcm | P75: 0979966549 | Q75: minhtan239@gmail.com | R75: Nam | S75: 1996 | T75: =2018-S75:S223 -> 22 | U75: =VLOOKUP(T75,'Nhóm tuổi'!$A$3:$B$9,2,FALSE) -> Dưới 25 tuổi | V75: 4.Cao đẳng | W75: Chưa | AA75: 5.Trung bình | AB75: B2.Đang đi học | AC75: =VLOOKUP(AB75,options!$V$50:$W$55,2,FALSE) -> Đang đi học (trọn giờ) | AD75: =VLOOKUP(AB75,options!$V$57:$W$62,2,FALSE) -> Đang đi học | AS75: =VLOOKUP(AR75,options!$M$41:$N$45,2,FALSE) -> #N/A | AU75: =VLOOKUP(AT75,options!$M$41:$N$45,2,FALSE) -> #N/A | BF75: =VLOOKUP(BE75,options!$S$39:$T$59,2,FALSE) -> #N/A | BN75: Học nâng cao trình độ | BO75: Trường Đại học sư phạm Kỹ thuật TP.HCM | BP75: Công nghệ Ô tô | BQ75: =VLOOKUP(BP75,options!$V$31:$W$44,2,FALSE) -> Công nghệ Kỹ thuật Ô tô | BR75: 1.Đại học | BS75: 2.Đồng ý | BT75: =VLOOKUP(BS75,options!$S$31:$T$35,2,FALSE) -> 4 | BU75: 2.Đồng ý | BV75: =VLOOKUP(BU75,options!$S$31:$T$35,2,FALSE) -> 4 | BW75: 2.Đồng ý | BX75: =VLOOKUP(BW75,options!$S$31:$T$35,2,FALSE) -> 4 | BY75: Tài liệu,chương trình (sách, v.v.) | BZ75: Trang thiết bị (máy móc, công cụ, v.v.) | CA75: Phương pháp giảng dạy của giáo viên | CC75: 2.Đồng ý | CD75: 2.Đồng ý | CE75: =VLOOKUP(CD75,options!$S$31:$T$35,2,FALSE) -> 4
A76: 75 | B76: Trường Cao đẳng Lý Tự Trọng thành Phố Hồ Chí Minh | C76: 14000829 | D76: Nguyễn | E76: Thái | F76: Hòa | G76: 14CĐ - Ô1 | H76: Động lực | I76: Công nghệ Ô Tô | J76: =VLOOKUP(I76,options!$R$65:$S$80,2,FALSE) -> Công nghệ Kỹ Thuật Ô Tô | K76: =VLOOKUP(I76,'Chuẩn hóa Ngànhnghề'!$A$4:$B$19,2,FALSE) -> Công nghệ Kỹ Thuật Ô Tô | L76: 4. Cao đẳng | M76: 2/5B Trần Văn Mười, Xã Xuân Thới Đông 1, | N76: Huyện Hóc Môn | O76: Tp.hcm | P76: 0969240713 | Q76: nguyenthaihoa2509@gmail | R76: Nam | S76: 1996 | T76: =2018-S76:S224 -> 22 | U76: =VLOOKUP(T76,'Nhóm tuổi'!$A$3:$B$9,2,FALSE) -> Dưới 25 tuổi | V76: 4.Cao đẳng | W76: Chưa | AA76: 5.Trung bình | AB76: A2.Tự SX-KD | AC76: =VLOOKUP(AB76,options!$V$50:$W$55,2,FALSE) -> Đi làm | AD76: =VLOOKUP(AB76,options!$V$57:$W$62,2,FALSE) -> Có việc làm | AF76: 5. Sản xuất, phân phối điện, ga, nước | AH76: Tại gia | AI76: 2/5B Trần Văn Mười, Xuân Thới Đông 1 | AJ76: Hốc Môn | AK76: Tp.hcm | AL76: 0969240713 | AM76: nguyenthaihoa2509@gmail | AN76: 48 | AO76: 4.Trên 3 tháng | AP76: Quan hệ cá nhân | AR76: 2.Tốt | AS76: =VLOOKUP(AR76,options!$M$41:$N$45,2,FALSE) -> 4 | AT76: 2.Tốt | AU76: =VLOOKUP(AT76,options!$M$41:$N$45,2,FALSE) -> 4 | AV76: 3.Không liên quan | AX76: 4. Từ 6-8 triệu | AY76: 2. Từ 2-10người | AZ76: Có | BA76: 2. Từ 2-4 tuần | BB76: 2. Nhân viên chính thức | BD76: Không | BF76: =VLOOKUP(BE76,options!$S$39:$T$59,2,FALSE) -> #N/A | BQ76: =VLOOKUP(BP76,options!$V$31:$W$44,2,FALSE) -> #N/A | BS76: 2.Đồng ý | BT76: =VLOOKUP(BS76,options!$S$31:$T$35,2,FALSE) -> 4 | BU76: 2.Đồng ý | BV76: =VLOOKUP(BU76,options!$S$31:$T$35,2,FALSE) -> 4 | BW76: 2.Đồng ý | BX76: =VLOOKUP(BW76,options!$S$31:$T$35,2,FALSE) -> 4 | BY76: Cơ sở vật chất (phòng học, thư việnv.v.) | BZ76: Phương pháp giảng dạy của giáo viên | CC76: 2.Đồng ý | CD76: 2.Đồng ý | CE76: =VLOOKUP(CD76,options!$S$31:$T$35,2,FALSE) -> 4
A77: 76 | B77: Trường Cao đẳng Lý Tự Trọng thành Phố Hồ Chí Minh | C77: 14000902 | D77: Nguyễn | E77: Quốc | F77: Quy | G77: 14CĐ - Ô2 | H77: Động lực | I77: Công nghệ Ô Tô | J77: =VLOOKUP(I77,options!$R$65:$S$80,2,FALSE) -> Công nghệ Kỹ Thuật Ô Tô | K77: =VLOOKUP(I77,'Chuẩn hóa Ngànhnghề'!$A$4:$B$19,2,FALSE) -> Công nghệ Kỹ Thuật Ô Tô | L77: 4. Cao đẳng | M77: 145/9 Trương Văn Hải, Phường Tây Nhơn Phú B | N77: Quận 9 | O77: Tp.hcm | P77: 01672078060 | Q77: nguyenquocquy96@gmail.com | R77: Nam | S77: 1996 | T77: =2018-S77:S225 -> 22 | U77: =VLOOKUP(T77,'Nhóm tuổi'!$A$3:$B$9,2,FALSE) -> Dưới 25 tuổi | V77: 4.Cao đẳng | W77: Chưa | AA77: 5.Trung bình | AB77: B1.Vừa học vừa làm | AC77: =VLOOKUP(AB77,options!$V$50:$W$55,2,FALSE) -> Đi làm | AD77: =VLOOKUP(AB77,options!$V$57:$W$62,2,FALSE) -> Có việc làm | AF77: 5. Sản xuất, phân phối điện, ga, nước | AH77: Intel Việt Nam | AI77: Khu D1, Khu Công nghệ cao | AJ77: Quận 9 | AK77: Tp.hcm | AN77: 48 | AO77: 4.Trên 3 tháng | AP77: Khác, ghi cụ thể | AQ77: Trang tuyển dụng của công ty | AR77: 2.Tốt | AS77: =VLOOKUP(AR77,options!$M$41:$N$45,2,FALSE) -> 4 | AT77: 2.Tốt | AU77: =VLOOKUP(AT77,options!$M$41:$N$45,2,FALSE) -> 4 | AV77: 2.Liên quan | AX77: 3.Từ 4-6 triệu | AY77: 5. Trên 300 người | AZ77: Không | BB77: 1. Nhân viên trong thời gian thử việc (thợ học việc) | BD77: Có | BE77: Quản lý sản xuất | BF77: =VLOOKUP(BE77,options!$S$39:$T$59,2,FALSE) -> Quản trị nhân lực | BG77: 1.Đại học | BN77: Lý do khác | BO77: Trường Đại học sư phạm Kỹ thuật TP.HCM | BP77: Công nghệ Ô tô | BQ77: =VLOOKUP(BP77,options!$V$31:$W$44,2,FALSE) -> Công nghệ Kỹ thuật Ô tô | BR77: 1.Đại học | BS77: 2.Đồng ý | BT77: =VLOOKUP(BS77,options!$S$31:$T$35,2,FALSE) -> 4 | BU77: 2.Đồng ý | BV77: =VLOOKUP(BU77,options!$S$31:$T$35,2,FALSE) -> 4 | BW77: 2.Đồng ý | BX77: =VLOOKUP(BW77,options!$S$31:$T$35,2,FALSE) -> 4 | BY77: Thực tập/ thực hành tại doanh nghiệp | BZ77: Phương pháp giảng dạy của giáo viên | CA77: Kỹ năng thực hành của giáo viên | CC77: 2.Đồng ý | CD77: 2.Đồng ý | CE77: =VLOOKUP(CD77,options!$S$31:$T$35,2,FALSE) -> 4
A78: 77 | B78: Trường Cao đẳng Lý Tự Trọng thành Phố Hồ Chí Minh | C78: 14000869 | D78: Huỳnh | E78: Trung | F78: Cang | G78: 14CĐ - Ô2 | H78: Động lực | I78: Công nghệ Ô Tô | J78: =VLOOKUP(I78,options!$R$65:$S$80,2,FALSE) -> Công nghệ Kỹ Thuật Ô Tô | K78: =VLOOKUP(I78,'Chuẩn hóa Ngànhnghề'!$A$4:$B$19,2,FALSE) -> Công nghệ Kỹ Thuật Ô Tô | L78: 4. Cao đẳng | M78: 335 ĐT 789, Ấp Thuận An, Xã Chuông Mít | N78: Huyện Dương Minh Châu | O78: Tây Ninh | P78: 01688252133 | Q78: huynhtrungcang1996@gmail.com | R78: Nam | S78: 1996 | T78: =2018-S78:S226 -> 22 | U78: =VLOOKUP(T78,'Nhóm tuổi'!$A$3:$B$9,2,FALSE) -> Dưới 25 tuổi | V78: 4.Cao đẳng | W78: Chưa | AA78: 5.Trung bình | AB78: A1.Làm công ăn lương | AC78: =VLOOKUP(AB78,options!$V$50:$W$55,2,FALSE) -> Đi làm | AD78: =VLOOKUP(AB78,options!$V$57:$W$62,2,FALSE) -> Có việc làm | AF78: 6.Thương mại & Dịch vụ (Bán buôn, bán lẻ) | AH78: TOYOTA Tây Ninh | AI78: 50 Hoàng Lê Kha, Phường 3 | AJ78: Tp. Tây Ninh | AK78: Tây Ninh | AL78: 18006565 | AM78: info@toyotalythuongkiet.com.vn | AN78: 48 | AO78: 4.Trên 3 tháng | AP78: Quan hệ cá nhân | AR78: 2.Tốt | AS78: =VLOOKUP(AR78,options!$M$41:$N$45,2,FALSE) -> 4 | AT78: 2.Tốt | AU78: =VLOOKUP(AT78,options!$M$41:$N$45,2,FALSE) -> 4 | AV78: 2.Liên quan | AX78: 2. Từ 2-4 triệu | AY78: 3. Từ 10-200 người | AZ78: Có | BA78: 5.Trên 8 tuần | BB78: 1. Nhân viên trong thời gian thử việc (thợ học việc) | BD78: Không | BF78: =VLOOKUP(BE78,options!$S$39:$T$59,2,FALSE) -> #N/A | BQ78: =VLOOKUP(BP78,options!$V$31:$W$44,2,FALSE) -> #N/A | BS78: 2.Đồng ý | BT78: =VLOOKUP(BS78,options!$S$31:$T$35,2,FALSE) -> 4 | BU78: 2.Đồng ý | BV78: =VLOOKUP(BU78,options!$S$31:$T$35,2,FALSE) -> 4 | BW78: 2.Đồng ý | BX78: =VLOOKUP(BW78,options!$S$31:$T$35,2,FALSE) -> 4 | BY78: Tài liệu,chương trình (sách, v.v.) | BZ78: Trang thiết bị (máy móc, công cụ, v.v.) | CA78: Thực tập/ thực hành tại doanh nghiệp | CC78: 2.Đồng ý | CD78: 2.Đồng ý | CE78: =VLOOKUP(CD78,options!$S$31:$T$35,2,FALSE) -> 4
A79: 78 | B79: Trường Cao đẳng Lý Tự Trọng thành Phố Hồ Chí Minh | C79: 14000874 | D79: Võ | E79: Hoàng | F79: Đại | G79: 14CĐ - Ô2 | H79: Động lực | I79: Công nghệ Ô Tô | J79: =VLOOKUP(I79,options!$R$65:$S$80,2,FALSE) -> Công nghệ Kỹ Thuật Ô Tô | K79: =VLOOKUP(I79,'Chuẩn hóa Ngànhnghề'!$A$4:$B$19,2,FALSE) -> Công nghệ Kỹ Thuật Ô Tô | L79: 4. Cao đẳng | M79: 291/45 Trường Chinh, Phường 14 | N79: Quận Tân Bình | O79: Tp.hcm | P79: 09245336832 | Q79: vohoangdai2322@gmail.com | R79: Nam | S79: 1996 | T79: =2018-S79:S227 -> 22 | U79: =VLOOKUP(T79,'Nhóm tuổi'!$A$3:$B$9,2,FALSE) -> Dưới 25 tuổi | V79: 4.Cao đẳng | W79: Chưa | AA79: 5.Trung bình | AB79: A1.Làm công ăn lương | AC79: =VLOOKUP(AB79,options!$V$50:$W$55,2,FALSE) -> Đi làm | AD79: =VLOOKUP(AB79,options!$V$57:$W$62,2,FALSE) -> Có việc làm | AF79: 8.Thông tin liên lạc, Công nghệ thông tin | AH79: Tốc Hành .vn( Công ty cổ phần đầu tư và giao nhận SGDS) | AI79: 56 Yên Thế, Phường 2 | AJ79: Quận Tân Bình | AK79: Tp.hcm | AL79: 1900636446 | AM79: lienhe@tohanh.vn | AN79: 48 | AO79: 2.Dưới 1 tháng | AP79: Qua quảng cáo trên Internet | AR79: 2.Tốt | AS79: =VLOOKUP(AR79,options!$M$41:$N$45,2,FALSE) -> 4 | AT79: 2.Tốt | AU79: =VLOOKUP(AT79,options!$M$41:$N$45,2,FALSE) -> 4 | AV79: 3.Không liên quan | AX79: 4. Từ 6-8 triệu | AY79: 3. Từ 10-200 người | AZ79: Không | BB79: 2. Nhân viên chính thức | BD79: Không | BF79: =VLOOKUP(BE79,options!$S$39:$T$59,2,FALSE) -> #N/A | BQ79: =VLOOKUP(BP79,options!$V$31:$W$44,2,FALSE) -> #N/A | BS79: 2.Đồng ý | BT79: =VLOOKUP(BS79,options!$S$31:$T$35,2,FALSE) -> 4 | BU79: 2.Đồng ý | BV79: =VLOOKUP(BU79,options!$S$31:$T$35,2,FALSE) -> 4 | BW79: 2.Đồng ý | BX79: =VLOOKUP(BW79,options!$S$31:$T$35,2,FALSE) -> 4 | BY79: Trang thiết bị (máy móc, công cụ, v.v.) | BZ79: Cơ sở vật chất (phòng học, thư việnv.v.) | CA79: Thực tập/ thực hành tại doanh nghiệp | CC79: 2.Đồng ý | CD79: 2.Đồng ý | CE79: =VLOOKUP(CD79,options!$S$31:$T$35,2,FALSE) -> 4
A80: 79 | B80: Trường Cao đẳng Lý Tự Trọng thành Phố Hồ Chí Minh | C80: 14001065 | D80: Trịnh | E80: Minh | F80: Nhiên | G80: 14CĐ - Ô2 | H80: Động lực | I80: Công nghệ Ô Tô | J80: =VLOOKUP(I80,options!$R$65:$S$80,2,FALSE) -> Công nghệ Kỹ Thuật Ô Tô | K80: =VLOOKUP(I80,'Chuẩn hóa Ngànhnghề'!$A$4:$B$19,2,FALSE) -> Công nghệ Kỹ Thuật Ô Tô | L80: 4. Cao đẳng | M80: 96 Đường 30, Phường 6 | N80: Quận Gò Vấp | O80: Tp.hcm | P80: 0164570358 | Q80: minhnhien593@gmail | R80: Nam | S80: 1996 | T80: =2018-S80:S228 -> 22 | U80: =VLOOKUP(T80,'Nhóm tuổi'!$A$3:$B$9,2,FALSE) -> Dưới 25 tuổi | V80: 4.Cao đẳng | W80: Chưa | AA80: 5.Trung bình | AB80: A2.Tự SX-KD | AC80: =VLOOKUP(AB80,options!$V$50:$W$55,2,FALSE) -> Đi làm | AD80: =VLOOKUP(AB80,options!$V$57:$W$62,2,FALSE) -> Có việc làm | AF80: 6.Thương mại & Dịch vụ (Bán buôn, bán lẻ) | AH80: Kinh doanh tại nhà | AI80: 96 Đường 30, Phường 6 | AJ80: Quận Gò Vấp | AK80: Tp.hcm | AL80: 01264570350 | AM80: minhnhien593@gmail.com | AN80: 48 | AO80: 2.Dưới 1 tháng | AP80: Quan hệ cá nhân | AR80: 2.Tốt | AS80: =VLOOKUP(AR80,options!$M$41:$N$45,2,FALSE) -> 4 | AT80: 2.Tốt | AU80: =VLOOKUP(AT80,options!$M$41:$N$45,2,FALSE) -> 4 | AV80: 2.Liên quan | AX80: 4. Từ 6-8 triệu | AY80: 2. Từ 2-10người | AZ80: Không | BB80: 5. Vị trí khác | BC80: Tự quản lý | BD80: Không | BF80: =VLOOKUP(BE80,options!$S$39:$T$59,2,FALSE) -> #N/A | BQ80: =VLOOKUP(BP80,options!$V$31:$W$44,2,FALSE) -> #N/A | BS80: 2.Đồng ý | BT80: =VLOOKUP(BS80,options!$S$31:$T$35,2,FALSE) -> 4 | BU80: 2.Đồng ý | BV80: =VLOOKUP(BU80,options!$S$31:$T$35,2,FALSE) -> 4 | BW80: 2.Đồng ý | BX80: =VLOOKUP(BW80,options!$S$31:$T$35,2,FALSE) -> 4 | BY80: Tài liệu,chương trình (sách, v.v.) | BZ80: Trang thiết bị (máy móc, công cụ, v.v.) | CA80: Thực tập/ thực hành tại doanh nghiệp | CC80: 2.Đồng ý | CD80: 2.Đồng ý | CE80: =VLOOKUP(CD80,options!$S$31:$T$35,2,FALSE) -> 4
A81: 80 | B81: Trường Cao đẳng Lý Tự Trọng thành Phố Hồ Chí Minh | C81: 14000898 | D81: Đỗ | E81: Văn | F81: Phúc | G81: 14CĐ - Ô2 | H81: Động lực | I81: Công nghệ Ô Tô | J81: =VLOOKUP(I81,options!$R$65:$S$80,2,FALSE) -> Công nghệ Kỹ Thuật Ô Tô | K81: =VLOOKUP(I81,'Chuẩn hóa Ngànhnghề'!$A$4:$B$19,2,FALSE) -> Công nghệ Kỹ Thuật Ô Tô | L81: 4. Cao đẳng | M81: 58 Đường Số 5, Phường Linh Trung, | N81: Quận Thủ Đức | O81: Tp.hcm | P81: 0981516194 | R81: Nam | S81: 1996 | T81: =2018-S81:S229 -> 22 | U81: =VLOOKUP(T81,'Nhóm tuổi'!$A$3:$B$9,2,FALSE) -> Dưới 25 tuổi | V81: 4.Cao đẳng | W81: Chưa | AA81: 5.Trung bình | AB81: C.Không tìm được việc làm | AC81: =VLOOKUP(AB81,options!$V$50:$W$55,2,FALSE) -> Đang tìm việc (Không có việc làm) | AD81: =VLOOKUP(AB81,options!$V$57:$W$62,2,FALSE) -> Không tìm được việc làm | AS81: =VLOOKUP(AR81,options!$M$41:$N$45,2,FALSE) -> #N/A | AU81: =VLOOKUP(AT81,options!$M$41:$N$45,2,FALSE) -> #N/A | BF81: =VLOOKUP(BE81,options!$S$39:$T$59,2,FALSE) -> #N/A | BH81: Vì không tìm được việc làm đúng với ngành nghề được đào tạo | BI81: 3.Cả 2 công việc trên | BJ81: Kỹ năng nghề không đáp ứng được yêu cầu công việc | BK81: Thiếu kinh nghiệm làm việc | BQ81: =VLOOKUP(BP81,options!$V$31:$W$44,2,FALSE) -> #N/A | BS81: 2.Đồng ý | BT81: =VLOOKUP(BS81,options!$S$31:$T$35,2,FALSE) -> 4 | BU81: 2.Đồng ý | BV81: =VLOOKUP(BU81,options!$S$31:$T$35,2,FALSE) -> 4 | BW81: 2.Đồng ý | BX81: =VLOOKUP(BW81,options!$S$31:$T$35,2,FALSE) -> 4 | BY81: Tài liệu,chương trình (sách, v.v.) | BZ81: Trang thiết bị (máy móc, công cụ, v.v.) | CC81: 2.Đồng ý | CD81: 2.Đồng ý | CE81: =VLOOKUP(CD81,options!$S$31:$T$35,2,FALSE) -> 4
A82: 81 | B82: Trường Cao đẳng Lý Tự Trọng thành Phố Hồ Chí Minh | C82: 14000884 | D82: Lâm | E82: Sỉ | F82: Huy | G82: 14CĐ - Ô2 | H82: Động lực | I82: Công nghệ Ô Tô | J82: =VLOOKUP(I82,options!$R$65:$S$80,2,FALSE) -> Công nghệ Kỹ Thuật Ô Tô | K82: =VLOOKUP(I82,'Chuẩn hóa Ngànhnghề'!$A$4:$B$19,2,FALSE) -> Công nghệ Kỹ Thuật Ô Tô | L82: 4. Cao đẳng | M82: Ấp Thới Hòa, Thành Thới A | N82: Huyện Mỏ Cày | O82: Tỉnh Bến Tre | P82: 01655098199 | Q82: lamsihuy95@gmail.com | R82: Nam | S82: 1995 | T82: =2018-S82:S230 -> 23 | U82: =VLOOKUP(T82,'Nhóm tuổi'!$A$3:$B$9,2,FALSE) -> Dưới 25 tuổi | V82: 4.Cao đẳng | W82: Chưa | AA82: 5.Trung bình | AB82: C.Không tìm được việc làm | AC82: =VLOOKUP(AB82,options!$V$50:$W$55,2,FALSE) -> Đang tìm việc (Không có việc làm) | AD82: =VLOOKUP(AB82,options!$V$57:$W$62,2,FALSE) -> Không tìm được việc làm | AS82: =VLOOKUP(AR82,options!$M$41:$N$45,2,FALSE) -> #N/A | AU82: =VLOOKUP(AT82,options!$M$41:$N$45,2,FALSE) -> #N/A | BF82: =VLOOKUP(BE82,options!$S$39:$T$59,2,FALSE) -> #N/A | BH82: Lý do khác | BI82: 3.Cả 2 công việc trên | BJ82: Kỹ năng nghề không đáp ứng được yêu cầu công việc | BK82: Thiếu kinh nghiệm làm việc | BL82: Thiếu thông tin về việc làm | BQ82: =VLOOKUP(BP82,options!$V$31:$W$44,2,FALSE) -> #N/A | BS82: 2.Đồng ý | BT82: =VLOOKUP(BS82,options!$S$31:$T$35,2,FALSE) -> 4 | BU82: 2.Đồng ý | BV82: =VLOOKUP(BU82,options!$S$31:$T$35,2,FALSE) -> 4 | BW82: 3.Đồng ý phần nào | BX82: =VLOOKUP(BW82,options!$S$31:$T$35,2,FALSE) -> 3 | BY82: Trang thiết bị (máy móc, công cụ, v.v.) | BZ82: Cơ sở vật chất (phòng học, thư việnv.v.) | CA82: Thực tập/ thực hành tại doanh nghiệp | CC82: 2.Đồng ý | CD82: 2.Đồng ý | CE82: =VLOOKUP(CD82,options!$S$31:$T$35,2,FALSE) -> 4
A83: 82 | B83: Trường Cao đẳng Lý Tự Trọng thành Phố Hồ Chí Minh | C83: 14000910 | D83: Trần H | E83: Hữu | F83: Tiền | G83: 14CĐ - Ô2 | H83: Động lực | I83: Công nghệ Kỹ Thuật Ô Tô | J83: =VLOOKUP(I83,options!$R$65:$S$80,2,FALSE) -> Công nghệ Kỹ Thuật Ô Tô | K83: =VLOOKUP(I83,'Chuẩn hóa Ngànhnghề'!$A$4:$B$19,2,FALSE) -> Công nghệ Kỹ Thuật Ô Tô | L83: 4. Cao đẳng | M83: 108/5 Phù Đổng, Phường Phù Đổng | N83: TP. Pleiku | O83: Tỉnh Gia Lai, Tp.PleiKu | P83: 01652095079 | Q83: tiendolamit96@gmail.com | R83: Nam | S83: 1996 | T83: =2018-S83:S231 -> 22 | U83: =VLOOKUP(T83,'Nhóm tuổi'!$A$3:$B$9,2,FALSE) -> Dưới 25 tuổi | V83: 4.Cao đẳng | W83: Chưa | AA83: 5.Trung bình | AB83: A2.Tự SX-KD | AC83: =VLOOKUP(AB83,options!$V$50:$W$55,2,FALSE) -> Đi làm | AD83: =VLOOKUP(AB83,options!$V$57:$W$62,2,FALSE) -> Có việc làm | AF83: 9.Giao thông vận tải | AH83: Tại nhà | AI83: 108/5 Phù Đổng, Phường Phù Đổng | AJ83: TP. Pleiku | AK83: Gia Lai | AL83: 01652095079 | AN83: 48 | AO83: 2.Dưới 1 tháng | AP83: Quan hệ cá nhân | AR83: 2.Tốt | AS83: =VLOOKUP(AR83,options!$M$41:$N$45,2,FALSE) -> 4 | AT83: 2.Tốt | AU83: =VLOOKUP(AT83,options!$M$41:$N$45,2,FALSE) -> 4 | AV83: 2.Liên quan | AX83: 4. Từ 6-8 triệu | AY83: 2. Từ 2-10người | AZ83: Không | BB83: 2. Nhân viên chính thức | BD83: Không | BF83: =VLOOKUP(BE83,options!$S$39:$T$59,2,FALSE) -> #N/A | BQ83: =VLOOKUP(BP83,options!$V$31:$W$44,2,FALSE) -> #N/A | BS83: 2.Đồng ý | BT83: =VLOOKUP(BS83,options!$S$31:$T$35,2,FALSE) -> 4 | BU83: 2.Đồng ý | BV83: =VLOOKUP(BU83,options!$S$31:$T$35,2,FALSE) -> 4 | BW83: 2.Đồng ý | BX83: =VLOOKUP(BW83,options!$S$31:$T$35,2,FALSE) -> 4 | BY83: Trang thiết bị (máy móc, công cụ, v.v.) | BZ83: Thực tập/ thực hành tại doanh nghiệp | CA83: Khác | CB83: Tăng thời gian học thực hành | CC83: 2.Đồng ý | CD83: 2.Đồng ý | CE83: =VLOOKUP(CD83,options!$S$31:$T$35,2,FALSE) -> 4
A84: 83 | B84: Trường Cao đẳng Lý Tự Trọng thành Phố Hồ Chí Minh | C84: 14000914 | D84: Nguyễn | E84: Ngọc | F84: Triết | G84: 14CĐ - Ô2 | H84: Động lực | I84: Công nghệ Kỹ Thuật Ô Tô | J84: =VLOOKUP(I84,options!$R$65:$S$80,2,FALSE) -> Công nghệ Kỹ Thuật Ô Tô | K84: =VLOOKUP(I84,'Chuẩn hóa Ngànhnghề'!$A$4:$B$19,2,FALSE) -> Công nghệ Kỹ Thuật Ô Tô | L84: 4. Cao đẳng | M84: Hẽm 275 Ngô Gia Tự, Phường Thạnh Lộc | N84: Quận 12 | O84: Tp.hcm | P84: 01696711421 | R84: Nam | S84: 1996 | T84: =2018-S84:S232 -> 22 | U84: =VLOOKUP(T84,'Nhóm tuổi'!$A$3:$B$9,2,FALSE) -> Dưới 25 tuổi | V84: 4.Cao đẳng | W84: Chưa | AA84: 5.Trung bình | AB84: A1.Làm công ăn lương | AC84: =VLOOKUP(AB84,options!$V$50:$W$55,2,FALSE) -> Đi làm | AD84: =VLOOKUP(AB84,options!$V$57:$W$62,2,FALSE) -> Có việc làm | AF84: 9.Giao thông vận tải | AH84: TaXi Tải Thành Hưng | AI84: 1942/1C Vườn Lài, Phường An Phú Đông | AJ84: Quận 12 | AK84: Tp.hcm | AL84: 02854360360 | AM84: htt://taxitaithanhhung.com | AN84: 48 | AO84: 2.Dưới 1 tháng | AP84: Quan hệ cá nhân | AR84: 2.Tốt | AS84: =VLOOKUP(AR84,options!$M$41:$N$45,2,FALSE) -> 4 | AT84: 2.Tốt | AU84: =VLOOKUP(AT84,options!$M$41:$N$45,2,FALSE) -> 4 | AV84: 2.Liên quan | AX84: 4. Từ 6-8 triệu | AY84: 5. Trên 300 người | AZ84: Có | BA84: 3. Từ 4-6 tuần | BB84: 2. Nhân viên chính thức | BD84: Có | BE84: Công nghệ kỹ thuật ô tô | BF84: =VLOOKUP(BE84,options!$S$39:$T$59,2,FALSE) -> Công nghệ kỹ thuật ô tô | BG84: 1.Đại học | BQ84: =VLOOKUP(BP84,options!$V$31:$W$44,2,FALSE) -> #N/A | BS84: 2.Đồng ý | BT84: =VLOOKUP(BS84,options!$S$31:$T$35,2,FALSE) -> 4 | BU84: 2.Đồng ý | BV84: =VLOOKUP(BU84,options!$S$31:$T$35,2,FALSE) -> 4 | BW84: 2.Đồng ý | BX84: =VLOOKUP(BW84,options!$S$31:$T$35,2,FALSE) -> 4 | BY84: Trang thiết bị (máy móc, công cụ, v.v.) | BZ84: Thực tập/ thực hành tại doanh nghiệp | CA84: Khác | CB84: Thiết kế các mô hình học tập | CC84: 2.Đồng ý | CD84: 2.Đồng ý | CE84: =VLOOKUP(CD84,options!$S$31:$T$35,2,FALSE) -> 4
A85: 84 | B85: Trường Cao đẳng Lý Tự Trọng thành Phố Hồ Chí Minh | C85: 14000903 | D85: Đồng | E85: Phước | F85: Sơn | G85: 14CĐ - Ô2 | H85: Động lực | I85: Công nghệ Kỹ Thuật Ô Tô | J85: =VLOOKUP(I85,options!$R$65:$S$80,2,FALSE) -> Công nghệ Kỹ Thuật Ô Tô | K85: =VLOOKUP(I85,'Chuẩn hóa Ngànhnghề'!$A$4:$B$19,2,FALSE) -> Công nghệ Kỹ Thuật Ô Tô | L85: 4. Cao đẳng | N85: Dĩ An | O85: Bình Dương | P85: 016938822382 | R85: Nam | S85: 1996 | T85: =2018-S85:S233 -> 22 | U85: =VLOOKUP(T85,'Nhóm tuổi'!$A$3:$B$9,2,FALSE) -> Dưới 25 tuổi | V85: 4.Cao đẳng | W85: Chưa | AA85: 5.Trung bình | AB85: A1.Làm công ăn lương | AC85: =VLOOKUP(AB85,options!$V$50:$W$55,2,FALSE) -> Đi làm | AD85: =VLOOKUP(AB85,options!$V$57:$W$62,2,FALSE) -> Có việc làm | AF85: 6.Thương mại & Dịch vụ (Bán buôn, bán lẻ) | AH85: Garage Thanh Châu | AN85: 48 | AO85: 2.Dưới 1 tháng | AP85: Quan hệ cá nhân | AR85: 2.Tốt | AS85: =VLOOKUP(AR85,options!$M$41:$N$45,2,FALSE) -> 4 | AT85: 2.Tốt | AU85: =VLOOKUP(AT85,options!$M$41:$N$45,2,FALSE) -> 4 | AV85: 1.Có liên quan | AX85: 3.Từ 4-6 triệu | AY85: 2. Từ 2-10người | AZ85: Có | BA85: 4. Từ 6-8 tuần | BB85: 2. Nhân viên chính thức | BD85: Không | BF85: =VLOOKUP(BE85,options!$S$39:$T$59,2,FALSE) -> #N/A | BQ85: =VLOOKUP(BP85,options!$V$31:$W$44,2,FALSE) -> #N/A | BS85: 2.Đồng ý | BT85: =VLOOKUP(BS85,options!$S$31:$T$35,2,FALSE) -> 4 | BU85: 2.Đồng ý | BV85: =VLOOKUP(BU85,options!$S$31:$T$35,2,FALSE) -> 4 | BW85: 2.Đồng ý | BX85: =VLOOKUP(BW85,options!$S$31:$T$35,2,FALSE) -> 4 | BY85: Tài liệu,chương trình (sách, v.v.) | BZ85: Trang thiết bị (máy móc, công cụ, v.v.) | CA85: Cơ sở vật chất (phòng học, thư việnv.v.) | CC85: 1.Hoàn toàn đồng ý | CD85: 2.Đồng ý | CE85: =VLOOKUP(CD85,options!$S$31:$T$35,2,FALSE) -> 4
A86: 85 | B86: Trường Cao đẳng Lý Tự Trọng thành Phố Hồ Chí Minh | C86: 14001069 | D86: Phạm | E86: Trung | F86: Qúi | G86: 14CĐ - Ô2 | H86: Động lực | I86: Công nghệ Kỹ Thuật Ô Tô | J86: =VLOOKUP(I86,options!$R$65:$S$80,2,FALSE) -> Công nghệ Kỹ Thuật Ô Tô | K86: =VLOOKUP(I86,'Chuẩn hóa Ngànhnghề'!$A$4:$B$19,2,FALSE) -> Công nghệ Kỹ Thuật Ô Tô | L86: 4. Cao đẳng | M86: 14A, Đường 236 Tổ 6, Ấp Xoài Hòa Phú | N86: Huyện Củ Chi | O86: Tp.hcm | P86: 01689596948 | Q86: trungqui1996@gmail.com | R86: Nam | S86: 1996 | T86: =2018-S86:S234 -> 22 | U86: =VLOOKUP(T86,'Nhóm tuổi'!$A$3:$B$9,2,FALSE) -> Dưới 25 tuổi | V86: 4.Cao đẳng | W86: Chưa | AA86: 5.Trung bình | AB86: A1.Làm công ăn lương | AC86: =VLOOKUP(AB86,options!$V$50:$W$55,2,FALSE) -> Đi làm | AD86: =VLOOKUP(AB86,options!$V$57:$W$62,2,FALSE) -> Có việc làm | AF86: 11.Khác, ghi cụ thể | AG86: Dân quân tự vệ | AH86: Ban chỉ huy Quân sự Xã Hòa Phú | AI86: Xã Hòa Phú, Huyện Củ Chi | AJ86: Huyện Củ Chi | AK86: Tp.hcm | AL86: 0283976143 | AN86: 48 | AO86: 4.Trên 3 tháng | AP86: Khác, ghi cụ thể | AQ86: Thực hiện chế độ nghĩa vụ quân sự | AR86: 2.Tốt | AS86: =VLOOKUP(AR86,options!$M$41:$N$45,2,FALSE) -> 4 | AT86: 2.Tốt | AU86: =VLOOKUP(AT86,options!$M$41:$N$45,2,FALSE) -> 4 | AV86: 3.Không liên quan | AX86: 2. Từ 2-4 triệu | AY86: 3. Từ 10-200 người | AZ86: Không | BA86: 3. Từ 4-6 tuần | BB86: 2. Nhân viên chính thức | BD86: Không | BF86: =VLOOKUP(BE86,options!$S$39:$T$59,2,FALSE) -> #N/A | BQ86: =VLOOKUP(BP86,options!$V$31:$W$44,2,FALSE) -> #N/A | BS86: 2.Đồng ý | BT86: =VLOOKUP(BS86,options!$S$31:$T$35,2,FALSE) -> 4 | BU86: 2.Đồng ý | BV86: =VLOOKUP(BU86,options!$S$31:$T$35,2,FALSE) -> 4 | BW86: 2.Đồng ý | BX86: =VLOOKUP(BW86,options!$S$31:$T$35,2,FALSE) -> 4 | BY86: Tài liệu,chương trình (sách, v.v.) | BZ86: Cơ sở vật chất (phòng học, thư việnv.v.) | CA86: Thực tập/ thực hành tại doanh nghiệp | CC86: 1.Hoàn toàn đồng ý | CD86: 2.Đồng ý | CE86: =VLOOKUP(CD86,options!$S$31:$T$35,2,FALSE) -> 4
A87: 86 | B87: Trường Cao đẳng Lý Tự Trọng thành Phố Hồ Chí Minh | C87: 14000915 | D87: Bùi | E87: Vĩnh | F87: Trực | G87: 14CĐ - Ô2 | H87: Động lực | I87: Công nghệ Kỹ Thuật Ô Tô | J87: =VLOOKUP(I87,options!$R$65:$S$80,2,FALSE) -> Công nghệ Kỹ Thuật Ô Tô | K87: =VLOOKUP(I87,'Chuẩn hóa Ngànhnghề'!$A$4:$B$19,2,FALSE) -> Công nghệ Kỹ Thuật Ô Tô | L87: 4. Cao đẳng | M87: 152Lý Thánh Tông, Phường Hiệp Tân | N87: Quận Tân Phú | O87: Tp.hcm | P87: 0933957794 | R87: Nam | S87: 1996 | T87: =2018-S87:S235 -> 22 | U87: =VLOOKUP(T87,'Nhóm tuổi'!$A$3:$B$9,2,FALSE) -> Dưới 25 tuổi | V87: 4.Cao đẳng | W87: Chưa | AA87: 5.Trung bình | AB87: D.Khác | AC87: =VLOOKUP(AB87,options!$V$50:$W$55,2,FALSE) -> Khác | AD87: =VLOOKUP(AB87,options!$V$57:$W$62,2,FALSE) -> Khác | AE87: Đi học lái xe | AS87: =VLOOKUP(AR87,options!$M$41:$N$45,2,FALSE) -> #N/A | AU87: =VLOOKUP(AT87,options!$M$41:$N$45,2,FALSE) -> #N/A | BF87: =VLOOKUP(BE87,options!$S$39:$T$59,2,FALSE) -> #N/A | BH87: Lý do khác | BI87: 3.Cả 2 công việc trên | BJ87: Ngành nghề được đào tạo đang dư thừa lao động trên thị trường | BK87: Ngoại ngữ không đạt | BL87: Trình độ máy tính không đạt | BQ87: =VLOOKUP(BP87,options!$V$31:$W$44,2,FALSE) -> #N/A | BS87: 2.Đồng ý | BT87: =VLOOKUP(BS87,options!$S$31:$T$35,2,FALSE) -> 4 | BU87: 2.Đồng ý | BV87: =VLOOKUP(BU87,options!$S$31:$T$35,2,FALSE) -> 4 | BW87: 2.Đồng ý | BX87: =VLOOKUP(BW87,options!$S$31:$T$35,2,FALSE) -> 4 | BY87: Thực tập/ thực hành tại doanh nghiệp | CC87: 2.Đồng ý | CD87: 2.Đồng ý | CE87: =VLOOKUP(CD87,options!$S$31:$T$35,2,FALSE) -> 4
A88: 87 | B88: Trường Cao đẳng Lý Tự Trọng thành Phố Hồ Chí Minh | C88: 14000945 | D88: Nguyễn | E88: Hưu | F88: Năm | G88: 14CĐ - Ô3 | H88: Động lực | I88: Công nghệ Kỹ Thuật Ô Tô | J88: =VLOOKUP(I88,options!$R$65:$S$80,2,FALSE) -> Công nghệ Kỹ Thuật Ô Tô | K88: =VLOOKUP(I88,'Chuẩn hóa Ngànhnghề'!$A$4:$B$19,2,FALSE) -> Công nghệ Kỹ Thuật Ô Tô | L88: 4. Cao đẳng | M88: 368/239/245F Ấp 1, Đông Thạnh | N88: Huyện Hóc Môn | O88: Tp.hcm | P88: 0997122374 | R88: Nam | S88: 1995 | T88: =2018-S88:S236 -> 23 | U88: =VLOOKUP(T88,'Nhóm tuổi'!$A$3:$B$9,2,FALSE) -> Dưới 25 tuổi | V88: 4.Cao đẳng | W88: Chưa | AA88: 3.Khá | AB88: A2.Tự SX-KD | AC88: =VLOOKUP(AB88,options!$V$50:$W$55,2,FALSE) -> Đi làm | AD88: =VLOOKUP(AB88,options!$V$57:$W$62,2,FALSE) -> Có việc làm | AF88: 6.Thương mại & Dịch vụ (Bán buôn, bán lẻ) | AH88: Tại gia | AI88: 3 Nhà Vuông, Xã Trung Chánh | AJ88: Huyện Hóc Môn | AK88: Tp.hcm | AL88: 0997122374 | AN88: 36 | AO88: 4.Trên 3 tháng | AP88: Quan hệ cá nhân | AR88: 2.Tốt | AS88: =VLOOKUP(AR88,options!$M$41:$N$45,2,FALSE) -> 4 | AT88: 2.Tốt | AU88: =VLOOKUP(AT88,options!$M$41:$N$45,2,FALSE) -> 4 | AV88: 3.Không liên quan | AX88: 5. Trên 8 triệu | AY88: 2. Từ 2-10người | AZ88: Không | BB88: 2. Nhân viên chính thức | BD88: Không | BF88: =VLOOKUP(BE88,options!$S$39:$T$59,2,FALSE) -> #N/A | BQ88: =VLOOKUP(BP88,options!$V$31:$W$44,2,FALSE) -> #N/A | BS88: 2.Đồng ý | BT88: =VLOOKUP(BS88,options!$S$31:$T$35,2,FALSE) -> 4 | BU88: 2.Đồng ý | BV88: =VLOOKUP(BU88,options!$S$31:$T$35,2,FALSE) -> 4 | BW88: 2.Đồng ý | BX88: =VLOOKUP(BW88,options!$S$31:$T$35,2,FALSE) -> 4 | BY88: Thực tập/ thực hành tại doanh nghiệp | CB88: Thời gian thực hành bắt đầu từ học kỳ 4 năm 2(Đối với hệ Cao đẳng 3 năm) | CC88: 2.Đồng ý | CD88: 2.Đồng ý | CE88: =VLOOKUP(CD88,options!$S$31:$T$35,2,FALSE) -> 4
A89: 88 | B89: Trường Cao đẳng Lý Tự Trọng thành Phố Hồ Chí Minh | C89: 14000935 | D89: Huỳnh | E89: Trung | F89: Hiếu | G89: 14CĐ - Ô3 | H89: Động lực | I89: Công nghệ Kỹ Thuật Ô Tô | J89: =VLOOKUP(I89,options!$R$65:$S$80,2,FALSE) -> Công nghệ Kỹ Thuật Ô Tô | K89: =VLOOKUP(I89,'Chuẩn hóa Ngànhnghề'!$A$4:$B$19,2,FALSE) -> Công nghệ Kỹ Thuật Ô Tô | L89: 4. Cao đẳng | M89: Xóm 11, Thôn Lộc Thương, Xã Phước Sơn | N89: Huyện Tuy Phước | O89: Tỉnh Bình Định | P89: 0911907501 | R89: Nam | S89: 1996 | T89: =2018-S89:S237 -> 22 | U89: =VLOOKUP(T89,'Nhóm tuổi'!$A$3:$B$9,2,FALSE) -> Dưới 25 tuổi | V89: 4.Cao đẳng | W89: Chưa | AA89: 5.Trung bình | AB89: A2.Tự SX-KD | AC89: =VLOOKUP(AB89,options!$V$50:$W$55,2,FALSE) -> Đi làm | AD89: =VLOOKUP(AB89,options!$V$57:$W$62,2,FALSE) -> Có việc làm | AF89: 6.Thương mại & Dịch vụ (Bán buôn, bán lẻ) | AH89: Trung tâm Ô tô Văn Định | AI89: 140 Lê Đức Thọ, Phường Hải Cảng | AJ89: Tp. Qui Nhơn, Tỉnh Bình Định | AK89: Bình Định | AN89: 48 | AO89: 4.Trên 3 tháng | AP89: Quan hệ cá nhân | AR89: 2.Tốt | AS89: =VLOOKUP(AR89,options!$M$41:$N$45,2,FALSE) -> 4 | AT89: 2.Tốt | AU89: =VLOOKUP(AT89,options!$M$41:$N$45,2,FALSE) -> 4 | AV89: 1.Có liên quan | AX89: 2. Từ 2-4 triệu | AY89: 2. Từ 2-10người | AZ89: Có | BA89: 4. Từ 6-8 tuần | BB89: 1. Nhân viên trong thời gian thử việc (thợ học việc) | BD89: Có | BE89: Thực hành Ô tô | BF89: =VLOOKUP(BE89,options!$S$39:$T$59,2,FALSE) -> Công nghệ kỹ thuật ô tô | BG89: 5.Khác | BQ89: =VLOOKUP(BP89,options!$V$31:$W$44,2,FALSE) -> #N/A | BS89: 2.Đồng ý | BT89: =VLOOKUP(BS89,options!$S$31:$T$35,2,FALSE) -> 4 | BU89: 3.Đồng ý phần nào | BV89: =VLOOKUP(BU89,options!$S$31:$T$35,2,FALSE) -> 3 | BW89: 3.Đồng ý phần nào | BX89: =VLOOKUP(BW89,options!$S$31:$T$35,2,FALSE) -> 3 | BY89: Tài liệu,chương trình (sách, v.v.) | BZ89: Trang thiết bị (máy móc, công cụ, v.v.) | CA89: Phương pháp giảng dạy của giáo viên | CC89: 2.Đồng ý | CD89: 2.Đồng ý | CE89: =VLOOKUP(CD89,options!$S$31:$T$35,2,FALSE) -> 4
A90: 89 | B90: Trường Cao đẳng Lý Tự Trọng thành Phố Hồ Chí Minh | C90: 14000925 | D90: Võ | E90: Chí | F90: Công | G90: 14CĐ - Ô3 | H90: Động lực | I90: Công nghệ Kỹ Thuật Ô Tô | J90: =VLOOKUP(I90,options!$R$65:$S$80,2,FALSE) -> Công nghệ Kỹ Thuật Ô Tô | K90: =VLOOKUP(I90,'Chuẩn hóa Ngànhnghề'!$A$4:$B$19,2,FALSE) -> Công nghệ Kỹ Thuật Ô Tô | L90: 4. Cao đẳng | M90: 125/2 KP1, An Phú Đông | N90: Quận 12 | O90: Tp.hcm | P90: 0989051023 | Q90: cong45000@gmail.com | R90: Nam | S90: 1996 | T90: =2018-S90:S238 -> 22 | U90: =VLOOKUP(T90,'Nhóm tuổi'!$A$3:$B$9,2,FALSE) -> Dưới 25 tuổi | V90: 4.Cao đẳng | W90: Chưa | AA90: 4.Trung bình khá | AB90: A1.Làm công ăn lương | AC90: =VLOOKUP(AB90,options!$V$50:$W$55,2,FALSE) -> Đi làm | AD90: =VLOOKUP(AB90,options!$V$57:$W$62,2,FALSE) -> Có việc làm | AF90: 6.Thương mại & Dịch vụ (Bán buôn, bán lẻ) | AH90: Tại gia | AI90: 125/2 KPI, An Phú Đông | AJ90: Quận 12 | AK90: Tp.hcm | AL90: 0989051023 | AM90: cong45000@gmail.com | AN90: 48 | AO90: 1.Trước khi TN | AP90: Quan hệ cá nhân | AR90: 2.Tốt | AS90: =VLOOKUP(AR90,options!$M$41:$N$45,2,FALSE) -> 4 | AT90: 2.Tốt | AU90: =VLOOKUP(AT90,options!$M$41:$N$45,2,FALSE) -> 4 | AV90: 1.Có liên quan | AX90: 4. Từ 6-8 triệu | AY90: 2. Từ 2-10người | AZ90: Có | BA90: 2. Từ 2-4 tuần | BB90: 2. Nhân viên chính thức | BD90: Không | BF90: =VLOOKUP(BE90,options!$S$39:$T$59,2,FALSE) -> #N/A | BQ90: =VLOOKUP(BP90,options!$V$31:$W$44,2,FALSE) -> #N/A | BS90: 2.Đồng ý | BT90: =VLOOKUP(BS90,options!$S$31:$T$35,2,FALSE) -> 4 | BU90: 2.Đồng ý | BV90: =VLOOKUP(BU90,options!$S$31:$T$35,2,FALSE) -> 4 | BW90: 2.Đồng ý | BX90: =VLOOKUP(BW90,options!$S$31:$T$35,2,FALSE) -> 4 | BY90: Trang thiết bị (máy móc, công cụ, v.v.) | BZ90: Thực tập/ thực hành tại doanh nghiệp | CA90: Phương pháp giảng dạy của giáo viên | CC90: 2.Đồng ý | CD90: 2.Đồng ý | CE90: =VLOOKUP(CD90,options!$S$31:$T$35,2,FALSE) -> 4
A91: 90 | B91: Trường Cao đẳng Lý Tự Trọng thành Phố Hồ Chí Minh | C91: 14000963 | D91: Nguyễn | E91: Ngọc | F91: Thiện | G91: 14CĐ - Ô3 | H91: Động lực | I91: Công nghệ Kỹ Thuật Ô Tô | J91: =VLOOKUP(I91,options!$R$65:$S$80,2,FALSE) -> Công nghệ Kỹ Thuật Ô Tô | K91: =VLOOKUP(I91,'Chuẩn hóa Ngànhnghề'!$A$4:$B$19,2,FALSE) -> Công nghệ Kỹ Thuật Ô Tô | L91: 4. Cao đẳng | M91: 1351 Phan Văn Trị, Phường 10 | N91: Quận Gò Vấp | O91: Tp.hcm | P91: 0977514144 | Q91: thiennguyen210296@gmail.com | R91: Nam | S91: 1996 | T91: =2018-S91:S239 -> 22 | U91: =VLOOKUP(T91,'Nhóm tuổi'!$A$3:$B$9,2,FALSE) -> Dưới 25 tuổi | V91: 4.Cao đẳng | W91: Chưa | AA91: 5.Trung bình | AB91: A1.Làm công ăn lương | AC91: =VLOOKUP(AB91,options!$V$50:$W$55,2,FALSE) -> Đi làm | AD91: =VLOOKUP(AB91,options!$V$57:$W$62,2,FALSE) -> Có việc làm | AF91: 6.Thương mại & Dịch vụ (Bán buôn, bán lẻ) | AH91: Đại phát Auto | AI91: 53 Cù Lao, Phường 2 | AJ91: Quận Phú Nhuận | AK91: Tp.hcm | AL91: 0983112233 | AM91: http://www.daiphatvienthong.vn | AN91: 48 | AO91: 4.Trên 3 tháng | AP91: Qua quảng cáo trên Internet | AR91: 3.Trung bình | AS91: =VLOOKUP(AR91,options!$M$41:$N$45,2,FALSE) -> 3 | AT91: 3.Trung bình | AU91: =VLOOKUP(AT91,options!$M$41:$N$45,2,FALSE) -> 3 | AV91: 1.Có liên quan | AX91: 3.Từ 4-6 triệu | AY91: 2. Từ 2-10người | AZ91: Có | BA91: 2. Từ 2-4 tuần | BB91: 1. Nhân viên trong thời gian thử việc (thợ học việc) | BD91: Không | BF91: =VLOOKUP(BE91,options!$S$39:$T$59,2,FALSE) -> #N/A | BQ91: =VLOOKUP(BP91,options!$V$31:$W$44,2,FALSE) -> #N/A | BS91: 2.Đồng ý | BT91: =VLOOKUP(BS91,options!$S$31:$T$35,2,FALSE) -> 4 | BU91: 2.Đồng ý | BV91: =VLOOKUP(BU91,options!$S$31:$T$35,2,FALSE) -> 4 | BW91: 3.Đồng ý phần nào | BX91: =VLOOKUP(BW91,options!$S$31:$T$35,2,FALSE) -> 3 | BY91: Trang thiết bị (máy móc, công cụ, v.v.) | BZ91: Thực tập/ thực hành tại doanh nghiệp | CC91: 2.Đồng ý | CD91: 2.Đồng ý | CE91: =VLOOKUP(CD91,options!$S$31:$T$35,2,FALSE) -> 4
A92: 91 | B92: Trường Cao đẳng Lý Tự Trọng thành Phố Hồ Chí Minh | C92: 14000978 | D92: Lê | E92: Vinh Anh | F92: Vũ | G92: 14CĐ - Ô3 | H92: Động lực | I92: Công nghệ Kỹ Thuật Ô Tô | J92: =VLOOKUP(I92,options!$R$65:$S$80,2,FALSE) -> Công nghệ Kỹ Thuật Ô Tô | K92: =VLOOKUP(I92,'Chuẩn hóa Ngànhnghề'!$A$4:$B$19,2,FALSE) -> Công nghệ Kỹ Thuật Ô Tô | L92: 4. Cao đẳng | M92: Ấp 4, Tiến Hưng | N92: TX. Đồng Xoài | O92: Bình Phước | P92: 01628068884 | R92: Nam | S92: 1995 | T92: =2018-S92:S240 -> 23 | U92: =VLOOKUP(T92,'Nhóm tuổi'!$A$3:$B$9,2,FALSE) -> Dưới 25 tuổi | V92: 4.Cao đẳng | W92: Chưa | AA92: 5.Trung bình | AB92: A2.Tự SX-KD | AC92: =VLOOKUP(AB92,options!$V$50:$W$55,2,FALSE) -> Đi làm | AD92: =VLOOKUP(AB92,options!$V$57:$W$62,2,FALSE) -> Có việc làm | AF92: 6.Thương mại & Dịch vụ (Bán buôn, bán lẻ) | AH92: Tại gia | AI92: Ấp 4, Tiến Hưng | AJ92: TX Đồng Xoài | AK92: Bình Phước | AL92: 01628068884 | AN92: 28 | AO92: 4.Trên 3 tháng | AP92: Quan hệ cá nhân | AR92: 3.Trung bình | AS92: =VLOOKUP(AR92,options!$M$41:$N$45,2,FALSE) -> 3 | AT92: 3.Trung bình | AU92: =VLOOKUP(AT92,options!$M$41:$N$45,2,FALSE) -> 3 | AV92: 3.Không liên quan | AX92: 2. Từ 2-4 triệu | AY92: 2. Từ 2-10người | AZ92: Không | BB92: 2. Nhân viên chính thức | BD92: Không | BF92: =VLOOKUP(BE92,options!$S$39:$T$59,2,FALSE) -> #N/A | BQ92: =VLOOKUP(BP92,options!$V$31:$W$44,2,FALSE) -> #N/A | BS92: 2.Đồng ý | BT92: =VLOOKUP(BS92,options!$S$31:$T$35,2,FALSE) -> 4 | BU92: 3.Đồng ý phần nào | BV92: =VLOOKUP(BU92,options!$S$31:$T$35,2,FALSE) -> 3 | BW92: 2.Đồng ý | BX92: =VLOOKUP(BW92,options!$S$31:$T$35,2,FALSE) -> 4 | BY92: Trang thiết bị (máy móc, công cụ, v.v.) | BZ92: Thực tập/ thực hành tại doanh nghiệp | CA92: Phương pháp giảng dạy của giáo viên | CC92: 2.Đồng ý | CD92: 2.Đồng ý | CE92: =VLOOKUP(CD92,options!$S$31:$T$35,2,FALSE) -> 4
A93: 92 | B93: Trường Cao đẳng Lý Tự Trọng thành Phố Hồ Chí Minh | C93: 14000979 | D93: Trần | E93: Thanh | F93: Vũ | G93: 14CĐ - Ô3 | H93: Động lực | I93: Công nghệ Kỹ Thuật Ô Tô | J93: =VLOOKUP(I93,options!$R$65:$S$80,2,FALSE) -> Công nghệ Kỹ Thuật Ô Tô | K93: =VLOOKUP(I93,'Chuẩn hóa Ngànhnghề'!$A$4:$B$19,2,FALSE) -> Công nghệ Kỹ Thuật Ô Tô | L93: 4. Cao đẳng | M93: 334/20C Tô Hiến Thành, Phường 12 | N93: Quận 10 | O93: Tp.hcm | P93: 0986276734 | Q93: vutranthanh618@gmail | R93: Nam | S93: 1996 | T93: =2018-S93:S241 -> 22 | U93: =VLOOKUP(T93,'Nhóm tuổi'!$A$3:$B$9,2,FALSE) -> Dưới 25 tuổi | V93: 4.Cao đẳng | W93: Chưa | AA93: 5.Trung bình | AB93: C.Không tìm được việc làm | AC93: =VLOOKUP(AB93,options!$V$50:$W$55,2,FALSE) -> Đang tìm việc (Không có việc làm) | AD93: =VLOOKUP(AB93,options!$V$57:$W$62,2,FALSE) -> Không tìm được việc làm | AS93: =VLOOKUP(AR93,options!$M$41:$N$45,2,FALSE) -> #N/A | AU93: =VLOOKUP(AT93,options!$M$41:$N$45,2,FALSE) -> #N/A | BF93: =VLOOKUP(BE93,options!$S$39:$T$59,2,FALSE) -> #N/A | BH93: Lý do khác | BI93: 1.CV liên quan đến nghề được đào tạo | BJ93: Kỹ năng nghề không đáp ứng được yêu cầu công việc | BK93: Ngoại ngữ không đạt | BL93: Thiếu kinh nghiệm làm việc | BQ93: =VLOOKUP(BP93,options!$V$31:$W$44,2,FALSE) -> #N/A | BS93: 2.Đồng ý | BT93: =VLOOKUP(BS93,options!$S$31:$T$35,2,FALSE) -> 4 | BU93: 4.Không đồng ý | BV93: =VLOOKUP(BU93,options!$S$31:$T$35,2,FALSE) -> 2 | BW93: 2.Đồng ý | BX93: =VLOOKUP(BW93,options!$S$31:$T$35,2,FALSE) -> 4 | BY93: Trang thiết bị (máy móc, công cụ, v.v.) | BZ93: Thực tập/ thực hành tại doanh nghiệp | CA93: Kỹ năng thực hành của giáo viên | CC93: 2.Đồng ý | CD93: 2.Đồng ý | CE93: =VLOOKUP(CD93,options!$S$31:$T$35,2,FALSE) -> 4
A94: 93 | B94: Trường Cao đẳng Lý Tự Trọng thành Phố Hồ Chí Minh | C94: 14000960 | D94: Nguyễn | E94: Văn | F94: Thắng | G94: 14CĐ - Ô3 | H94: Động lực | I94: Công nghệ Kỹ Thuật Ô Tô | J94: =VLOOKUP(I94,options!$R$65:$S$80,2,FALSE) -> Công nghệ Kỹ Thuật Ô Tô | K94: =VLOOKUP(I94,'Chuẩn hóa Ngànhnghề'!$A$4:$B$19,2,FALSE) -> Công nghệ Kỹ Thuật Ô Tô | L94: 4. Cao đẳng | M94: Xóm 5, Thôn 3, Xã Lộc Châu | N94: TX. Bảo Lộc | O94: Lâm Đồng | P94: 01687714209 | R94: Nam | S94: 1996 | T94: =2018-S94:S242 -> 22 | U94: =VLOOKUP(T94,'Nhóm tuổi'!$A$3:$B$9,2,FALSE) -> Dưới 25 tuổi | V94: 4.Cao đẳng | W94: Chưa | AA94: 5.Trung bình | AB94: C.Không tìm được việc làm | AC94: =VLOOKUP(AB94,options!$V$50:$W$55,2,FALSE) -> Đang tìm việc (Không có việc làm) | AD94: =VLOOKUP(AB94,options!$V$57:$W$62,2,FALSE) -> Không tìm được việc làm | AS94: =VLOOKUP(AR94,options!$M$41:$N$45,2,FALSE) -> #N/A | AU94: =VLOOKUP(AT94,options!$M$41:$N$45,2,FALSE) -> #N/A | BF94: =VLOOKUP(BE94,options!$S$39:$T$59,2,FALSE) -> #N/A | BH94: Vì không tìm được việc làm đúng với ngành nghề được đào tạo | BI94: 3.Cả 2 công việc trên | BJ94: Ngoại ngữ không đạt | BK94: Thiếu kinh nghiệm làm việc | BL94: Thiếu thông tin về việc làm | BQ94: =VLOOKUP(BP94,options!$V$31:$W$44,2,FALSE) -> #N/A | BS94: 2.Đồng ý | BT94: =VLOOKUP(BS94,options!$S$31:$T$35,2,FALSE) -> 4 | BU94: 2.Đồng ý | BV94: =VLOOKUP(BU94,options!$S$31:$T$35,2,FALSE) -> 4 | BW94: 2.Đồng ý | BX94: =VLOOKUP(BW94,options!$S$31:$T$35,2,FALSE) -> 4 | BY94: Tài liệu,chương trình (sách, v.v.) | BZ94: Trang thiết bị (máy móc, công cụ, v.v.) | CA94: Thực tập/ thực hành tại doanh nghiệp | CC94: 2.Đồng ý | CD94: 2.Đồng ý | CE94: =VLOOKUP(CD94,options!$S$31:$T$35,2,FALSE) -> 4
A95: 94 | B95: Trường Cao đẳng Lý Tự Trọng thành Phố Hồ Chí Minh | C95: 14001027 | D95: Trần | E95: Hoài | F95: Trọng | G95: 14CĐ - Ô4 | H95: Động lực | I95: Công nghệ Kỹ Thuật Ô Tô | J95: =VLOOKUP(I95,options!$R$65:$S$80,2,FALSE) -> Công nghệ Kỹ Thuật Ô Tô | K95: =VLOOKUP(I95,'Chuẩn hóa Ngànhnghề'!$A$4:$B$19,2,FALSE) -> Công nghệ Kỹ Thuật Ô Tô | L95: 4. Cao đẳng | M95: 126/21/1 Huỳnh Minh Phương, Ấp 4, Xã Tân Thạnh Đông | N95: Huyện Củ Chi, | O95: Tp.hcm | P95: 02899338040 | Q95: tranhoaitrong95@gmail.com | R95: Nam | S95: 1995 | T95: =2018-S95:S243 -> 23 | U95: =VLOOKUP(T95,'Nhóm tuổi'!$A$3:$B$9,2,FALSE) -> Dưới 25 tuổi | V95: 4.Cao đẳng | W95: Chưa | AA95: 5.Trung bình | AB95: A1.Làm công ăn lương | AC95: =VLOOKUP(AB95,options!$V$50:$W$55,2,FALSE) -> Đi làm | AD95: =VLOOKUP(AB95,options!$V$57:$W$62,2,FALSE) -> Có việc làm | AF95: 6.Thương mại & Dịch vụ (Bán buôn, bán lẻ) | AH95: Công ty Honda Auto Cộng Hòa | AI95: 18 Cộng Hòa, Phường 4, | AJ95: Quận Tân Bình | AK95: Tp.hcm | AL95: 02838116868 | AM95: www.hondaotoconghoa.com.vn | AN95: 48 | AO95: 1.Trước khi TN | AP95: Do trường giới thiệu | AR95: 3.Trung bình | AS95: =VLOOKUP(AR95,options!$M$41:$N$45,2,FALSE) -> 3 | AT95: 3.Trung bình | AU95: =VLOOKUP(AT95,options!$M$41:$N$45,2,FALSE) -> 3 | AV95: 1.Có liên quan | AX95: 4. Từ 6-8 triệu | AY95: 3. Từ 10-200 người | AZ95: Có | BA95: 3. Từ 4-6 tuần | BB95: 2. Nhân viên chính thức | BD95: Có | BE95: Công nghệ ô tô | BF95: =VLOOKUP(BE95,options!$S$39:$T$59,2,FALSE) -> Công nghệ kỹ thuật ô tô | BG95: 1.Đại học | BQ95: =VLOOKUP(BP95,options!$V$31:$W$44,2,FALSE) -> #N/A | BS95: 2.Đồng ý | BT95: =VLOOKUP(BS95,options!$S$31:$T$35,2,FALSE) -> 4 | BU95: 3.Đồng ý phần nào | BV95: =VLOOKUP(BU95,options!$S$31:$T$35,2,FALSE) -> 3 | BW95: 2.Đồng ý | BX95: =VLOOKUP(BW95,options!$S$31:$T$35,2,FALSE) -> 4 | BY95: Trang thiết bị (máy móc, công cụ, v.v.) | BZ95: Cơ sở vật chất (phòng học, thư việnv.v.) | CC95: 2.Đồng ý | CD95: 2.Đồng ý | CE95: =VLOOKUP(CD95,options!$S$31:$T$35,2,FALSE) -> 4
A96: 95 | B96: Trường Cao đẳng Lý Tự Trọng thành Phố Hồ Chí Minh | C96: 14000998 | D96: Nguyễn | E96: Quang | F96: Huy | G96: 14CĐ - Ô4 | H96: Động lực | I96: Công nghệ Kỹ Thuật Ô Tô | J96: =VLOOKUP(I96,options!$R$65:$S$80,2,FALSE) -> Công nghệ Kỹ Thuật Ô Tô | K96: =VLOOKUP(I96,'Chuẩn hóa Ngànhnghề'!$A$4:$B$19,2,FALSE) -> Công nghệ Kỹ Thuật Ô Tô | L96: 4. Cao đẳng | M96: 417 Quang Trung, | N96: Quận Gò Vấp | O96: Tp.hcm | P96: 0129500852 | R96: Nam | S96: 1996 | T96: =2018-S96:S244 -> 22 | U96: =VLOOKUP(T96,'Nhóm tuổi'!$A$3:$B$9,2,FALSE) -> Dưới 25 tuổi | V96: 4.Cao đẳng | W96: Chưa | AA96: 3.Khá | AB96: A1.Làm công ăn lương | AC96: =VLOOKUP(AB96,options!$V$50:$W$55,2,FALSE) -> Đi làm | AD96: =VLOOKUP(AB96,options!$V$57:$W$62,2,FALSE) -> Có việc làm | AF96: 6.Thương mại & Dịch vụ (Bán buôn, bán lẻ) | AH96: Công ty Honda Auto Cộng Hòa | AI96: 18 Cộng Hòa, Phường 4, | AJ96: Quận Tân Bình | AK96: Tp.hcm | AL96: 02838116868 | AM96: www.hondaotoconghoa.com.vn | AN96: 48 | AO96: 1.Trước khi TN | AP96: Qua quảng cáo trên báo/đài/TV | AR96: 2.Tốt | AS96: =VLOOKUP(AR96,options!$M$41:$N$45,2,FALSE) -> 4 | AT96: 2.Tốt | AU96: =VLOOKUP(AT96,options!$M$41:$N$45,2,FALSE) -> 4 | AV96: 2.Liên quan | AX96: 5. Trên 8 triệu | AY96: 2. Từ 2-10người | AZ96: Có | BA96: 4. Từ 6-8 tuần | BB96: 3.Kỹ thuật viên kiêm tổ trưởng | BD96: Có | BE96: Công nghệ ô tô | BF96: =VLOOKUP(BE96,options!$S$39:$T$59,2,FALSE) -> Công nghệ kỹ thuật ô tô | BG96: 1.Đại học | BQ96: =VLOOKUP(BP96,options!$V$31:$W$44,2,FALSE) -> #N/A | BS96: 4.Không đồng ý | BT96: =VLOOKUP(BS96,options!$S$31:$T$35,2,FALSE) -> 2 | BU96: 4.Không đồng ý | BV96: =VLOOKUP(BU96,options!$S$31:$T$35,2,FALSE) -> 2 | BW96: 4.Không đồng ý | BX96: =VLOOKUP(BW96,options!$S$31:$T$35,2,FALSE) -> 2 | BY96: Trang thiết bị (máy móc, công cụ, v.v.) | CC96: 4.Không đồng ý | CD96: 4.Không đồng ý | CE96: =VLOOKUP(CD96,options!$S$31:$T$35,2,FALSE) -> 2
A97: 96 | B97: Trường Cao đẳng Lý Tự Trọng thành Phố Hồ Chí Minh | C97: 14000986 | D97: Nguyễn | E97: Xuân | F97: Dũng | G97: 14CĐ - Ô4 | H97: Động lực | I97: Công nghệ Kỹ Thuật Ô Tô | J97: =VLOOKUP(I97,options!$R$65:$S$80,2,FALSE) -> Công nghệ Kỹ Thuật Ô Tô | K97: =VLOOKUP(I97,'Chuẩn hóa Ngànhnghề'!$A$4:$B$19,2,FALSE) -> Công nghệ Kỹ Thuật Ô Tô | L97: 4. Cao đẳng | M97: 9/14F Chử Đồng Tử, Phường 7 | N97: Quận Tân Bình | O97: Tp.hcm | P97: 01228685232 | Q97: nguyenty04121996@gmail.com | R97: Nam | S97: 1996 | T97: =2018-S97:S245 -> 22 | U97: =VLOOKUP(T97,'Nhóm tuổi'!$A$3:$B$9,2,FALSE) -> Dưới 25 tuổi | V97: 4.Cao đẳng | W97: Chưa | AA97: 3.Khá | AB97: A1.Làm công ăn lương | AC97: =VLOOKUP(AB97,options!$V$50:$W$55,2,FALSE) -> Đi làm | AD97: =VLOOKUP(AB97,options!$V$57:$W$62,2,FALSE) -> Có việc làm | AF97: 6.Thương mại & Dịch vụ (Bán buôn, bán lẻ) | AH97: Công ty Honda Auto Cộng Hòa | AI97: 18 Cộng Hòa, Phường 4, | AJ97: Quận Tân Bình | AK97: Tp.hcm | AL97: 02838116868 | AM97: www.hondaotoconghoa.com.vn | AN97: 48 | AO97: 2.Dưới 1 tháng | AP97: Quan hệ cá nhân | AR97: 2.Tốt | AS97: =VLOOKUP(AR97,options!$M$41:$N$45,2,FALSE) -> 4 | AT97: 4.Kém | AU97: =VLOOKUP(AT97,options!$M$41:$N$45,2,FALSE) -> 2 | AV97: 1.Có liên quan | AX97: 3.Từ 4-6 triệu | AY97: 3. Từ 10-200 người | AZ97: Có | BA97: 5.Trên 8 tuần | BB97: 1. Nhân viên trong thời gian thử việc (thợ học việc) | BD97: Có | BE97: Phiên dịch viên ( tiếng Hàn) | BF97: =VLOOKUP(BE97,options!$S$39:$T$59,2,FALSE) -> Ngôn ngữ Hàn Quốc | BG97: 3.Trung cấp | BQ97: =VLOOKUP(BP97,options!$V$31:$W$44,2,FALSE) -> #N/A | BS97: 2.Đồng ý | BT97: =VLOOKUP(BS97,options!$S$31:$T$35,2,FALSE) -> 4 | BU97: 2.Đồng ý | BV97: =VLOOKUP(BU97,options!$S$31:$T$35,2,FALSE) -> 4 | BW97: 3.Đồng ý phần nào | BX97: =VLOOKUP(BW97,options!$S$31:$T$35,2,FALSE) -> 3 | BY97: Trang thiết bị (máy móc, công cụ, v.v.) | BZ97: Cơ sở vật chất (phòng học, thư việnv.v.) | CA97: Kỹ năng thực hành của giáo viên | CC97: 2.Đồng ý | CD97: 3.Đồng ý phần nào | CE97: =VLOOKUP(CD97,options!$S$31:$T$35,2,FALSE) -> 3
A98: 97 | B98: Trường Cao đẳng Lý Tự Trọng thành Phố Hồ Chí Minh | C98: 14001017 | D98: Trần | E98: Ngọc | F98: Thạch | G98: 14CĐ - Ô4 | H98: Động lực | I98: Công nghệ Kỹ Thuật Ô Tô | J98: =VLOOKUP(I98,options!$R$65:$S$80,2,FALSE) -> Công nghệ Kỹ Thuật Ô Tô | K98: =VLOOKUP(I98,'Chuẩn hóa Ngànhnghề'!$A$4:$B$19,2,FALSE) -> Công nghệ Kỹ Thuật Ô Tô | L98: 4. Cao đẳng | M98: 42/60/57 Hồ Đác Di, Phường Tây Thạnh | N98: Quận Tân Phú | O98: Tp.hcm | P98: 0965130958 | Q98: trangngocthach1996@gmail.com | R98: Nam | S98: 1996 | T98: =2018-S98:S246 -> 22 | U98: =VLOOKUP(T98,'Nhóm tuổi'!$A$3:$B$9,2,FALSE) -> Dưới 25 tuổi | V98: 4.Cao đẳng | W98: Chưa | AA98: 5.Trung bình | AB98: B1.Vừa học vừa làm | AC98: =VLOOKUP(AB98,options!$V$50:$W$55,2,FALSE) -> Đi làm | AD98: =VLOOKUP(AB98,options!$V$57:$W$62,2,FALSE) -> Có việc làm | AF98: 6.Thương mại & Dịch vụ (Bán buôn, bán lẻ) | AH98: Hon da Ô TÔ cộng hòa | AI98: 18 Cộng Hòa, | AJ98: Quận Tân Bình | AK98: Tp.hcm | AL98: 02838116868 | AM98: www.hondaotoconghoa.com.vn | AN98: 48 | AO98: 3. Từ 1-3 tháng | AP98: Quan hệ cá nhân | AR98: 3.Trung bình | AS98: =VLOOKUP(AR98,options!$M$41:$N$45,2,FALSE) -> 3 | AT98: 3.Trung bình | AU98: =VLOOKUP(AT98,options!$M$41:$N$45,2,FALSE) -> 3 | AV98: 1.Có liên quan | AX98: 3.Từ 4-6 triệu | AY98: 3. Từ 10-200 người | AZ98: Có | BA98: 2. Từ 2-4 tuần | BB98: 2. Nhân viên chính thức | BD98: Có | BE98: Công nghệ ô tô | BF98: =VLOOKUP(BE98,options!$S$39:$T$59,2,FALSE) -> Công nghệ kỹ thuật ô tô | BG98: 1.Đại học | BN98: Học nâng cao trình độ | BO98: Trường Đại học sư phạm Kỹ thuật TP.HCM | BP98: Công nghệ Ô tô | BQ98: =VLOOKUP(BP98,options!$V$31:$W$44,2,FALSE) -> Công nghệ Kỹ thuật Ô tô | BR98: 1.Đại học | BS98: 2.Đồng ý | BT98: =VLOOKUP(BS98,options!$S$31:$T$35,2,FALSE) -> 4 | BU98: 2.Đồng ý | BV98: =VLOOKUP(BU98,options!$S$31:$T$35,2,FALSE) -> 4 | BW98: 2.Đồng ý | BX98: =VLOOKUP(BW98,options!$S$31:$T$35,2,FALSE) -> 4 | BY98: Tài liệu,chương trình (sách, v.v.) | BZ98: Trang thiết bị (máy móc, công cụ, v.v.) | CA98: Cơ sở vật chất (phòng học, thư việnv.v.) | CC98: 2.Đồng ý | CD98: 2.Đồng ý | CE98: =VLOOKUP(CD98,options!$S$31:$T$35,2,FALSE) -> 4
A99: 98 | B99: Trường Cao đẳng Lý Tự Trọng thành Phố Hồ Chí Minh | C99: 14001007 | D99: Trần | E99: Hữu | F99: Nghĩa | G99: 14CĐ - Ô4 | H99: Động lực | I99: Công nghệ Kỹ Thuật Ô Tô | J99: =VLOOKUP(I99,options!$R$65:$S$80,2,FALSE) -> Công nghệ Kỹ Thuật Ô Tô | K99: =VLOOKUP(I99,'Chuẩn hóa Ngànhnghề'!$A$4:$B$19,2,FALSE) -> Công nghệ Kỹ Thuật Ô Tô | L99: 4. Cao đẳng | M99: Mỹ Hạnh Nam | N99: Huyện Đức Hòa | O99: Tỉnh Long An | P99: 01203976957 | Q99: tranhuunghia995@gmail.com | R99: Nam | S99: 1995 | T99: =2018-S99:S247 -> 23 | U99: =VLOOKUP(T99,'Nhóm tuổi'!$A$3:$B$9,2,FALSE) -> Dưới 25 tuổi | V99: 4.Cao đẳng | W99: Chưa | AA99: 5.Trung bình | AB99: B2.Đang đi học | AC99: =VLOOKUP(AB99,options!$V$50:$W$55,2,FALSE) -> Đang đi học (trọn giờ) | AD99: =VLOOKUP(AB99,options!$V$57:$W$62,2,FALSE) -> Đang đi học | AS99: =VLOOKUP(AR99,options!$M$41:$N$45,2,FALSE) -> #N/A | AU99: =VLOOKUP(AT99,options!$M$41:$N$45,2,FALSE) -> #N/A | BF99: =VLOOKUP(BE99,options!$S$39:$T$59,2,FALSE) -> #N/A | BN99: Học nâng cao trình độ | BO99: Trường Đại học Nông Lâm TP.HCM | BP99: Công nghệ Kỹ thuật Ô tô | BQ99: =VLOOKUP(BP99,options!$V$31:$W$44,2,FALSE) -> Công nghệ Kỹ thuật Ô tô | BR99: 1.Đại học | BS99: 2.Đồng ý | BT99: =VLOOKUP(BS99,options!$S$31:$T$35,2,FALSE) -> 4 | BU99: 2.Đồng ý | BV99: =VLOOKUP(BU99,options!$S$31:$T$35,2,FALSE) -> 4 | BW99: 2.Đồng ý | BX99: =VLOOKUP(BW99,options!$S$31:$T$35,2,FALSE) -> 4 | BY99: Tài liệu,chương trình (sách, v.v.) | BZ99: Trang thiết bị (máy móc, công cụ, v.v.) | CA99: Thực tập/ thực hành tại doanh nghiệp | CC99: 2.Đồng ý | CD99: 2.Đồng ý | CE99: =VLOOKUP(CD99,options!$S$31:$T$35,2,FALSE) -> 4
A100: 99 | B100: Trường Cao đẳng Lý Tự Trọng thành Phố Hồ Chí Minh | C100: 14001020 | D100: Dương | E100: Thái | F100: Thịnh | G100: 14CĐ - Ô4 | H100: Động lực | I100: Công nghệ Kỹ Thuật Ô Tô | J100: =VLOOKUP(I100,options!$R$65:$S$80,2,FALSE) -> Công nghệ Kỹ Thuật Ô Tô | K100: =VLOOKUP(I100,'Chuẩn hóa Ngànhnghề'!$A$4:$B$19,2,FALSE) -> Công nghệ Kỹ Thuật Ô Tô | L100: 4. Cao đẳng | M100: 26/6 Đường Số 2, Kp3, | N100: Quận Thủ Đức | O100: Tp.hcm | P100: 01647294249 | Q100: duongthaithinh96@gmail.com | R100: Nam | S100: 1996 | T100: =2018-S100:S248 -> 22 | U100: =VLOOKUP(T100,'Nhóm tuổi'!$A$3:$B$9,2,FALSE) -> Dưới 25 tuổi | V100: 4.Cao đẳng | W100: Chưa | AA100: 5.Trung bình | AB100: A1.Làm công ăn lương | AC100: =VLOOKUP(AB100,options!$V$50:$W$55,2,FALSE) -> Đi làm | AD100: =VLOOKUP(AB100,options!$V$57:$W$62,2,FALSE) -> Có việc làm | AF100: 6.Thương mại & Dịch vụ (Bán buôn, bán lẻ) | AH100: Côn ty TNHH Ô tô Quốc Tuấn | AI100: 07 Đại Lộ Bình Dương, Phường Bình Hưng Hòa | AJ100: Thị Xã Thuận An | AK100: Tỉnh Bình Dương | AN100: 48 | AO100: 2.Dưới 1 tháng | AP100: Quan hệ cá nhân | AR100: 1.Rất tốt | AS100: =VLOOKUP(AR100,options!$M$41:$N$45,2,FALSE) -> 5 | AT100: 1.Rất tốt | AU100: =VLOOKUP(AT100,options!$M$41:$N$45,2,FALSE) -> 5 | AV100: 1.Có liên quan | AX100: 5. Trên 8 triệu | AY100: 3. Từ 10-200 người | AZ100: Có | BA100: 4. Từ 6-8 tuần | BB100: 2. Nhân viên chính thức | BD100: Không | BF100: =VLOOKUP(BE100,options!$S$39:$T$59,2,FALSE) -> #N/A | BQ100: =VLOOKUP(BP100,options!$V$31:$W$44,2,FALSE) -> #N/A | BS100: 1.Hoàn toàn đồng ý | BT100: =VLOOKUP(BS100,options!$S$31:$T$35,2,FALSE) -> 5 | BU100: 2.Đồng ý | BV100: =VLOOKUP(BU100,options!$S$31:$T$35,2,FALSE) -> 4 | BW100: 2.Đồng ý | BX100: =VLOOKUP(BW100,options!$S$31:$T$35,2,FALSE) -> 4 | BY100: Tài liệu,chương trình (sách, v.v.) | BZ100: Trang thiết bị (máy móc, công cụ, v.v.) | CA100: Cơ sở vật chất (phòng học, thư việnv.v.) | CC100: 1.Hoàn toàn đồng ý | CD100: 2.Đồng ý | CE100: =VLOOKUP(CD100,options!$S$31:$T$35,2,FALSE) -> 4
...

Sheet options
B1: school | C1: gender | D1: employment | E1: employment after graduation | F1: jobfind | G1: salary | H1: timetraining | I1: vitri | J1: sector | K1: jobreason | L1: jobapply | M1: lydo | N1: improvement | Q1: yesno | R1: agreement | S1: perception | T1: rankcert | U1: Related | V1: Number | W1: level | X1: schooling | Y1: vt_level | Z1: vt_place | AA1: fe_cert | AB1: Yesno2
B2: 1.NI_CĐ Kỹ thuật Công nghệ LILAMA 2 | C2: Nam | D2: A1.Làm công ăn lương | E2: 1.Trước khi TN | F2: Do trường giới thiệu | G2: 1.Dưới 2 triệu | H2: 1. Dưới 2 tuần | I2: 1. Nhân viên trong thời gian thử việc (thợ học việc) | J2: 1. Nông - lâm - ngư nghiệp | K2: Không tìm được việc làm -Could not find a job | L2: 1.CV liên quan đến nghề được đào tạo | M2: Ngành nghề được đào tạo đang dư thừa lao động trên thị trường | N2: Tài liệu,chương trình (sách, v.v.) | Q2: Có | R2: 1.Hoàn toàn đồng ý | S2: 1.Rất tốt | T2: 5.Trung bình | U2: 1.Có liên quan | V2: 1. 1 người | W2: 1.Đại học | X2: 1.Trung học cơ sở | Y2: 1.Sơ cấp nghề | Z2: 1.Trung tâm dạy nghề | AA2: 1.Đại học | AB2: Rồi
B3: 2.NI_CĐN Bách Nghệ Hải Phòng | C3: Nữ | D3: A2.Tự SX-KD | E3: 2.Dưới 1 tháng | F3: Do cơ quan dịch vụ việc làm | G3: 2. Từ 2-4 triệu | H3: 2. Từ 2-4 tuần | I3: 2. Nhân viên chính thức | J3: 2. Công nghiệp khai thác | K3: Đi học tiếp-further education | L3: 2.CV không liên quan đến nghề được đào tạo | M3: Kỹ năng nghề không đáp ứng được yêu cầu công việc | N3: Trang thiết bị (máy móc, công cụ, v.v.) | Q3: Không | R3: 2.Đồng ý | S3: 2.Tốt | T3: 4.Trung bình khá | U3: 2.Liên quan | V3: 2. Từ 2-10người | W3: 2.Cao đẳng | X3: 2.Trung học phổ thông | Y3: 2.Trung cấp nghề | Z3: 2.Trung cấp nghề | AA3: 2.Cao đẳng | AB3: Chưa
B4: 3.NI_CĐN Đồng Nai | D4: B1.Vừa học vừa làm | E4: 3. Từ 1-3 tháng | F4: Qua quảng cáo trên báo/đài/TV | G4: 3.Từ 4-6 triệu | H4: 3. Từ 4-6 tuần | I4: 3.Kỹ thuật viên kiêm tổ trưởng | J4: 3. Công nghiệp chế biến | K4: Khác, ghi cụ thể -other | L4: 3.Cả 2 công việc trên | M4: Ngoại ngữ không đạt | N4: Cơ sở vật chất (phòng học, thư việnv.v.) | R4: 3.Đồng ý phần nào | S4: 3.Trung bình | T4: 3.Khá | U4: 3.Không liên quan | V4: 3. Từ 10-200 người | W4: 3.Trung cấp | X4: 3.Trung cấp | Y4: 3.Cao đẳng nghề | Z4: 3.Cao đẳng nghề | AA4: 3.Trung cấp
B5: 4.NI_CĐN Công nghiệp Hải Phòng | D5: B2.Đang đi học | E5: 4.Trên 3 tháng | F5: Quan hệ cá nhân | G5: 4. Từ 6-8 triệu | H5: 4. Từ 6-8 tuần | I5: 4.Cán bộ quản lý (chuyên trách) | J5: 4. Xây dựng | M5: Trình độ máy tính không đạt | N5: Thực tập/ thực hành tại doanh nghiệp | R5: 4.Không đồng ý | S5: 4.Kém | T5: 2.Giỏi | V5: 4. Từ 200-300 người | W5: 4.Sơ cấp | X5: 4.Cao đẳng | Y5: 4. Cao đẳng | Z5: 4.Cơ sở dạy nghề khác | AA5: 4.Sơ cấp | AB5: Rồi/yes
B6: 5.NI_CĐ Cơ khí Nông nghiệp Vĩnh Phúc | D6: C.Không tìm được việc làm | F6: Qua quảng cáo trên Internet | G6: 5. Trên 8 triệu | H6: 5.Trên 8 tuần | I6: 5. Vị trí khác | J6: 5. Sản xuất, phân phối điện, ga, nước | M6: Thiếu kinh nghiệm làm việc | N6: Phương pháp giảng dạy của giáo viên | R6: 5.Hoàn toàn không đồng ý | S6: 5.Rất kém | T6: 1.Xuất sắc | V6: 5. Trên 300 người | W6: 5.Khác | X6: 5.Đại học | Y6: 5.Trung cấp | AA6: 5.Khác | AB6: Chưa/not yet
B7: 6.NI_CĐN Kỹ thuật Công nghệ Hà Nội | D7: D.Khác | F7: Hội chợ việc làm | J7: 6.Thương mại & Dịch vụ (Bán buôn, bán lẻ) | M7: Thiếu thông tin về việc làm | N7: Kỹ năng thực hành của giáo viên | X7: 6.Khác | Y7: 4.Khác | AC7: :
B8: 7.NI_CĐN Hồ Chí Minh | F8: Khác, ghi cụ thể | J8: 7.Khách sạn, Nhà hàng và Lữ hành | M8: Lý do khác | N8: Khác | S8: Rất tốt/very good | X8: TN tiểu học | Z8: Trung tâm dạy nghề/VT Center | AA8: Đại học/university | AC8: lydohocnghe
B9: 1.PVT_Trung cấp nghề Ninh Thuận | J9: 8.Thông tin liên lạc, Công nghệ thông tin | S9: Tốt/Good | T9: Trung bình/pass | X9: TN trung học cơ sở/lower secondary | Z9: Trung cấp nghề/Secondary VT School | AA9: Cao đẳng/college | AC9: Học nâng cao trình độ
B10: 2.PVT_Cao đẳng nghề công nghiệp Việt Bắc Vinacomin | D10: CapTD | J10: 9.Giao thông vận tải | Q10: Có/Yes | R10: Hoàn toàn đồng ý/strongly agree | S10: Trung bình/average | T10: Trung bình khá/pass plus | X10: TN/ trung học phổ thông/upper secondary | Y10: Sơ cấp nghề | Z10: Cao đẳng nghề/VT College | AA10: Trung cấp/secondary | AC10: Học nghề mới do không tìm được việc làm theo nghề đã học
B11: 4.PVT_Cao đẳng nghề kinh tế kỹ thuật Bắc Ninh | H11: Dưới 2 tuần/<2 weeks | J11: 10.Giáo dục / đào tạo | Q11: Không/No | R11: Đồng ý/agree | S11: Kém/bad | T11: Khá/good | X11: TN cao đẳng/college | Y11: Trung cấp nghề/secondary VT | Z11: Cơ sở dạy nghề khác/Other training institution | AA11: Khác/other | AC11: Học nghề mới do muốn làm công việc khác với nghề đã học
B12: 3.PVT_Trường Cao đẳng nghề Long An | H12: 2-5 tuần/2-5 weeks | J12: 11.Khác, ghi cụ thể | M12: Ngành nghề được đào tạo đang dư thừa lao động trên thị trường | R12: Đồng ý phần nào/somewhat agree | S12: Rất kém/very bad | T12: Giỏi/very good | X12: TN đại học/university | Y12: Cao đẳng nghề/technical college training | AC12: Lý do khác
B13: 5.PVT_Cao đẳng nghề An Giang | H13: 1-2 tháng/1-2 months | R13: Không đồng ý/disagree | T13: Xuất sắc/excellent | X13: Khác/other | Y13: Giấy chứng nhận học nghề hướng nghiệp/job -guidance certificate
B14: 6.CG_Cơ điện Luyện Kim Thái Nguyên | H14: 2-5 tháng/2 – 5 months | R14: Hoàn toàn không đồng ý/ strongly disagree | Y14: Khác/other
B15: 7.CG_Kinh tế-Công nghệ LADEC | H15: Trên 5 tháng/> 5 months | M15: LydokoVL
B16: 8.CG_TCN KT-KT Công đoàn An Giang | D16: 1.Cao đẳng nghề | M16: Vì không tìm được bất cứ việc làm nào
B17: 9.CG_CĐN Cơ điện Xây dựng Bắc Ninh | D17: 2.Trung cấp nghề | I17: N) | J17: Giáo dục/đào tạo-Education/ training | M17: Vì không tìm được việc làm đúng với ngành nghề được đào tạo | R17: Tài liệu- learning materials
B18: 10.OI_CĐN Nguyễn Tất Thành | D18: 3. Sơ cấp nghề | I18: Nhân viên chính thức (đã được ký hợp đồng lao động) | J18: Xây dựng -construction | M18: Lý do khác | R18: Trang thiết bị-equipment
B19: 12.OI_CĐN Việt - Đức Nghệ An | I19: Kỹ thuật viên kiêm tổ trưởng (trưởng nhóm) làm việc | J19: Dịch vụ (KS, nhà hàng, ngân hàng)-other services | R19: Cơ sở vật chất-facilities
B20: 19.OI_CĐN Việt - Đức Vĩnh Phúc | I20: Cán bộ quản lý (chuyên trách) | J20: Cơ quan nhà nước -state office | R20: Trình độ sư phạm của giáo viên-teachers’ didactic qualification
B21: 13.OI_CĐN Việt - Đức Hà Tĩnh | M21: Đào tạo không đáp ứng yêu cầu công việc- training did not fit job needs | R21: Kiến thức lý thuyết chuyên môn của giáo viên- teachers’ specialized knowledge
B22: 18.OI_CĐ nghề Việt Đức Thái Nguyên | M22: Trình độ ngoại ngữ không đạt- lack of foreign language skills | R22: Kỹ năng thực hành của giáo viên
B23: 14.OI_CĐ Công nghiệp Thanh Hoá | M23: Trình độ máy tính không đạt - lack of computer skills | R23: Thực tập, thực hành tại cơ sở SXKD-internship / practical in-company training
B24: 15.OI_CĐ kỹ thuật công nghiệp Tp. Hồ Chí Minh | M24: Thiếu kinh nghiệm làm việc -lack of working experience
B25: 11.OI_CĐN Nha Trang | M25: Thiếu thông tin về việc làm -lack of information about the job
B26: 16.OI_ĐH SPKT Hưng Yên | M26: Khác, ghi cụ thể -other, please specify:
B27: 17.OI_ĐH SPKT Nam Định
R31: Khoa | S31: 1.Hoàn toàn đồng ý | T31: 5 | V31: Điện - Điện Tử | W31: Công nghệ Kỹ thuật Điện - Điện Tử
R32: Cơ khí | S32: 2.Đồng ý | T32: 4 | V32: Anh Văn | W32: Ngôn ngữ Anh
M33: Có | R33: Điện - Điện tử | S33: 3.Đồng ý phần nào | T33: 3 | V33: CN Kỹ thuật Cơ khí | W33: Công nghệ Kỹ thuật Cơ khí
M34: Không | R34: Điện lạnh | S34: 4.Không đồng ý | T34: 2 | V34: Công nghệ KT Điện - Điện Tử | W34: Công nghệ Kỹ thuật Điện - Điện Tử
R35: Động lực | S35: 5.Hoàn toàn không đồng ý | T35: 1 | V35: Công nghệ Kỹ thuật Cơ khí | W35: Công nghệ Kỹ thuật Cơ khí
R36: May - Thời trang | V36: Công nghệ Kỹ thuật Ô tô | W36: Công nghệ Kỹ thuật Ô tô
R37: Công nghệ thông tin | V37: Công nghệ Ô tô | W37: Công nghệ Kỹ thuật Ô tô
V38: Công nghệ thông tin | W38: Công nghệ thông tin
S39: Điện - Điện Tử | T39: Công nghệ kỹ thuật Điện - Điện Tử | V39: Điện công nghiệp | W39: Công nghệ Kỹ thuật Điện - Điện Tử
S40: Cơ Khí | T40: Công nghệ kỹ thuật cơ khí | V40: Diễn viên kịch điện ảnh | W40: Diễn viên kịch điện ảnh
M41: 1.Rất tốt | N41: 5 | S41: Cơ khí | T41: Công nghệ kỹ thuật cơ khí | V41: Hướng dẫn viên du lịch | W41: Hướng dẫn viên du lịch
M42: 2.Tốt | N42: 4 | S42: Công nghệ kỹ thuật cơ khí | T42: Công nghệ kỹ thuật cơ khí | V42: Ngoại ngữ, tin học | W42: Ngoại ngữ, tin học
M43: 3.Trung bình | N43: 3 | S43: Công nghệ kỹ thuật ô tô | T43: Công nghệ kỹ thuật ô tô | V43: Thiết kế Web | W43: Công nghệ thông tin
M44: 4.Kém | N44: 2 | S44: Công nghệ May | T44: Công nghệ May | V44: Tiếng Nhật | W44: Ngôn ngữ Nhật
M45: 5.Rất kém | N45: 1 | S45: Công nghệ ô tô | T45: Công nghệ kỹ thuật ô tô
S46: Công Nghệ Phần Mềm | T46: Công nghệ thông tin
