Workbook
Name ABC: options!$AD$1:$AD$4
Name agreement: options!$R$2:$R$6
Name CapTD: options!$D$17:$D$17
Name employment: options!$D$2:$D$7
Name employment_after_graduation: options!$E$2:$E$5
Name fe_cert: options!$AA$2:$AA$6
Name future_plans: options!$R$2:$R$3
Name gender: options!$C$2:$C$3
Name hierarchy: options!$I$2:$I$11
Name improvement: options!$N$2:$N$8
Name industry: options!$S$2:$S$8
Name job_training_dur: options!$H$2:$H$6
Name jobapply: options!$L$2:$L$4
Name jobfind: options!$F$2:$F$8
Name jobreason: options!$K$2:$K$4
Name level: options!$W$2:$W$6
Name lydo: options!$M$2:$M$8
Name lydohocnghe: options!$AC$9:$AC$12
Name LydokoVL: options!$M$16:$M$18
Name noacceptreason: options!$M$2:$M$8
Name number: options!$V$2:$V$6
Name perception: options!$S$2:$S$6
Name rankcert: options!$T$2:$T$6
Name related: options!$U$2:$U$4
Name salary: options!$G$2:$G$6
Name School: options!$B$2:$B$27
Name schooling: options!$X$2:$X$7
Name sector: options!$J$2:$J$12
Name Thời_gian_bắt_đầu_công_việc: 'Nhập liệu'!$AO$2
Name timetraining: options!$H$2:$H$6
Name University_of_Technical_Education_Hung_Yen: 'Hướng dẫn'!$B$5
Name vt_level: options!$Y$2:$Y$7
Name vt_place: options!$Z$2:$Z$5
Name yesno: options!$Q$2:$Q$3
Name yesno2: options!$AB$2:$AB$3

Sheet Hướng dẫn
A3: Mã Trường | B3: Xin ghi mã trường in trong cuốn Hướng dẫn tuyển sinh
B4: Xin lựa chọn tên trường trong ô dưới đây
B5: 2.NI_CĐN Bách Nghệ Hải Phòng
B9: Một số điểm lưu ý khi nhập liệu
B10: 1. Mã học viên là Mã đã được lưu trong hệ thống quản lý dữ liệu của nhà trường. Nếu chưa có thì nhà trường tự lấy mã
B11: 2. Phần nhập liệu đã được xây dựng để kiểm tra tính logic đối với các câu trả lời của phiếu
B12: Cụ thể là:nếu chọn "Chưa" ở câu 6 sẽ chuyển câu 11
B13: Nếu lựa chọn "Không đi làm" câu 11 sẽ chuyển sang câu 22
B14: Lựa chọn "Đi học tiếp" trong câu 22, sẽ chuyển sang câu 25…
B15: Và các câu khác
B16: Do đó: Không nhập liệu vào ô chuyển sang màu đỏ
B17: 3. Để nhập Ô ngày/tháng/năm sinh theo đúng thứ tự cần cài đặt lại định dạng Thời gian của máy tính thống qua các bước sau:
B18: Vào thanh Start, chọn Setting,
... B27: Các nội dung nhập liệu khác tương tự như trong phần nhập thông tin cơ bản

Sheet pivot
B3: Column Labels
B4: Có việc làm | D4: Không tìm được việc làm | F4: Total Count of Chuẩn hóa ngành/nhề đào tạo 1 | G4: Total Count of Chuẩn hóa ngành/nhề đào tạo 1_2
A5: Row Labels | B5: Count of Chuẩn hóa ngành/nhề đào tạo 1 | C5: Count of Chuẩn hóa ngành/nhề đào tạo 1_2 | D5: Count of Chuẩn hóa ngành/nhề đào tạo 1 | E5: Count of Chuẩn hóa ngành/nhề đào tạo 1_2
A6: Các ngành khác | B6: 9 | C6: 0.75 | D6: 3 | E6: 0.25 | F6: 12 | G6: 1
A7: Công nghệ kỹ thuật Cơ khí | B7: 32 | C7: 0.84210526 | D7: 6 | E7: 0.15789474 | F7: 38 | G7: 1
A8: Công nghệ kỹ thuật Điện - Điện tử | B8: 29 | C8: 0.90625 | D8: 3 | E8: 0.09375 | F8: 32 | G8: 1
A9: Công nghệ Kỹ Thuật Ô Tô | B9: 38 | C9: 0.84444444 | D9: 7 | E9: 0.15555556 | F9: 45 | G9: 1
A10: Công nghệ thông tin | B10: 5 | C10: 0.71428571 | D10: 2 | E10: 0.28571429 | F10: 7 | G10: 1
A11: Grand Total | B11: 113 | C11: 0.84328358 | D11: 21 | E11: 0.15671642 | F11: 134 | G11: 1

Sheet Nhập liệu
A1: STT | B1: Trường | C1: Mã Học Viên | D1: Họ | E1: Tên đệm | F1: Tên | G1: 2.Lớp | H1: 2.Khoa | I1: 2. Ngành/ Nghề đào tạo | J1: Chuẩn hóa ngành/nhề đào tạo 1 | K1: Chuẩn hóa Ngành/Nghề đào tạo | L1: 2.Cấp trình độ | M1: 3.Địa chỉ -Số nhà/ đường phố | N1: 3.Quận-Huyện/ Xã - Phường | O1: 3.Tỉnh - Thành Phố | P1: Số ĐT | Q1: Email | R1: 4.Giới tính | S1: 5.Năm sinh | T1: Chuẩn hóa tuổi | U1: Phân theo nhóm tuổi | V1: 6.Bằng TN cao nhất | W1: 7.Đã từng học nghề trước khi vào trường | X1: 7.1Bằng nghề cao nhất | Y1: 7.2Học nghề ở đâu | Z1: 7.3 Số tháng học nghề | AA1: 8.Xếp loại tốt nghiệp | AB1: 9.Tình trạng việc làm | AC1: Chuẩn hóa việc làm theo 4 nhóm | AD1: Chuẩn hóa tình trạng việc làm | AE1: Tình trạng khác, cụ thể | AF1: 10.Lĩnh vực kinh doanh | AG1: 10.Ngành khác, nêu cụ thể | AH1: 11.Tên công ty | AI1: Địa chỉ công ty (Số nhà và phố) | AJ1: Quận/ huyện | AK1: Tỉnh/TP | AL1: Số ĐT | AM1: E-mail- Website | AN1: 12.Số giờ làm việc trong 1 tuần | AO1: 13.Thời gian bắt đầu công việc | AP1: 14.Cách thức tìm việc | AQ1: Nếu chọn Khác, xin ghi cụ thể | AR1: 15.Đánh giá về Lý thuyết | AS1: Chuẩn hóa đánh giá lý thuyết | AT1: 15.Đánh giá về Kỹ năng nghề | AU1: Chuẩn hóa đánh giá kỹ năng nghề | AV1: Công việc liên quan đến nghề đào tạo | AW1: 17.1 Thu nhập chính xác | AX1: 17.2 Mức lương | AY1: 18.Số người cùng làm việc trong công ty | AZ1: 19.Đào tạo kèm cặp trong khi làm | BA1: 19.Thời gian đào tạo | BB1: 20.Vị trí công tác | BC1: Vị trí khác, ghi cụ thể | BD1: 21.Nhu cầu học tiếp | BE1: 21.Tên nghề/kỹ năng muốn học | BF1: Chuẩn hóa Tên nghề/kỹ năng muốn học | BG1: 21.Cấp trình độ muốn học tiếp | BH1: 22.Lý do không đi làm | BI1: 23.Công việc đã xin | BJ1: 24.Lý do 1 | BK1: 24.Lý do 2 | BL1: 24.Lý do 3 | BM1: 24.Khác, cụ thể | BN1: 25.Lý do tiếp tục đi học? | BO1: 26.Tên cơ sở đào tạo | BP1: 26.Ngành nghề đào tạo | BQ1: Chuẩn hóa Nghề đào tạo | BR1: 26.Cấp trình độ của khoá học | BS1: 27.Đánh giá trình độ giáo viên | BT1: Chuẩn hóa điểm đánh giá GV | BU1: 28.Đánh giá giáo trình và nội dung | BV1: Chuẩn hóa điểm đánh giá Giáo trình - Nội dung | BW1: 29.Đánh giá về mức độ đáp ứng | BX1: Chuẩn hóa điểm đánh giá mức độ đáp ứng công việc | BY1: 30.Lĩnh vực cần được cải tiến nhất 1 | BZ1: 30.Lĩnh vực cần được cải tiến thứ 2 | CA1: 30.Lĩnh vực cần được cải tiến thứ 3 | CB1: 30. Lĩnh vực khác, cụ thể | CC1: 31.Đánh giá về danh tiếng cơ sở đào tạo | CD1: 32.Đánh giá mức độ hài lòng về chất lượng đào tạo | CE1: Chuẩn hóa chất lượng đào tạo
A2: 1 | B2: Trường Cao đẳng Lý Tự Trọng thành Phố Hồ Chí Minh | C2: 14000645 | D2: Đặng | F2: Hùng | G2: 14CĐ - CK1 | H2: Cơ khí | I2: Công nghệ kỹ thuật Cơ khí | J2: =VLOOKUP(I2,options!$R$65:$S$80,2,FALSE) -> Công nghệ kỹ thuật Cơ khí | K2: =VLOOKUP(I2,'Chuẩn hóa Ngànhnghề'!$A$4:$B$19,2,FALSE) -> Công nghệ kỹ thuật Cơ khí | L2: 4. Cao đẳng | M2: 194 Bàu Cát, | N2: Quận Tân Bình | O2: Tp.hcm | P2: 01657255832 | Q2: hungo99996@gmail.com | R2: Nam | S2: 1996 | T2: =2018-S2:S150 -> 22 | U2: =VLOOKUP(T2,'Nhóm tuổi'!$A$3:$B$9,2,FALSE) -> Dưới 25 tuổi | V2: 4.Cao đẳng | W2: Chưa | AA2: 5.Trung bình | AB2: A1.Làm công ăn lương | AC2: =VLOOKUP(AB2,options!$V$50:$W$55,2,FALSE) -> Đi làm | AD2: =VLOOKUP(AB2,options!$V$57:$W$62,2,FALSE) -> Có việc làm | AF2: 5. Sản xuất, phân phối điện, ga, nước | AH2: TNHHTBM Minh Phát | AI2: 3A/7 Nguyễn Cửa Phú, | AJ2: Quận Bình Chánh | AK2: Tp.hcm | AL2: 2838770057 | AM2: http://www.tbm.com.vn | AN2: 48 | AO2: 2.Dưới 1 tháng | AP2: Quan hệ cá nhân | AR2: 2.Tốt | AS2: =VLOOKUP(AR2,options!$M$41:$N$45,2,FALSE) -> 4 | AT2: 2.Tốt | AU2: =VLOOKUP(AT2,options!$M$41:$N$45,2,FALSE) -> 4 | AV2: 1.Có liên quan | AX2: 4. Từ 6-8 triệu | AY2: 3. Từ 10-200 người | AZ2: Có | BA2: 2. Từ 2-4 tuần | BB2: 1. Nhân viên trong thời gian thử việc (thợ học việc) | BD2: Có | BE2: Công nghệ kỹ thuật cơ khí | BF2: =VLOOKUP(BE2,options!$S$39:$T$59,2,FALSE) -> Công nghệ kỹ thuật cơ khí | BG2: 1.Đại học | BN2: Học nâng cao trình độ | BO2: Truường Đại học sư phạm Kỹ thuật Tp.HCM | BP2: CN Kỹ thuật Cơ khí | BQ2: =VLOOKUP(BP2,options!$V$31:$W$44,2,FALSE) -> Công nghệ Kỹ thuật Cơ khí | BR2: 1.Đại học | BS2: 2.Đồng ý | BT2: =VLOOKUP(BS2,options!$S$31:$T$35,2,FALSE) -> 4 | BU2: 2.Đồng ý | BV2: =VLOOKUP(BU2,options!$S$31:$T$35,2,FALSE) -> 4 | BW2: 2.Đồng ý | BX2: =VLOOKUP(BW2,options!$S$31:$T$35,2,FALSE) -> 4 | BY2: Tài liệu,chương trình (sách, v.v.) | BZ2: Trang thiết bị (máy móc, công cụ, v.v.) | CA2: Cơ sở vật chất (phòng học, thư việnv.v.) | CC2: 2.Đồng ý | CD2: 2.Đồng ý | CE2: =VLOOKUP(CD2,options!$S$31:$T$35,2,FALSE) -> 4
A3: 2 | B3: Trường Cao đẳng Lý Tự Trọng thành Phố Hồ Chí Minh | C3: 14000662 | D3: Trần | E3: Văn | F3: Nhựt | G3: 14CĐ - CK1 | H3: Cơ khí | I3: Kỹ thuật cơ khí | J3: =VLOOKUP(I3,options!$R$65:$S$80,2,FALSE) -> Công nghệ kỹ thuật Cơ khí | K3: =VLOOKUP(I3,'Chuẩn hóa Ngànhnghề'!$A$4:$B$19,2,FALSE) -> Công nghệ kỹ thuật Cơ khí | L3: 4. Cao đẳng | M3: Đường Dương Quảng Hàm, Phường 5 | N3: Quận Gò Vấp | O3: Tp.hcm | P3: 1698981118 | R3: Nam | S3: 1996 | T3: =2018-S3:S151 -> 22 | U3: =VLOOKUP(T3,'Nhóm tuổi'!$A$3:$B$9,2,FALSE) -> Dưới 25 tuổi | V3: 4.Cao đẳng | W3: Chưa | AA3: 5.Trung bình | AB3: B1.Vừa học vừa làm | AC3: =VLOOKUP(AB3,options!$V$50:$W$55,2,FALSE) -> Đi làm | AD3: =VLOOKUP(AB3,options!$V$57:$W$62,2,FALSE) -> Có việc làm | AF3: 5. Sản xuất, phân phối điện, ga, nước | AH3: Cổ Phần dây cáp điện DAPHACO | AI3: 15/15, KP5, Đường Phan Văn Hớn | AJ3: Quận 12 | AK3: Tp.hcm | AL3: 903928881 | AM3: trungtuyen@daphaco.com | AN3: 48 | AO3: 1.Trước khi TN | AP3: Do trường giới thiệu | AR3: 2.Tốt | AS3: =VLOOKUP(AR3,options!$M$41:$N$45,2,FALSE) -> 4 | AT3: 2.Tốt | AU3: =VLOOKUP(AT3,options!$M$41:$N$45,2,FALSE) -> 4 | AV3: 1.Có liên quan | AX3: 3.Từ 4-6 triệu | AY3: 3. Từ 10-200 người | AZ3: Không | BA3: 2. Từ 2-4 tuần | BB3: 2. Nhân viên chính thức | BD3: Có | BE3: Công nghệ kỹ thuật cơ khí | BF3: =VLOOKUP(BE3,options!$S$39:$T$59,2,FALSE) -> Công nghệ kỹ thuật cơ khí | BG3: 1.Đại học | BN3: Học nâng cao trình độ | BO3: Truường Đại học sư phạm Kỹ thuật Tp.HCM | BP3: CN Kỹ thuật Cơ khí | BQ3: =VLOOKUP(BP3,options!$V$31:$W$44,2,FALSE) -> Công nghệ Kỹ thuật Cơ khí | BR3: 1.Đại học | BS3: 2.Đồng ý | BT3: =VLOOKUP(BS3,options!$S$31:$T$35,2,FALSE) -> 4 | BU3: 2.Đồng ý | BV3: =VLOOKUP(BU3,options!$S$31:$T$35,2,FALSE) -> 4 | BW3: 2.Đồng ý | BX3: =VLOOKUP(BW3,options!$S$31:$T$35,2,FALSE) -> 4 | BY3: Trang thiết bị (máy móc, công cụ, v.v.) | BZ3: Cơ sở vật chất (phòng học, thư việnv.v.) | CA3: Thực tập/ thực hành tại doanh nghiệp | CC3: 2.Đồng ý | CD3: 2.Đồng ý | CE3: =VLOOKUP(CD3,options!$S$31:$T$35,2,FALSE) -> 4
A4: 3 | B4: Trường Cao đẳng Lý Tự Trọng thành Phố Hồ Chí Minh | C4: 14000633 | D4: Đặng | E4: Hữu | F4: Cảnh | G4: 14CĐ - CK1 | H4: Cơ khí | I4: Kỹ thuật cơ khí | J4: =VLOOKUP(I4,options!$R$65:$S$80,2,FALSE) -> Công nghệ kỹ thuật Cơ khí | K4: =VLOOKUP(I4,'Chuẩn hóa Ngànhnghề'!$A$4:$B$19,2,FALSE) -> Công nghệ kỹ thuật Cơ khí | L4: 4. Cao đẳng | M4: 105/363 Mũi Lớn 2, Phường Tân An Hội | N4: Huyện Củ Chi | O4: Tp.hcm | P4: 01676791293 | R4: Nam | S4: 1996 | T4: =2018-S4:S152 -> 22 | U4: =VLOOKUP(T4,'Nhóm tuổi'!$A$3:$B$9,2,FALSE) -> Dưới 25 tuổi | V4: 4.Cao đẳng | W4: Chưa | AA4: 5.Trung bình | AB4: B1.Vừa học vừa làm | AC4: =VLOOKUP(AB4,options!$V$50:$W$55,2,FALSE) -> Đi làm | AD4: =VLOOKUP(AB4,options!$V$57:$W$62,2,FALSE) -> Có việc làm | AF4: 5. Sản xuất, phân phối điện, ga, nước | AH4: Công ty TNHH Máy và sản xuất thép việt | AI4: 86/6D Đường Dương Công Khi, Xã Xuân Thới Sơn | AJ4: Hốc Môn | AK4: Tp.hcm | AL4: 028 62598102 | AM4: http://www.vietsteel.com.vn | AN4: 48 | AO4: 4.Trên 3 tháng | AP4: Quan hệ cá nhân | AR4: 2.Tốt | AS4: =VLOOKUP(AR4,options!$M$41:$N$45,2,FALSE) -> 4 | AT4: 2.Tốt | AU4: =VLOOKUP(AT4,options!$M$41:$N$45,2,FALSE) -> 4 | AV4: 1.Có liên quan | AX4: 3.Từ 4-6 triệu | AY4: 3. Từ 10-200 người | AZ4: Có | BA4: 2. Từ 2-4 tuần | BB4: 1. Nhân viên trong thời gian thử việc (thợ học việc) | BD4: Không | BF4: =VLOOKUP(BE4,options!$S$39:$T$59,2,FALSE) -> #N/A | BQ4: =VLOOKUP(BP4,options!$V$31:$W$44,2,FALSE) -> #N/A | BS4: 2.Đồng ý | BT4: =VLOOKUP(BS4,options!$S$31:$T$35,2,FALSE) -> 4 | BU4: 2.Đồng ý | BV4: =VLOOKUP(BU4,options!$S$31:$T$35,2,FALSE) -> 4 | BW4: 2.Đồng ý | BX4: =VLOOKUP(BW4,options!$S$31:$T$35,2,FALSE) -> 4 | BY4: Trang thiết bị (máy móc, công cụ, v.v.) | BZ4: Thực tập/ thực hành tại doanh nghiệp | CA4: Phương pháp giảng dạy của giáo viên | CC4: 2.Đồng ý | CD4: 2.Đồng ý | CE4: =VLOOKUP(CD4,options!$S$31:$T$35,2,FALSE) -> 4
A5: 4 | B5: Trường Cao đẳng Lý Tự Trọng thành Phố Hồ Chí Minh | C5: 14000769 | D5: Trương | E5: Ngọc | F5: Dũng | G5: 14CĐ - CK1 | H5: Cơ khí | I5: Công nghệ kỹ thuật Cơ khí | J5: =VLOOKUP(I5,options!$R$65:$S$80,2,FALSE) -> Công nghệ kỹ thuật Cơ khí | K5: =VLOOKUP(I5,'Chuẩn hóa Ngànhnghề'!$A$4:$B$19,2,FALSE) -> Công nghệ kỹ thuật Cơ khí | L5: 4. Cao đẳng | M5: Thôn 2, Tân Phúc | N5: Huyện Hàm Tân | O5: Bình Thuận | P5: 0975428945 | R5: Nam | S5: 1995 | T5: =2018-S5:S153 -> 23 | U5: =VLOOKUP(T5,'Nhóm tuổi'!$A$3:$B$9,2,FALSE) -> Dưới 25 tuổi | V5: 4.Cao đẳng | W5: Chưa | AA5: 5.Trung bình | AB5: A2.Tự SX-KD | AC5: =VLOOKUP(AB5,options!$V$50:$W$55,2,FALSE) -> Đi làm | AD5: =VLOOKUP(AB5,options!$V$57:$W$62,2,FALSE) -> Có việc làm | AF5: 5. Sản xuất, phân phối điện, ga, nước | AH5: Tại gia | AI5: Thôn 2, Tân Phúc | AJ5: Hàm tân | AK5: Bình Thuận | AL5: 0975428945 | AN5: 48 | AO5: 2.Dưới 1 tháng | AP5: Quan hệ cá nhân | AR5: 2.Tốt | AS5: =VLOOKUP(AR5,options!$M$41:$N$45,2,FALSE) -> 4 | AT5: 2.Tốt | AU5: =VLOOKUP(AT5,options!$M$41:$N$45,2,FALSE) -> 4 | AV5: 1.Có liên quan | AX5: 4. Từ 6-8 triệu | AY5: 3. Từ 10-200 người | AZ5: Không | BB5: 2. Nhân viên chính thức | BD5: Không | BF5: =VLOOKUP(BE5,options!$S$39:$T$59,2,FALSE) -> #N/A | BQ5: =VLOOKUP(BP5,options!$V$31:$W$44,2,FALSE) -> #N/A | BS5: 2.Đồng ý | BT5: =VLOOKUP(BS5,options!$S$31:$T$35,2,FALSE) -> 4 | BU5: 2.Đồng ý | BV5: =VLOOKUP(BU5,options!$S$31:$T$35,2,FALSE) -> 4 | BW5: 2.Đồng ý | BX5: =VLOOKUP(BW5,options!$S$31:$T$35,2,FALSE) -> 4 | BY5: Trang thiết bị (máy móc, công cụ, v.v.) | BZ5: Thực tập/ thực hành tại doanh nghiệp | CA5: Khác | CB5: Đầu tư nhiều cho lĩnh vực tự động hóa, thủy lực | CC5: 2.Đồng ý | CD5: 2.Đồng ý | CE5: =VLOOKUP(CD5,options!$S$31:$T$35,2,FALSE) -> 4
A6: 5 | B6: Trường Cao đẳng Lý Tự Trọng thành Phố Hồ Chí Minh | C6: 13D2010274 | D6: Nguyễn | E6: Nhật | F6: Duy | G6: 14CĐ - CK1 | H6: Cơ khí | I6: Công nghệ kỹ thuật Cơ khí | J6: =VLOOKUP(I6,options!$R$65:$S$80,2,FALSE) -> Công nghệ kỹ thuật Cơ khí | K6: =VLOOKUP(I6,'Chuẩn hóa Ngànhnghề'!$A$4:$B$19,2,FALSE) -> Công nghệ kỹ thuật Cơ khí | L6: 4. Cao đẳng | M6: 202A Vĩnh Bình A, | N6: Vĩnh Thạnh, Huyện Lấp Vò | O6: Đồng Tháp | P6: 01225898995 | R6: Nam | S6: 1995 | T6: =2018-S6:S154 -> 23 | U6: =VLOOKUP(T6,'Nhóm tuổi'!$A$3:$B$9,2,FALSE) -> Dưới 25 tuổi | V6: 4.Cao đẳng | W6: Chưa | AA6: 5.Trung bình | AB6: B1.Vừa học vừa làm | AC6: =VLOOKUP(AB6,options!$V$50:$W$55,2,FALSE) -> Đi làm | AD6: =VLOOKUP(AB6,options!$V$57:$W$62,2,FALSE) -> Có việc làm | AE6: Hợp tác lao động tại Nhật | AF6: 5. Sản xuất, phân phối điện, ga, nước | AH6: Haindeco SaiGon | AI6: 75A Nguyễn Sỹ Sách, Phường 15 | AJ6: Quận Tân Bình | AK6: Tp.hcm | AL6: 02862939539 | AM6: haindesaigon.com | AN6: 48 | AO6: 4.Trên 3 tháng | AP6: Qua quảng cáo trên Internet | AR6: 2.Tốt | AS6: =VLOOKUP(AR6,options!$M$41:$N$45,2,FALSE) -> 4 | AT6: 2.Tốt | AU6: =VLOOKUP(AT6,options!$M$41:$N$45,2,FALSE) -> 4 | AV6: 2.Liên quan | AX6: 5. Trên 8 triệu | AY6: 2. Từ 2-10người | AZ6: Có | BA6: 5.Trên 8 tuần | BB6: 1. Nhân viên trong thời gian thử việc (thợ học việc) | BD6: Không | BF6: =VLOOKUP(BE6,options!$S$39:$T$59,2,FALSE) -> #N/A | BQ6: =VLOOKUP(BP6,options!$V$31:$W$44,2,FALSE) -> #N/A | BS6: 2.Đồng ý | BT6: =VLOOKUP(BS6,options!$S$31:$T$35,2,FALSE) -> 4 | BU6: 2.Đồng ý | BV6: =VLOOKUP(BU6,options!$S$31:$T$35,2,FALSE) -> 4 | BW6: 2.Đồng ý | BX6: =VLOOKUP(BW6,options!$S$31:$T$35,2,FALSE) -> 4 | BY6: Tài liệu,chương trình (sách, v.v.) | BZ6: Trang thiết bị (máy móc, công cụ, v.v.) | CA6: Thực tập/ thực hành tại doanh nghiệp | CC6: 2.Đồng ý | CD6: 2.Đồng ý | CE6: =VLOOKUP(CD6,options!$S$31:$T$35,2,FALSE) -> 4
A7: 6 | B7: Trường Cao đẳng Lý Tự Trọng thành Phố Hồ Chí Minh | C7: 13D2010036 | D7: Nguyễn | E7: Vĩnh | F7: Đạt | G7: 14CĐ - CK1 | H7: Cơ khí | I7: Công nghệ kỹ thuật Cơ khí | J7: =VLOOKUP(I7,options!$R$65:$S$80,2,FALSE) -> Công nghệ kỹ thuật Cơ khí | K7: =VLOOKUP(I7,'Chuẩn hóa Ngànhnghề'!$A$4:$B$19,2,FALSE) -> Công nghệ kỹ thuật Cơ khí | L7: 4. Cao đẳng | M7: 945/66 Thống Nhất, Phường 16 | N7: Quận Gò Vấp | O7: Tp.hcm | P7: 0934722310 | R7: Nam | S7: 1995 | T7: =2018-S7:S155 -> 23 | U7: =VLOOKUP(T7,'Nhóm tuổi'!$A$3:$B$9,2,FALSE) -> Dưới 25 tuổi | V7: 4.Cao đẳng | W7: Chưa | AA7: 5.Trung bình | AB7: A2.Tự SX-KD | AC7: =VLOOKUP(AB7,options!$V$50:$W$55,2,FALSE) -> Đi làm | AD7: =VLOOKUP(AB7,options!$V$57:$W$62,2,FALSE) -> Có việc làm | AE7: Phụ gia đình | AF7: 6.Thương mại & Dịch vụ (Bán buôn, bán lẻ) | AH7: Tại gia | AI7: 945/66 Thống Nhất, Phường 16 | AJ7: Quận Gò Vấp | AK7: Tp.hcm | AL7: 0934722310 | AN7: 48 | AO7: 4.Trên 3 tháng | AP7: Quan hệ cá nhân | AR7: 2.Tốt | AS7: =VLOOKUP(AR7,options!$M$41:$N$45,2,FALSE) -> 4 | AT7: 2.Tốt | AU7: =VLOOKUP(AT7,options!$M$41:$N$45,2,FALSE) -> 4 | AV7: 3.Không liên quan | AX7: 3.Từ 4-6 triệu | AY7: 2. Từ 2-10người | AZ7: Không | BB7: 2. Nhân viên chính thức | BD7: Không | BF7: =VLOOKUP(BE7,options!$S$39:$T$59,2,FALSE) -> #N/A | BQ7: =VLOOKUP(BP7,options!$V$31:$W$44,2,FALSE) -> #N/A | BS7: 2.Đồng ý | BT7: =VLOOKUP(BS7,options!$S$31:$T$35,2,FALSE) -> 4 | BU7: 2.Đồng ý | BV7: =VLOOKUP(BU7,options!$S$31:$T$35,2,FALSE) -> 4 | BW7: 2.Đồng ý | BX7: =VLOOKUP(BW7,options!$S$31:$T$35,2,FALSE) -> 4 | BY7: Tài liệu,chương trình (sách, v.v.) | BZ7: Thực tập/ thực hành tại doanh nghiệp | CC7: 2.Đồng ý | CD7: 2.Đồng ý | CE7: =VLOOKUP(CD7,options!$S$31:$T$35,2,FALSE) -> 4
A8: 7 | B8: Trường Cao đẳng Lý Tự Trọng thành Phố Hồ Chí Minh | C8: 14000659 | D8: Bùi | E8: Thị | F8: Nguyệt | G8: 14CĐ - CK1 | H8: Cơ khí | I8: Công nghệ kỹ thuật Cơ khí | J8: =VLOOKUP(I8,options!$R$65:$S$80,2,FALSE) -> Công nghệ kỹ thuật Cơ khí | K8: =VLOOKUP(I8,'Chuẩn hóa Ngànhnghề'!$A$4:$B$19,2,FALSE) -> Công nghệ kỹ thuật Cơ khí | L8: 4. Cao đẳng | M8: F4/29X Ấp 6C, Vĩnh Lộc A, | N8: Huyện Bình Chánh | O8: Tp.hcm | P8: 01657367744 | Q8: buinguyet2109@gmail.com | R8: Nữ | S8: 1995 | T8: =2018-S8:S156 -> 23 | U8: =VLOOKUP(T8,'Nhóm tuổi'!$A$3:$B$9,2,FALSE) -> Dưới 25 tuổi | V8: 4.Cao đẳng | W8: Chưa | AA8: 3.Khá | AB8: A1.Làm công ăn lương | AC8: =VLOOKUP(AB8,options!$V$50:$W$55,2,FALSE) -> Đi làm | AD8: =VLOOKUP(AB8,options!$V$57:$W$62,2,FALSE) -> Có việc làm | AF8: 4. Xây dựng | AH8: Cổ phần kỹ thuật ý tưởng | AI8: 16 Bình Lợi, Phường 13 | AJ8: Quận Bình Thạnh | AK8: Tp.hcm | AL8: 02862800666 | AM8: http://cadcam-vn.com/english/ | AN8: 48 | AO8: 2.Dưới 1 tháng | AP8: Qua quảng cáo trên Internet | AR8: 1.Rất tốt | AS8: =VLOOKUP(AR8,options!$M$41:$N$45,2,FALSE) -> 5 | AT8: 1.Rất tốt | AU8: =VLOOKUP(AT8,options!$M$41:$N$45,2,FALSE) -> 5 | AV8: 1.Có liên quan | AX8: 4. Từ 6-8 triệu | AY8: 3. Từ 10-200 người | AZ8: Có | BA8: 5.Trên 8 tuần | BB8: 2. Nhân viên chính thức | BD8: Có | BE8: Gia công Master Cam | BF8: =VLOOKUP(BE8,options!$S$39:$T$59,2,FALSE) -> Gia công Master Cam | BG8: 4.Sơ cấp | BQ8: =VLOOKUP(BP8,options!$V$31:$W$44,2,FALSE) -> #N/A | BS8: 2.Đồng ý | BT8: =VLOOKUP(BS8,options!$S$31:$T$35,2,FALSE) -> 4 | BU8: 2.Đồng ý | BV8: =VLOOKUP(BU8,options!$S$31:$T$35,2,FALSE) -> 4 | BW8: 2.Đồng ý | BX8: =VLOOKUP(BW8,options!$S$31:$T$35,2,FALSE) -> 4 | BY8: Tài liệu,chương trình (sách, v.v.) | BZ8: Trang thiết bị (máy móc, công cụ, v.v.) | CA8: Cơ sở vật chất (phòng học, thư việnv.v.) | CC8: 2.Đồng ý | CD8: 2.Đồng ý | CE8: =VLOOKUP(CD8,options!$S$31:$T$35,2,FALSE) -> 4
A9: 8 | B9: Trường Cao đẳng Lý Tự Trọng thành Phố Hồ Chí Minh | C9: 14000646 | D9: Đỗ | E9: Ngọc | F9: Huy | G9: 14CĐ - CK1 | H9: Cơ khí | I9: Công nghệ kỹ thuật Cơ khí | J9: =VLOOKUP(I9,options!$R$65:$S$80,2,FALSE) -> Công nghệ kỹ thuật Cơ khí | K9: =VLOOKUP(I9,'Chuẩn hóa Ngànhnghề'!$A$4:$B$19,2,FALSE) -> Công nghệ kỹ thuật Cơ khí | L9: 4. Cao đẳng | M9: 2072/G Bến Nân 1, Phú Cường | N9: Huyện Định Quán | O9: Đồng Nai | P9: 01686754060 | R9: Nam | S9: 1996 | T9: =2018-S9:S157 -> 22 | U9: =VLOOKUP(T9,'Nhóm tuổi'!$A$3:$B$9,2,FALSE) -> Dưới 25 tuổi | V9: 4.Cao đẳng | W9: Chưa | AA9: 5.Trung bình | AB9: A1.Làm công ăn lương | AC9: =VLOOKUP(AB9,options!$V$50:$W$55,2,FALSE) -> Đi làm | AD9: =VLOOKUP(AB9,options!$V$57:$W$62,2,FALSE) -> Có việc làm | AF9: 5. Sản xuất, phân phối điện, ga, nước | AH9: TMB Minh Phát | AI9: 20 Nguyễn Cửa Phú, Xã Tân Kiên, | AJ9: Huyện Bình Chánh | AK9: Tp.hcm | AL9: 0283877057 | AM9: www.tbm.com.vn | AN9: 48 | AO9: 4.Trên 3 tháng | AP9: Quan hệ cá nhân | AR9: 2.Tốt | AS9: =VLOOKUP(AR9,options!$M$41:$N$45,2,FALSE) -> 4 | AT9: 2.Tốt | AU9: =VLOOKUP(AT9,options!$M$41:$N$45,2,FALSE) -> 4 | AV9: 1.Có liên quan | AX9: 4. Từ 6-8 triệu | AY9: 3. Từ 10-200 người | AZ9: Có | BA9: 1. Dưới 2 tuần | BB9: 2. Nhân viên chính thức | BD9: Không | BF9: =VLOOKUP(BE9,options!$S$39:$T$59,2,FALSE) -> #N/A | BQ9: =VLOOKUP(BP9,options!$V$31:$W$44,2,FALSE) -> #N/A | BS9: 2.Đồng ý | BT9: =VLOOKUP(BS9,options!$S$31:$T$35,2,FALSE) -> 4 | BU9: 2.Đồng ý | BV9: =VLOOKUP(BU9,options!$S$31:$T$35,2,FALSE) -> 4 | BW9: 2.Đồng ý | BX9: =VLOOKUP(BW9,options!$S$31:$T$35,2,FALSE) -> 4 | BY9: Tài liệu,chương trình (sách, v.v.) | BZ9: Trang thiết bị (máy móc, công cụ, v.v.) | CA9: Thực tập/ thực hành tại doanh nghiệp | CC9: 2.Đồng ý | CD9: 2.Đồng ý | CE9: =VLOOKUP(CD9,options!$S$31:$T$35,2,FALSE) -> 4
A10: 9 | B10: Trường Cao đẳng Lý Tự Trọng thành Phố Hồ Chí Minh | C10: 14000642 | D10: Phạm | E10: Nguyễn Thái | F10: Hiền | G10: 14CĐ - CK1 | H10: Cơ khí | I10: Công nghệ kỹ thuật Cơ khí | J10: =VLOOKUP(I10,options!$R$65:$S$80,2,FALSE) -> Công nghệ kỹ thuật Cơ khí | K10: =VLOOKUP(I10,'Chuẩn hóa Ngànhnghề'!$A$4:$B$19,2,FALSE) -> Công nghệ kỹ thuật Cơ khí | L10: 4. Cao đẳng | M10: Võ Thành Trang, Phường 10 | N10: Quận Tân Bình | O10: Tp.hcm | P10: 01679069226 | Q10: trannam1cuoctinh@gmail.com | R10: Nam | S10: 1996 | T10: =2018-S10:S158 -> 22 | U10: =VLOOKUP(T10,'Nhóm tuổi'!$A$3:$B$9,2,FALSE) -> Dưới 25 tuổi | V10: 4.Cao đẳng | W10: Chưa | AA10: 5.Trung bình | AB10: A1.Làm công ăn lương | AC10: =VLOOKUP(AB10,options!$V$50:$W$55,2,FALSE) -> Đi làm | AD10: =VLOOKUP(AB10,options!$V$57:$W$62,2,FALSE) -> Có việc làm | AF10: 5. Sản xuất, phân phối điện, ga, nước | AH10: TMB Minh Phát | AI10: 20 Nguyễn Cửa Phú, Xã Tân Kiên, | AJ10: Huyện Bình Chánh | AK10: Tp.hcm | AL10: 0283877057 | AM10: www.tbm.com.vn | AN10: 48 | AO10: 4.Trên 3 tháng | AP10: Quan hệ cá nhân | AR10: 2.Tốt | AS10: =VLOOKUP(AR10,options!$M$41:$N$45,2,FALSE) -> 4 | AT10: 3.Trung bình | AU10: =VLOOKUP(AT10,options!$M$41:$N$45,2,FALSE) -> 3 | AV10: 1.Có liên quan | AX10: 4. Từ 6-8 triệu | AY10: 3. Từ 10-200 người | AZ10: Có | BA10: 1. Dưới 2 tuần | BB10: 2. Nhân viên chính thức | BD10: Có | BE10: Công nghệ kỹ thuật cơ khí | BF10: =VLOOKUP(BE10,options!$S$39:$T$59,2,FALSE) -> Công nghệ kỹ thuật cơ khí | BG10: 1.Đại học | BQ10: =VLOOKUP(BP10,options!$V$31:$W$44,2,FALSE) -> #N/A | BS10: 2.Đồng ý | BT10: =VLOOKUP(BS10,options!$S$31:$T$35,2,FALSE) -> 4 | BU10: 2.Đồng ý | BV10: =VLOOKUP(BU10,options!$S$31:$T$35,2,FALSE) -> 4 | BW10: 2.Đồng ý | BX10: =VLOOKUP(BW10,options!$S$31:$T$35,2,FALSE) -> 4 | BY10: Tài liệu,chương trình (sách, v.v.) | BZ10: Trang thiết bị (máy móc, công cụ, v.v.) | CA10: Thực tập/ thực hành tại doanh nghiệp | CC10: 2.Đồng ý | CD10: 2.Đồng ý | CE10: =VLOOKUP(CD10,options!$S$31:$T$35,2,FALSE) -> 4
A11: 10 | B11: Trường Cao đẳng Lý Tự Trọng thành Phố Hồ Chí Minh | C11: 14000660 | D11: Huỳnh | E11: Minh | F11: Nhàn | G11: 14CĐ - CK1 | H11: Cơ khí | I11: Công nghệ kỹ thuật Cơ khí | J11: =VLOOKUP(I11,options!$R$65:$S$80,2,FALSE) -> Công nghệ kỹ thuật Cơ khí | K11: =VLOOKUP(I11,'Chuẩn hóa Ngànhnghề'!$A$4:$B$19,2,FALSE) -> Công nghệ kỹ thuật Cơ khí | L11: 4. Cao đẳng | M11: 5/10 Võ Trường Toản, Phường 15 | N11: Quận 5 | O11: Tp.hcm | P11: 0966276729 | Q11: minhnhan2729@gmail.com | R11: Nam | S11: 1996 | T11: =2018-S11:S159 -> 22 | U11: =VLOOKUP(T11,'Nhóm tuổi'!$A$3:$B$9,2,FALSE) -> Dưới 25 tuổi | V11: 4.Cao đẳng | W11: Chưa | AA11: 5.Trung bình | AB11: A1.Làm công ăn lương | AC11: =VLOOKUP(AB11,options!$V$50:$W$55,2,FALSE) -> Đi làm | AD11: =VLOOKUP(AB11,options!$V$57:$W$62,2,FALSE) -> Có việc làm | AF11: 6.Thương mại & Dịch vụ (Bán buôn, bán lẻ) | AH11: Quảng cáo Trí Việt | AI11: 195B Nam Kỳ Khởi Nghĩa, Phường 7 | AJ11: Quận 3 | AK11: Tp.hcm | AL11: 02839325092 | AN11: 48 | AO11: 4.Trên 3 tháng | AP11: Qua quảng cáo trên Internet | AR11: 2.Tốt | AS11: =VLOOKUP(AR11,options!$M$41:$N$45,2,FALSE) -> 4 | AT11: 2.Tốt | AU11: =VLOOKUP(AT11,options!$M$41:$N$45,2,FALSE) -> 4 | AV11: 1.Có liên quan | AX11: 3.Từ 4-6 triệu | AY11: 2. Từ 2-10người | AZ11: Có | BA11: 2. Từ 2-4 tuần | BB11: 1. Nhân viên trong thời gian thử việc (thợ học việc) | BD11: Không | BF11: =VLOOKUP(BE11,options!$S$39:$T$59,2,FALSE) -> #N/A | BQ11: =VLOOKUP(BP11,options!$V$31:$W$44,2,FALSE) -> #N/A | BS11: 1.Hoàn toàn đồng ý | BT11: =VLOOKUP(BS11,options!$S$31:$T$35,2,FALSE) -> 5 | BU11: 1.Hoàn toàn đồng ý | BV11: =VLOOKUP(BU11,options!$S$31:$T$35,2,FALSE) -> 5 | BW11: 1.Hoàn toàn đồng ý | BX11: =VLOOKUP(BW11,options!$S$31:$T$35,2,FALSE) -> 5 | BY11: Tài liệu,chương trình (sách, v.v.) | BZ11: Trang thiết bị (máy móc, công cụ, v.v.) | CA11: Thực tập/ thực hành tại doanh nghiệp | CC11: 2.Đồng ý | CD11: 2.Đồng ý | CE11: =VLOOKUP(CD11,options!$S$31:$T$35,2,FALSE) -> 4
A12: 11 | B12: Trường Cao đẳng Lý Tự Trọng thành Phố Hồ Chí Minh | C12: 14000674 | D12: Ngô | E12: Huỳnh Minh | F12: Tự | G12: 14CĐ - CK1 | H12: Cơ khí | I12: Công nghệ kỹ thuật Cơ khí | J12: =VLOOKUP(I12,options!$R$65:$S$80,2,FALSE) -> Công nghệ kỹ thuật Cơ khí | K12: =VLOOKUP(I12,'Chuẩn hóa Ngànhnghề'!$A$4:$B$19,2,FALSE) -> Công nghệ kỹ thuật Cơ khí | L12: 4. Cao đẳng | M12: Quốc Lộ 13, Phường Hiệp Bình Chánh | N12: Quận Thủ Đức | O12: Tp.hcm | P12: 01686725052 | Q12: huynhminh107@gmail.com | R12: Nam | S12: 1996 | T12: =2018-S12:S160 -> 22 | U12: =VLOOKUP(T12,'Nhóm tuổi'!$A$3:$B$9,2,FALSE) -> Dưới 25 tuổi | V12: 4.Cao đẳng | W12: Chưa | AA12: 5.Trung bình | AB12: A1.Làm công ăn lương | AC12: =VLOOKUP(AB12,options!$V$50:$W$55,2,FALSE) -> Đi làm | AD12: =VLOOKUP(AB12,options!$V$57:$W$62,2,FALSE) -> Có việc làm | AF12: 4. Xây dựng | AH12: TNHH Tập Đoàn Thang Máy Thiết Bị Thăng Long | AI12: 17A Điện Biên Phủ,Phường 25, | AJ12: Quận Bình Thạnh | AK12: Tp.hcm | AL12: 02835112607 | AM12: http://www.tle.com.vn | AN12: 48 | AO12: 2.Dưới 1 tháng | AP12: Quan hệ cá nhân | AR12: 1.Rất tốt | AS12: =VLOOKUP(AR12,options!$M$41:$N$45,2,FALSE) -> 5 | AT12: 1.Rất tốt | AU12: =VLOOKUP(AT12,options!$M$41:$N$45,2,FALSE) -> 5 | AV12: 1.Có liên quan | AX12: 4. Từ 6-8 triệu | AY12: 3. Từ 10-200 người | AZ12: Có | BA12: 2. Từ 2-4 tuần | BB12: 2. Nhân viên chính thức | BD12: Có | BE12: Công nghệ kỹ thuật cơ khí | BF12: =VLOOKUP(BE12,options!$S$39:$T$59,2,FALSE) -> Công nghệ kỹ thuật cơ khí | BG12: 1.Đại học | BQ12: =VLOOKUP(BP12,options!$V$31:$W$44,2,FALSE) -> #N/A | BS12: 2.Đồng ý | BT12: =VLOOKUP(BS12,options!$S$31:$T$35,2,FALSE) -> 4 | BU12: 3.Đồng ý phần nào | BV12: =VLOOKUP(BU12,options!$S$31:$T$35,2,FALSE) -> 3 | BW12: 2.Đồng ý | BX12: =VLOOKUP(BW12,options!$S$31:$T$35,2,FALSE) -> 4 | BY12: Tài liệu,chương trình (sách, v.v.) | BZ12: Trang thiết bị (máy móc, công cụ, v.v.) | CA12: Thực tập/ thực hành tại doanh nghiệp | CC12: 2.Đồng ý | CD12: 2.Đồng ý | CE12: =VLOOKUP(CD12,options!$S$31:$T$35,2,FALSE) -> 4
A13: 12 | B13: Trường Cao đẳng Lý Tự Trọng thành Phố Hồ Chí Minh | C13: 14000666 | D13: Phạm | E13: Hoài | F13: Phương | G13: 14CĐ - CK1 | H13: Cơ khí | I13: Công nghệ kỹ thuật Cơ khí | J13: =VLOOKUP(I13,options!$R$65:$S$80,2,FALSE) -> Công nghệ kỹ thuật Cơ khí | K13: =VLOOKUP(I13,'Chuẩn hóa Ngànhnghề'!$A$4:$B$19,2,FALSE) -> Công nghệ kỹ thuật Cơ khí | L13: 4. Cao đẳng | M13: 468 Trường Chinh, Phường 13 | N13: Quận Tân Bình | O13: Tp.hcm | P13: 0964301800 | Q13: phamphuong083@gmail | R13: Nam | S13: 1996 | T13: =2018-S13:S161 -> 22 | U13: =VLOOKUP(T13,'Nhóm tuổi'!$A$3:$B$9,2,FALSE) -> Dưới 25 tuổi | V13: 4.Cao đẳng | W13: Chưa | AA13: 5.Trung bình | AB13: A1.Làm công ăn lương | AC13: =VLOOKUP(AB13,options!$V$50:$W$55,2,FALSE) -> Đi làm | AD13: =VLOOKUP(AB13,options!$V$57:$W$62,2,FALSE) -> Có việc làm | AF13: 5. Sản xuất, phân phối điện, ga, nước | AH13: TNHH Hỗ Trợ Kiểm Định và DVCN Toàn Quốc | AI13: E29 KDC Vạn Hưng Phát, Hoàng Quốc Việt, Phường Phú Thuận | AJ13: Quận 7 | AK13: Tp.hcm | AL13: 908271217 | AM13: hotro@congnghieptoanquoc.com | AN13: 48 | AO13: 2.Dưới 1 tháng | AP13: Do trường giới thiệu | AR13: 2.Tốt | AS13: =VLOOKUP(AR13,options!$M$41:$N$45,2,FALSE) -> 4 | AT13: 3.Trung bình | AU13: =VLOOKUP(AT13,options!$M$41:$N$45,2,FALSE) -> 3 | AV13: 3.Không liên quan | AX13: 4. Từ 6-8 triệu | AY13: 2. Từ 2-10người | AZ13: Có | BA13: 5.Trên 8 tuần | BB13: 2. Nhân viên chính thức | BD13: Không | BF13: =VLOOKUP(BE13,options!$S$39:$T$59,2,FALSE) -> #N/A | BQ13: =VLOOKUP(BP13,options!$V$31:$W$44,2,FALSE) -> #N/A | BS13: 2.Đồng ý | BT13: =VLOOKUP(BS13,options!$S$31:$T$35,2,FALSE) -> 4 | BU13: 2.Đồng ý | BV13: =VLOOKUP(BU13,options!$S$31:$T$35,2,FALSE) -> 4 | BW13: 2.Đồng ý | BX13: =VLOOKUP(BW13,options!$S$31:$T$35,2,FALSE) -> 4 | BY13: Trang thiết bị (máy móc, công cụ, v.v.) | BZ13: Thực tập/ thực hành tại doanh nghiệp | CC13: 2.Đồng ý | CD13: 1.Hoàn toàn đồng ý | CE13: =VLOOKUP(CD13,options!$S$31:$T$35,2,FALSE) -> 5
A14: 13 | B14: Trường Cao đẳng Lý Tự Trọng thành Phố Hồ Chí Minh | C14: 14000668 | D14: Trần | E14: Văn | F14: Qúi | G14: 14CĐ - CK1 | H14: Cơ khí | I14: Công nghệ kỹ thuật Cơ khí | J14: =VLOOKUP(I14,options!$R$65:$S$80,2,FALSE) -> Công nghệ kỹ thuật Cơ khí | K14: =VLOOKUP(I14,'Chuẩn hóa Ngànhnghề'!$A$4:$B$19,2,FALSE) -> Công nghệ kỹ thuật Cơ khí | L14: 4. Cao đẳng | M14: 149/61/20 Bành Văn Trân, Phường 7 | N14: Quận Tân Bình | O14: Tp.hcm | P14: 01669148819 | Q14: tranqui634@gmail.com | R14: Nam | S14: 1996 | T14: =2018-S14:S162 -> 22 | U14: =VLOOKUP(T14,'Nhóm tuổi'!$A$3:$B$9,2,FALSE) -> Dưới 25 tuổi | V14: 4.Cao đẳng | W14: Chưa | AA14: 5.Trung bình | AB14: A1.Làm công ăn lương | AC14: =VLOOKUP(AB14,options!$V$50:$W$55,2,FALSE) -> Đi làm | AD14: =VLOOKUP(AB14,options!$V$57:$W$62,2,FALSE) -> Có việc làm | AF14: 7.Khách sạn, Nhà hàng và Lữ hành | AH14: Cười Lên Cái Coi | AI14: 1012 Trường Sa, Phường 12 | AJ14: Quận 3 | AK14: Tp.hcm | AL14: 0905887486 | AN14: 56 | AO14: 4.Trên 3 tháng | AP14: Qua quảng cáo trên Internet | AR14: 2.Tốt | AS14: =VLOOKUP(AR14,options!$M$41:$N$45,2,FALSE) -> 4 | AT14: 2.Tốt | AU14: =VLOOKUP(AT14,options!$M$41:$N$45,2,FALSE) -> 4 | AV14: 3.Không liên quan | AX14: 3.Từ 4-6 triệu | AY14: 3. Từ 10-200 người | AZ14: Có | BA14: 5.Trên 8 tuần | BB14: 2. Nhân viên chính thức | BD14: Không | BF14: =VLOOKUP(BE14,options!$S$39:$T$59,2,FALSE) -> #N/A | BQ14: =VLOOKUP(BP14,options!$V$31:$W$44,2,FALSE) -> #N/A | BS14: 2.Đồng ý | BT14: =VLOOKUP(BS14,options!$S$31:$T$35,2,FALSE) -> 4 | BU14: 2.Đồng ý | BV14: =VLOOKUP(BU14,options!$S$31:$T$35,2,FALSE) -> 4 | BW14: 2.Đồng ý | BX14: =VLOOKUP(BW14,options!$S$31:$T$35,2,FALSE) -> 4 | BY14: Trang thiết bị (máy móc, công cụ, v.v.) | BZ14: Thực tập/ thực hành tại doanh nghiệp | CA14: Kỹ năng thực hành của giáo viên | CC14: 2.Đồng ý | CD14: 2.Đồng ý | CE14: =VLOOKUP(CD14,options!$S$31:$T$35,2,FALSE) -> 4
A15: 14 | B15: Trường Cao đẳng Lý Tự Trọng thành Phố Hồ Chí Minh | C15: 14000634 | D15: Nguyễn | E15: Thị Thùy | F15: Dương | G15: 14CĐ - CK1 | H15: Cơ khí | I15: Công nghệ kỹ thuật Cơ khí | J15: =VLOOKUP(I15,options!$R$65:$S$80,2,FALSE) -> Công nghệ kỹ thuật Cơ khí | K15: =VLOOKUP(I15,'Chuẩn hóa Ngànhnghề'!$A$4:$B$19,2,FALSE) -> Công nghệ kỹ thuật Cơ khí | L15: 4. Cao đẳng | M15: 15 Lê Tấn Quốc, Phường 13 | N15: Quận Tân Bình | O15: Tp.hcm | P15: 0122367223 | Q15: chaniduong96@gmail.com | R15: Nữ | S15: 1996 | T15: =2018-S15:S163 -> 22 | U15: =VLOOKUP(T15,'Nhóm tuổi'!$A$3:$B$9,2,FALSE) -> Dưới 25 tuổi | V15: 4.Cao đẳng | W15: Chưa | AA15: 5.Trung bình | AB15: A1.Làm công ăn lương | AC15: =VLOOKUP(AB15,options!$V$50:$W$55,2,FALSE) -> Đi làm | AD15: =VLOOKUP(AB15,options!$V$57:$W$62,2,FALSE) -> Có việc làm | AF15: 5. Sản xuất, phân phối điện, ga, nước | AH15: Việt Nhật Tân | AI15: 35/15 Phan Văn Hớn, Phường Tân Thới Nhất | AJ15: Quận 12 | AK15: Tp.hcm | AL15: 02862591213 | AM15: http://www.vietnhattan.com.vn | AN15: 48 | AO15: 2.Dưới 1 tháng | AP15: Qua quảng cáo trên Internet | AR15: 2.Tốt | AS15: =VLOOKUP(AR15,options!$M$41:$N$45,2,FALSE) -> 4 | AT15: 2.Tốt | AU15: =VLOOKUP(AT15,options!$M$41:$N$45,2,FALSE) -> 4 | AV15: 1.Có liên quan | AX15: 4. Từ 6-8 triệu | AY15: 3. Từ 10-200 người | AZ15: Có | BA15: 2. Từ 2-4 tuần | BB15: 2. Nhân viên chính thức | BD15: Có | BE15: Ngôn ngữ Nhật | BF15: =VLOOKUP(BE15,options!$S$39:$T$59,2,FALSE) -> Ngôn ngữ Nhật | BG15: 2.Cao đẳng | BQ15: =VLOOKUP(BP15,options!$V$31:$W$44,2,FALSE) -> #N/A | BS15: 2.Đồng ý | BT15: =VLOOKUP(BS15,options!$S$31:$T$35,2,FALSE) -> 4 | BU15: 2.Đồng ý | BV15: =VLOOKUP(BU15,options!$S$31:$T$35,2,FALSE) -> 4 | BW15: 2.Đồng ý | BX15: =VLOOKUP(BW15,options!$S$31:$T$35,2,FALSE) -> 4 | BY15: Thực tập/ thực hành tại doanh nghiệp | BZ15: Phương pháp giảng dạy của giáo viên | CC15: 2.Đồng ý | CD15: 2.Đồng ý | CE15: =VLOOKUP(CD15,options!$S$31:$T$35,2,FALSE) -> 4
A16: 15 | B16: Trường Cao đẳng Lý Tự Trọng thành Phố Hồ Chí Minh | C16: 14000661 | D16: Nguyễn | E16: Trọng | F16: Nhân | G16: 14CĐ - CK1 | H16: Cơ khí | I16: Công nghệ kỹ thuật Cơ khí | J16: =VLOOKUP(I16,options!$R$65:$S$80,2,FALSE) -> Công nghệ kỹ thuật Cơ khí | K16: =VLOOKUP(I16,'Chuẩn hóa Ngànhnghề'!$A$4:$B$19,2,FALSE) -> Công nghệ kỹ thuật Cơ khí | L16: 4. Cao đẳng | M16: 131/49 Đường Số 1, Phường Bình Hưng Hòa | N16: Quận Bình Tân | O16: Tp.hcm | P16: 01285069677 | R16: Nam | S16: 1996 | T16: =2018-S16:S164 -> 22 | U16: =VLOOKUP(T16,'Nhóm tuổi'!$A$3:$B$9,2,FALSE) -> Dưới 25 tuổi | V16: 4.Cao đẳng | W16: Chưa | AA16: 5.Trung bình | AB16: A1.Làm công ăn lương | AC16: =VLOOKUP(AB16,options!$V$50:$W$55,2,FALSE) -> Đi làm | AD16: =VLOOKUP(AB16,options!$V$57:$W$62,2,FALSE) -> Có việc làm | AF16: 5. Sản xuất, phân phối điện, ga, nước | AH16: Cổ Phần Cơ Điện Năng Lượng Tân Phú | AI16: 50/30 Gò Dầu, Phường Tân Qúi | AJ16: Quận Tân Phú | AK16: Tp.hcm | AL16: 028738114792 | AM16: http://tamepco.com/sam-pham.html(tamepco@gmail.com | AN16: 48 | AO16: 2.Dưới 1 tháng | AP16: Qua quảng cáo trên Internet | AR16: 1.Rất tốt | AS16: =VLOOKUP(AR16,options!$M$41:$N$45,2,FALSE) -> 5 | AT16: 2.Tốt | AU16: =VLOOKUP(AT16,options!$M$41:$N$45,2,FALSE) -> 4 | AV16: 1.Có liên quan | AX16: 4. Từ 6-8 triệu | AY16: 3. Từ 10-200 người | AZ16: Có | BA16: 2. Từ 2-4 tuần | BB16: 2. Nhân viên chính thức | BD16: Không | BF16: =VLOOKUP(BE16,options!$S$39:$T$59,2,FALSE) -> #N/A | BQ16: =VLOOKUP(BP16,options!$V$31:$W$44,2,FALSE) -> #N/A | BS16: 2.Đồng ý | BT16: =VLOOKUP(BS16,options!$S$31:$T$35,2,FALSE) -> 4 | BU16: 2.Đồng ý | BV16: =VLOOKUP(BU16,options!$S$31:$T$35,2,FALSE) -> 4 | BW16: 2.Đồng ý | BX16: =VLOOKUP(BW16,options!$S$31:$T$35,2,FALSE) -> 4 | BY16: Trang thiết bị (máy móc, công cụ, v.v.) | BZ16: Cơ sở vật chất (phòng học, thư việnv.v.) | CA16: Thực tập/ thực hành tại doanh nghiệp | CC16: 2.Đồng ý | CD16: 2.Đồng ý | CE16: =VLOOKUP(CD16,options!$S$31:$T$35,2,FALSE) -> 4
A17: 16 | B17: Trường Cao đẳng Lý Tự Trọng thành Phố Hồ Chí Minh | C17: 14000624 | D17: Trần | E17: Thiện | F17: Minh | G17: 14CĐ - CK2 | H17: Cơ khí | I17: Công nghệ kỹ thuật Cơ khí | J17: =VLOOKUP(I17,options!$R$65:$S$80,2,FALSE) -> Công nghệ kỹ thuật Cơ khí | K17: =VLOOKUP(I17,'Chuẩn hóa Ngànhnghề'!$A$4:$B$19,2,FALSE) -> Công nghệ kỹ thuật Cơ khí | L17: 4. Cao đẳng | M17: An Thạnh, An Ninh Tây | N17: Đức Hòa | O17: Long An | P17: 01667205923 | R17: Nam | S17: 1996 | T17: =2018-S17:S165 -> 22 | U17: =VLOOKUP(T17,'Nhóm tuổi'!$A$3:$B$9,2,FALSE) -> Dưới 25 tuổi | V17: 4.Cao đẳng | W17: Chưa | AA17: 5.Trung bình | AB17: A1.Làm công ăn lương | AC17: =VLOOKUP(AB17,options!$V$50:$W$55,2,FALSE) -> Đi làm | AD17: =VLOOKUP(AB17,options!$V$57:$W$62,2,FALSE) -> Có việc làm | AF17: 6.Thương mại & Dịch vụ (Bán buôn, bán lẻ) | AH17: NOWZONE, FASHION MALL | AI17: 235 Nguyễn Văn Cừ, Phường Nguyễn Cư Trinh | AJ17: Quận 1 | AK17: Tp.hcm | AL17: 02839251550 | AM17: www.nowzone.com.vn | AN17: 48 | AO17: 3. Từ 1-3 tháng | AP17: Qua quảng cáo trên Internet | AR17: 2.Tốt | AS17: =VLOOKUP(AR17,options!$M$41:$N$45,2,FALSE) -> 4 | AT17: 2.Tốt | AU17: =VLOOKUP(AT17,options!$M$41:$N$45,2,FALSE) -> 4 | AV17: 2.Liên quan | AX17: 3.Từ 4-6 triệu | AY17: 3. Từ 10-200 người | AZ17: Có | BA17: 2. Từ 2-4 tuần | BB17: 2. Nhân viên chính thức | BD17: Không | BF17: =VLOOKUP(BE17,options!$S$39:$T$59,2,FALSE) -> #N/A | BQ17: =VLOOKUP(BP17,options!$V$31:$W$44,2,FALSE) -> #N/A | BS17: 2.Đồng ý | BT17: =VLOOKUP(BS17,options!$S$31:$T$35,2,FALSE) -> 4 | BU17: 2.Đồng ý | BV17: =VLOOKUP(BU17,options!$S$31:$T$35,2,FALSE) -> 4 | BW17: 2.Đồng ý | BX17: =VLOOKUP(BW17,options!$S$31:$T$35,2,FALSE) -> 4 | BY17: Tài liệu,chương trình (sách, v.v.) | BZ17: Trang thiết bị (máy móc, công cụ, v.v.) | CA17: Thực tập/ thực hành tại doanh nghiệp | CC17: 2.Đồng ý | CD17: 2.Đồng ý | CE17: =VLOOKUP(CD17,options!$S$31:$T$35,2,FALSE) -> 4
A18: 17 | B18: Trường Cao đẳng Lý Tự Trọng thành Phố Hồ Chí Minh | C18: 14000681 | D18: Đàng | E18: Năng Xuân | F18: Định | G18: 14CĐ - CK2 | H18: Cơ khí | I18: Công nghệ kỹ thuật Cơ khí | J18: =VLOOKUP(I18,options!$R$65:$S$80,2,FALSE) -> Công nghệ kỹ thuật Cơ khí | K18: =VLOOKUP(I18,'Chuẩn hóa Ngànhnghề'!$A$4:$B$19,2,FALSE) -> Công nghệ kỹ thuật Cơ khí | L18: 4. Cao đẳng | M18: 45 Đỗ Xuân Hợp, Phường Phước Long, | N18: Quận 9 | O18: Tp.hcm | P18: 01693742536 | Q18: noya14185@gmaial.com | R18: Nam | S18: 1995 | T18: =2018-S18:S166 -> 23 | U18: =VLOOKUP(T18,'Nhóm tuổi'!$A$3:$B$9,2,FALSE) -> Dưới 25 tuổi | V18: 4.Cao đẳng | W18: Chưa | AA18: 5.Trung bình | AB18: A1.Làm công ăn lương | AC18: =VLOOKUP(AB18,options!$V$50:$W$55,2,FALSE) -> Đi làm | AD18: =VLOOKUP(AB18,options!$V$57:$W$62,2,FALSE) -> Có việc làm | AF18: 5. Sản xuất, phân phối điện, ga, nước | AH18: Công ty Tinh Minh Đống | AI18: 181 Đặng Văn Bi, KP4, Phường Trường Thọ, | AJ18: Quận Thủ Đức | AK18: Tp.hcm | AL18: 02837220977 | AM18: minh_dong@vnn.vn | AN18: 48 | AO18: 3. Từ 1-3 tháng | AP18: Qua quảng cáo trên báo/đài/TV | AR18: 2.Tốt | AS18: =VLOOKUP(AR18,options!$M$41:$N$45,2,FALSE) -> 4 | AT18: 2.Tốt | AU18: =VLOOKUP(AT18,options!$M$41:$N$45,2,FALSE) -> 4 | AV18: 1.Có liên quan | AX18: 3.Từ 4-6 triệu | AY18: 3. Từ 10-200 người | AZ18: Có | BA18: 2. Từ 2-4 tuần | BB18: 1. Nhân viên trong thời gian thử việc (thợ học việc) | BD18: Không | BF18: =VLOOKUP(BE18,options!$S$39:$T$59,2,FALSE) -> #N/A | BQ18: =VLOOKUP(BP18,options!$V$31:$W$44,2,FALSE) -> #N/A | BS18: 2.Đồng ý | BT18: =VLOOKUP(BS18,options!$S$31:$T$35,2,FALSE) -> 4 | BU18: 2.Đồng ý | BV18: =VLOOKUP(BU18,options!$S$31:$T$35,2,FALSE) -> 4 | BW18: 2.Đồng ý | BX18: =VLOOKUP(BW18,options!$S$31:$T$35,2,FALSE) -> 4 | BY18: Tài liệu,chương trình (sách, v.v.) | BZ18: Trang thiết bị (máy móc, công cụ, v.v.) | CA18: Thực tập/ thực hành tại doanh nghiệp | CC18: 2.Đồng ý | CD18: 2.Đồng ý | CE18: =VLOOKUP(CD18,options!$S$31:$T$35,2,FALSE) -> 4
A19: 18 | B19: Trường Cao đẳng Lý Tự Trọng thành Phố Hồ Chí Minh | C19: 14000781 | D19: Phan | E19: Sỹ | F19: Lâm | G19: 14CĐ - CK2 | H19: Cơ khí | I19: Công nghệ kỹ thuật Cơ khí | J19: =VLOOKUP(I19,options!$R$65:$S$80,2,FALSE) -> Công nghệ kỹ thuật Cơ khí | K19: =VLOOKUP(I19,'Chuẩn hóa Ngànhnghề'!$A$4:$B$19,2,FALSE) -> Công nghệ kỹ thuật Cơ khí | L19: 4. Cao đẳng | M19: 66 Lê Đình Cẩn, Phường Bình Trị Đông, | N19: Quận Bình Tân | O19: Tp.hcm | P19: 01264158671 | Q19: phansylam1996@gmail.com | R19: Nam | S19: 1996 | T19: =2018-S19:S167 -> 22 | U19: =VLOOKUP(T19,'Nhóm tuổi'!$A$3:$B$9,2,FALSE) -> Dưới 25 tuổi | V19: 4.Cao đẳng | W19: Chưa | AA19: 5.Trung bình | AB19: C.Không tìm được việc làm | AC19: =VLOOKUP(AB19,options!$V$50:$W$55,2,FALSE) -> Đang tìm việc (Không có việc làm) | AD19: =VLOOKUP(AB19,options!$V$57:$W$62,2,FALSE) -> Không tìm được việc làm | AS19: =VLOOKUP(AR19,options!$M$41:$N$45,2,FALSE) -> #N/A | AU19: =VLOOKUP(AT19,options!$M$41:$N$45,2,FALSE) -> #N/A | BF19: =VLOOKUP(BE19,options!$S$39:$T$59,2,FALSE) -> #N/A | BH19: Vì không tìm được việc làm đúng với ngành nghề được đào tạo | BI19: 2.CV không liên quan đến nghề được đào tạo | BJ19: Kỹ năng nghề không đáp ứng được yêu cầu công việc | BK19: Thiếu kinh nghiệm làm việc | BL19: Thiếu thông tin về việc làm | BQ19: =VLOOKUP(BP19,options!$V$31:$W$44,2,FALSE) -> #N/A | BS19: 2.Đồng ý | BT19: =VLOOKUP(BS19,options!$S$31:$T$35,2,FALSE) -> 4 | BU19: 3.Đồng ý phần nào | BV19: =VLOOKUP(BU19,options!$S$31:$T$35,2,FALSE) -> 3 | BW19: 2.Đồng ý | BX19: =VLOOKUP(BW19,options!$S$31:$T$35,2,FALSE) -> 4 | BY19: Tài liệu,chương trình (sách, v.v.) | BZ19: Thực tập/ thực hành tại doanh nghiệp | CC19: 2.Đồng ý | CD19: 3.Đồng ý phần nào | CE19: =VLOOKUP(CD19,options!$S$31:$T$35,2,FALSE) -> 3
A20: 19 | B20: Trường Cao đẳng Lý Tự Trọng thành Phố Hồ Chí Minh | C20: 14000722 | D20: Nguyễn | E20: Văn | F20: Vương | G20: 14CĐ - CK2 | H20: Cơ khí | I20: Công nghệ kỹ thuật Cơ khí | J20: =VLOOKUP(I20,options!$R$65:$S$80,2,FALSE) -> Công nghệ kỹ thuật Cơ khí | K20: =VLOOKUP(I20,'Chuẩn hóa Ngànhnghề'!$A$4:$B$19,2,FALSE) -> Công nghệ kỹ thuật Cơ khí | L20: 4. Cao đẳng | M20: 3953 Lê Quang Định, Phường 11 | N20: Quận Bình Thạnh | O20: Tp.hcm | P20: 0975930661 | R20: Nam | S20: 1995 | T20: =2018-S20:S168 -> 23 | U20: =VLOOKUP(T20,'Nhóm tuổi'!$A$3:$B$9,2,FALSE) -> Dưới 25 tuổi | V20: 4.Cao đẳng | W20: Chưa | AA20: 5.Trung bình | AB20: A1.Làm công ăn lương | AC20: =VLOOKUP(AB20,options!$V$50:$W$55,2,FALSE) -> Đi làm | AD20: =VLOOKUP(AB20,options!$V$57:$W$62,2,FALSE) -> Có việc làm | AF20: 5. Sản xuất, phân phối điện, ga, nước | AH20: Công ty Cổ Phần Đại Đồng Tiến | AI20: 216 Tân Thành, Phường 15 | AJ20: Quận 5 | AK20: Tp.hcm | AL20: 906600183 | AM20: www.daidongtien.com.vn | AN20: 48 | AO20: 4.Trên 3 tháng | AP20: Quan hệ cá nhân | AR20: 2.Tốt | AS20: =VLOOKUP(AR20,options!$M$41:$N$45,2,FALSE) -> 4 | AT20: 2.Tốt | AU20: =VLOOKUP(AT20,options!$M$41:$N$45,2,FALSE) -> 4 | AV20: 1.Có liên quan | AX20: 3.Từ 4-6 triệu | AY20: 5. Trên 300 người | AZ20: Có | BA20: 2. Từ 2-4 tuần | BB20: 2. Nhân viên chính thức | BD20: Không | BF20: =VLOOKUP(BE20,options!$S$39:$T$59,2,FALSE) -> #N/A | BQ20: =VLOOKUP(BP20,options!$V$31:$W$44,2,FALSE) -> #N/A | BS20: 2.Đồng ý | BT20: =VLOOKUP(BS20,options!$S$31:$T$35,2,FALSE) -> 4 | BU20: 2.Đồng ý | BV20: =VLOOKUP(BU20,options!$S$31:$T$35,2,FALSE) -> 4 | BW20: 2.Đồng ý | BX20: =VLOOKUP(BW20,options!$S$31:$T$35,2,FALSE) -> 4 | BY20: Thực tập/ thực hành tại doanh nghiệp | CB20: Thời gian học CNC ngắn cần bổ sung thời gian | CC20: 2.Đồng ý | CD20: 2.Đồng ý | CE20: =VLOOKUP(CD20,options!$S$31:$T$35,2,FALSE) -> 4
A21: 20 | B21: Trường Cao đẳng Lý Tự Trọng thành Phố Hồ Chí Minh | C21: 14000786 | D21: Trần | E21: Ngọc | F21: Ngọc | G21: 14CĐ - CK2 | H21: Cơ khí | I21: Công nghệ kỹ thuật Cơ khí | J21: =VLOOKUP(I21,options!$R$65:$S$80,2,FALSE) -> Công nghệ kỹ thuật Cơ khí | K21: =VLOOKUP(I21,'Chuẩn hóa Ngànhnghề'!$A$4:$B$19,2,FALSE) -> Công nghệ kỹ thuật Cơ khí | L21: 4. Cao đẳng | M21: 40/41 Lê Lợi , Phường 03 | N21: Quận Gò Vấp | O21: Tp.hcm | P21: 01649234858 | R21: Nam | S21: 1995 | T21: =2018-S21:S169 -> 23 | U21: =VLOOKUP(T21,'Nhóm tuổi'!$A$3:$B$9,2,FALSE) -> Dưới 25 tuổi | V21: 4.Cao đẳng | W21: Chưa | AA21: 5.Trung bình | AB21: C.Không tìm được việc làm | AC21: =VLOOKUP(AB21,options!$V$50:$W$55,2,FALSE) -> Đang tìm việc (Không có việc làm) | AD21: =VLOOKUP(AB21,options!$V$57:$W$62,2,FALSE) -> Không tìm được việc làm | AS21: =VLOOKUP(AR21,options!$M$41:$N$45,2,FALSE) -> #N/A | AU21: =VLOOKUP(AT21,options!$M$41:$N$45,2,FALSE) -> #N/A | BF21: =VLOOKUP(BE21,options!$S$39:$T$59,2,FALSE) -> #N/A | BH21: Lý do khác | BI21: 2.CV không liên quan đến nghề được đào tạo | BJ21: Ngoại ngữ không đạt | BK21: Thiếu kinh nghiệm làm việc | BL21: Lý do khác | BM21: Chưa sắp sếp được thời gian | BQ21: =VLOOKUP(BP21,options!$V$31:$W$44,2,FALSE) -> #N/A | BS21: 2.Đồng ý | BT21: =VLOOKUP(BS21,options!$S$31:$T$35,2,FALSE) -> 4 | BU21: 2.Đồng ý | BV21: =VLOOKUP(BU21,options!$S$31:$T$35,2,FALSE) -> 4 | BW21: 2.Đồng ý | BX21: =VLOOKUP(BW21,options!$S$31:$T$35,2,FALSE) -> 4 | BY21: Tài liệu,chương trình (sách, v.v.) | BZ21: Thực tập/ thực hành tại doanh nghiệp | CC21: 3.Đồng ý phần nào | CD21: 2.Đồng ý | CE21: =VLOOKUP(CD21,options!$S$31:$T$35,2,FALSE) -> 4
A22: 21 | B22: Trường Cao đẳng Lý Tự Trọng thành Phố Hồ Chí Minh | C22: 14000793 | D22: Hồ | E22: Phạm Hoàng | F22: Tâm | G22: 14CĐ - CK2 | H22: Cơ khí | I22: Công nghệ kỹ thuật Cơ khí | J22: =VLOOKUP(I22,options!$R$65:$S$80,2,FALSE) -> Công nghệ kỹ thuật Cơ khí | K22: =VLOOKUP(I22,'Chuẩn hóa Ngànhnghề'!$A$4:$B$19,2,FALSE) -> Công nghệ kỹ thuật Cơ khí | L22: 4. Cao đẳng | M22: 437A Hoàng Văn Thụ, Phường 4 | N22: Quận Tân Bình | O22: Tp.hcm | P22: 01208559991 | Q22: hophamhoangtam@gmail.com | R22: Nam | S22: 1996 | T22: =2018-S22:S170 -> 22 | U22: =VLOOKUP(T22,'Nhóm tuổi'!$A$3:$B$9,2,FALSE) -> Dưới 25 tuổi | V22: 4.Cao đẳng | W22: Chưa | AA22: 5.Trung bình | AB22: A1.Làm công ăn lương | AC22: =VLOOKUP(AB22,options!$V$50:$W$55,2,FALSE) -> Đi làm | AD22: =VLOOKUP(AB22,options!$V$57:$W$62,2,FALSE) -> Có việc làm | AF22: 11.Khác, ghi cụ thể | AG22: Dân quân tự vệ | AH22: Phường 4, Quận Tân Bình | AI22: 324/59 Hoàng Văn Thụ, Phường 4 | AJ22: Quận Tân Bình | AK22: Tp.hcm | AN22: 48 | AO22: 3. Từ 1-3 tháng | AP22: Quan hệ cá nhân | AR22: 2.Tốt | AS22: =VLOOKUP(AR22,options!$M$41:$N$45,2,FALSE) -> 4 | AT22: 2.Tốt | AU22: =VLOOKUP(AT22,options!$M$41:$N$45,2,FALSE) -> 4 | AV22: 3.Không liên quan | AX22: 2. Từ 2-4 triệu | AY22: 3. Từ 10-200 người | AZ22: Có | BA22: 2. Từ 2-4 tuần | BB22: 2. Nhân viên chính thức | BD22: Không | BF22: =VLOOKUP(BE22,options!$S$39:$T$59,2,FALSE) -> #N/A | BQ22: =VLOOKUP(BP22,options!$V$31:$W$44,2,FALSE) -> #N/A | BS22: 2.Đồng ý | BT22: =VLOOKUP(BS22,options!$S$31:$T$35,2,FALSE) -> 4 | BU22: 2.Đồng ý | BV22: =VLOOKUP(BU22,options!$S$31:$T$35,2,FALSE) -> 4 | BW22: 2.Đồng ý | BX22: =VLOOKUP(BW22,options!$S$31:$T$35,2,FALSE) -> 4 | BY22: Trang thiết bị (máy móc, công cụ, v.v.) | BZ22: Cơ sở vật chất (phòng học, thư việnv.v.) | CA22: Thực tập/ thực hành tại doanh nghiệp | CC22: 2.Đồng ý | CD22: 2.Đồng ý | CE22: =VLOOKUP(CD22,options!$S$31:$T$35,2,FALSE) -> 4
A23: 22 | B23: Trường Cao đẳng Lý Tự Trọng thành Phố Hồ Chí Minh | C23: 14000705 | D23: Đác | E23: Duy | F23: Thắng | G23: 14CĐ - CK2 | H23: Cơ khí | I23: Công nghệ kỹ thuật Cơ khí | J23: =VLOOKUP(I23,options!$R$65:$S$80,2,FALSE) -> Công nghệ kỹ thuật Cơ khí | K23: =VLOOKUP(I23,'Chuẩn hóa Ngànhnghề'!$A$4:$B$19,2,FALSE) -> Công nghệ kỹ thuật Cơ khí | L23: 4. Cao đẳng | M23: 68 Đường Số 1, Trần Não, Phường Bình An | N23: Quận 2 | O23: Tp.hcm | P23: 01654667827 | Q23: thangck2011@gmail.com | R23: Nam | S23: 1992 | T23: =2018-S23:S171 -> 26 | U23: =VLOOKUP(T23,'Nhóm tuổi'!$A$3:$B$9,2,FALSE) -> Từ 25 đến 30 tuổi | V23: 4.Cao đẳng | W23: Chưa | AA23: 5.Trung bình | AB23: A1.Làm công ăn lương | AC23: =VLOOKUP(AB23,options!$V$50:$W$55,2,FALSE) -> Đi làm | AD23: =VLOOKUP(AB23,options!$V$57:$W$62,2,FALSE) -> Có việc làm | AF23: 6.Thương mại & Dịch vụ (Bán buôn, bán lẻ) | AH23: Cổ Phần Tư Vấn Xây Dựng Điện 2 | AI23: 45 Đường Số 2, Phường Trường Thọ | AJ23: Quận Thủ Đức | AK23: Tp.hcm | AL23: 02837311406 | AM23: xncd@pecc2.com | AN23: 48 | AO23: 2.Dưới 1 tháng | AP23: Khác, ghi cụ thể | AQ23: Công ty tuyển dụng | AR23: 2.Tốt | AS23: =VLOOKUP(AR23,options!$M$41:$N$45,2,FALSE) -> 4 | AT23: 2.Tốt | AU23: =VLOOKUP(AT23,options!$M$41:$N$45,2,FALSE) -> 4 | AV23: 3.Không liên quan | AX23: 5. Trên 8 triệu | AY23: 3. Từ 10-200 người | AZ23: Có | BA23: 2. Từ 2-4 tuần | BB23: 2. Nhân viên chính thức | BD23: Không | BF23: =VLOOKUP(BE23,options!$S$39:$T$59,2,FALSE) -> #N/A | BQ23: =VLOOKUP(BP23,options!$V$31:$W$44,2,FALSE) -> #N/A | BS23: 2.Đồng ý | BT23: =VLOOKUP(BS23,options!$S$31:$T$35,2,FALSE) -> 4 | BU23: 2.Đồng ý | BV23: =VLOOKUP(BU23,options!$S$31:$T$35,2,FALSE) -> 4 | BW23: 2.Đồng ý | BX23: =VLOOKUP(BW23,options!$S$31:$T$35,2,FALSE) -> 4 | BY23: Tài liệu,chương trình (sách, v.v.) | BZ23: Cơ sở vật chất (phòng học, thư việnv.v.) | CC23: 2.Đồng ý | CD23: 2.Đồng ý | CE23: =VLOOKUP(CD23,options!$S$31:$T$35,2,FALSE) -> 4
A24: 23 | B24: Trường Cao đẳng Lý Tự Trọng thành Phố Hồ Chí Minh | C24: 14000692 | D24: Trần | E24: Tấn | F24: Lộc | G24: 14CĐ - CK2 | H24: Cơ khí | I24: Công nghệ kỹ thuật Cơ khí | J24: =VLOOKUP(I24,options!$R$65:$S$80,2,FALSE) -> Công nghệ kỹ thuật Cơ khí | K24: =VLOOKUP(I24,'Chuẩn hóa Ngànhnghề'!$A$4:$B$19,2,FALSE) -> Công nghệ kỹ thuật Cơ khí | L24: 4. Cao đẳng | M24: Phước Thể | N24: Tuy Phong | O24: Bình Thuận | P24: 01675818299 | Q24: ttanloc120@gmail.com | R24: Nam | S24: 1995 | T24: =2018-S24:S172 -> 23 | U24: =VLOOKUP(T24,'Nhóm tuổi'!$A$3:$B$9,2,FALSE) -> Dưới 25 tuổi | V24: 4.Cao đẳng | W24: Chưa | AA24: 5.Trung bình | AB24: A1.Làm công ăn lương | AC24: =VLOOKUP(AB24,options!$V$50:$W$55,2,FALSE) -> Đi làm | AD24: =VLOOKUP(AB24,options!$V$57:$W$62,2,FALSE) -> Có việc làm | AF24: 4. Xây dựng | AH24: Tại gia | AI24: Phước Thể | AJ24: Huyện Tuy Phong | AK24: Bình Thuận | AL24: 01675818299 | AM24: tta6nloc120@gmail.co..vn | AN24: 48 | AO24: 2.Dưới 1 tháng | AP24: Quan hệ cá nhân | AR24: 3.Trung bình | AS24: =VLOOKUP(AR24,options!$M$41:$N$45,2,FALSE) -> 3 | AT24: 3.Trung bình | AU24: =VLOOKUP(AT24,options!$M$41:$N$45,2,FALSE) -> 3 | AV24: 1.Có liên quan | AX24: 3.Từ 4-6 triệu | AY24: 3. Từ 10-200 người | AZ24: Có | BA24: 2. Từ 2-4 tuần | BB24: 2. Nhân viên chính thức | BD24: Không | BF24: =VLOOKUP(BE24,options!$S$39:$T$59,2,FALSE) -> #N/A | BQ24: =VLOOKUP(BP24,options!$V$31:$W$44,2,FALSE) -> #N/A | BS24: 2.Đồng ý | BT24: =VLOOKUP(BS24,options!$S$31:$T$35,2,FALSE) -> 4 | BU24: 3.Đồng ý phần nào | BV24: =VLOOKUP(BU24,options!$S$31:$T$35,2,FALSE) -> 3 | BW24: 2.Đồng ý | BX24: =VLOOKUP(BW24,options!$S$31:$T$35,2,FALSE) -> 4 | BY24: Thực tập/ thực hành tại doanh nghiệp | CC24: 2.Đồng ý | CD24: 2.Đồng ý | CE24: =VLOOKUP(CD24,options!$S$31:$T$35,2,FALSE) -> 4
A25: 24 | B25: Trường Cao đẳng Lý Tự Trọng thành Phố Hồ Chí Minh | C25: 14000758 | D25: Nguyễn | E25: Hải | F25: Triều | G25: 14CĐ - CK3 | H25: Cơ khí | I25: Chế tạo máy | J25: =VLOOKUP(I25,options!$R$65:$S$80,2,FALSE) -> Công nghệ kỹ thuật Cơ khí | K25: =VLOOKUP(I25,'Chuẩn hóa Ngànhnghề'!$A$4:$B$19,2,FALSE) -> Công nghệ kỹ thuật Cơ khí | L25: 4. Cao đẳng | M25: 237/42 Trịnh Đình Trọng, Phường Phú Trung | N25: Quận Tân Phú | O25: Tp.hcm | P25: 0942289278 | Q25: haitrieunguyen96@gmail.com | R25: Nam | S25: 1996 | T25: =2018-S25:S173 -> 22 | U25: =VLOOKUP(T25,'Nhóm tuổi'!$A$3:$B$9,2,FALSE) -> Dưới 25 tuổi | V25: 4.Cao đẳng | W25: Chưa | AA25: 5.Trung bình | AB25: C.Không tìm được việc làm | AC25: =VLOOKUP(AB25,options!$V$50:$W$55,2,FALSE) -> Đang tìm việc (Không có việc làm) | AD25: =VLOOKUP(AB25,options!$V$57:$W$62,2,FALSE) -> Không tìm được việc làm | AS25: =VLOOKUP(AR25,options!$M$41:$N$45,2,FALSE) -> #N/A | AU25: =VLOOKUP(AT25,options!$M$41:$N$45,2,FALSE) -> #N/A | BF25: =VLOOKUP(BE25,options!$S$39:$T$59,2,FALSE) -> #N/A | BH25: Lý do khác | BI25: 1.CV liên quan đến nghề được đào tạo | BJ25: Ngoại ngữ không đạt | BK25: Thiếu kinh nghiệm làm việc | BL25: Thiếu thông tin về việc làm | BQ25: =VLOOKUP(BP25,options!$V$31:$W$44,2,FALSE) -> #N/A | BS25: 2.Đồng ý | BT25: =VLOOKUP(BS25,options!$S$31:$T$35,2,FALSE) -> 4 | BU25: 2.Đồng ý | BV25: =VLOOKUP(BU25,options!$S$31:$T$35,2,FALSE) -> 4 | BW25: 2.Đồng ý | BX25: =VLOOKUP(BW25,options!$S$31:$T$35,2,FALSE) -> 4 | BY25: Tài liệu,chương trình (sách, v.v.) | BZ25: Cơ sở vật chất (phòng học, thư việnv.v.) | CA25: Phương pháp giảng dạy của giáo viên | CC25: 2.Đồng ý | CD25: 2.Đồng ý | CE25: =VLOOKUP(CD25,options!$S$31:$T$35,2,FALSE) -> 4
A26: 25 | B26: Trường Cao đẳng Lý Tự Trọng thành Phố Hồ Chí Minh | C26: 14000755 | D26: Lê | E26: Trung | F26: Tín | G26: 14CĐ - CK3 | H26: Cơ khí | I26: Chế tạo máy | J26: =VLOOKUP(I26,options!$R$65:$S$80,2,FALSE) -> Công nghệ kỹ thuật Cơ khí | K26: =VLOOKUP(I26,'Chuẩn hóa Ngànhnghề'!$A$4:$B$19,2,FALSE) -> Công nghệ kỹ thuật Cơ khí | L26: 4. Cao đẳng | M26: 47 Phú Lộc, Phường 6 | N26: Quận Tân Bình | O26: Tp.hcm | P26: 01674751540 | Q26: tintrungle2310@gmail.com | R26: Nam | S26: 1996 | T26: =2018-S26:S174 -> 22 | U26: =VLOOKUP(T26,'Nhóm tuổi'!$A$3:$B$9,2,FALSE) -> Dưới 25 tuổi | V26: 4.Cao đẳng | W26: Chưa | AA26: 5.Trung bình | AB26: B1.Vừa học vừa làm | AC26: =VLOOKUP(AB26,options!$V$50:$W$55,2,FALSE) -> Đi làm | AD26: =VLOOKUP(AB26,options!$V$57:$W$62,2,FALSE) -> Có việc làm | AF26: 6.Thương mại & Dịch vụ (Bán buôn, bán lẻ) | AH26: Thương mại - Dịch vụ Nina | AI26: Lầu 1, Tòa nhà Sài Gòn Tel, Công viên phần mềm Quang Trung | AJ26: Quận 12 | AK26: Tp.hcm | AM26: nina.vn | AN26: 48 | AO26: 2.Dưới 1 tháng | AP26: Quan hệ cá nhân | AR26: 2.Tốt | AS26: =VLOOKUP(AR26,options!$M$41:$N$45,2,FALSE) -> 4 | AT26: 2.Tốt | AU26: =VLOOKUP(AT26,options!$M$41:$N$45,2,FALSE) -> 4 | AV26: 3.Không liên quan | AX26: 3.Từ 4-6 triệu | AY26: 5. Trên 300 người | AZ26: Có | BA26: 1. Dưới 2 tuần | BB26: 2. Nhân viên chính thức | BD26: Có | BE26: Công nghệ kỹ thuật cơ khí | BF26: =VLOOKUP(BE26,options!$S$39:$T$59,2,FALSE) -> Công nghệ kỹ thuật cơ khí | BG26: 1.Đại học | BN26: Học nâng cao trình độ | BO26: Truường Đại học sư phạm Kỹ thuật Tp.HCM | BP26: CN Kỹ thuật Cơ khí | BQ26: =VLOOKUP(BP26,options!$V$31:$W$44,2,FALSE) -> Công nghệ Kỹ thuật Cơ khí | BR26: 1.Đại học | BS26: 2.Đồng ý | BT26: =VLOOKUP(BS26,options!$S$31:$T$35,2,FALSE) -> 4 | BU26: 3.Đồng ý phần nào | BV26: =VLOOKUP(BU26,options!$S$31:$T$35,2,FALSE) -> 3 | BW26: 2.Đồng ý | BX26: =VLOOKUP(BW26,options!$S$31:$T$35,2,FALSE) -> 4 | BY26: Tài liệu,chương trình (sách, v.v.) | BZ26: Trang thiết bị (máy móc, công cụ, v.v.) | CA26: Thực tập/ thực hành tại doanh nghiệp | CC26: 2.Đồng ý | CD26: 2.Đồng ý | CE26: =VLOOKUP(CD26,options!$S$31:$T$35,2,FALSE) -> 4
A27: 26 | B27: Trường Cao đẳng Lý Tự Trọng thành Phố Hồ Chí Minh | C27: 14000729 | D27: Nguyễn | E27: Sỹ | F27: Hải | G27: 14CĐ - CK3 | H27: Cơ khí | I27: Công nghệ kỹ thuật Cơ khí | J27: =VLOOKUP(I27,options!$R$65:$S$80,2,FALSE) -> Công nghệ kỹ thuật Cơ khí | K27: =VLOOKUP(I27,'Chuẩn hóa Ngànhnghề'!$A$4:$B$19,2,FALSE) -> Công nghệ kỹ thuật Cơ khí | L27: 4. Cao đẳng | M27: Tổ 23, Ấp Xà Ban 2, Xã Xà Bang | N27: Huyện Châu Đức | O27: BR-VT | P27: 09082003592 | Q27: 1119.syhai@gmail | R27: Nam | S27: 1996 | T27: =2018-S27:S175 -> 22 | U27: =VLOOKUP(T27,'Nhóm tuổi'!$A$3:$B$9,2,FALSE) -> Dưới 25 tuổi | V27: 4.Cao đẳng | W27: Chưa | AA27: 5.Trung bình | AB27: C.Không tìm được việc làm | AC27: =VLOOKUP(AB27,options!$V$50:$W$55,2,FALSE) -> Đang tìm việc (Không có việc làm) | AD27: =VLOOKUP(AB27,options!$V$57:$W$62,2,FALSE) -> Không tìm được việc làm | AS27: =VLOOKUP(AR27,options!$M$41:$N$45,2,FALSE) -> #N/A | AU27: =VLOOKUP(AT27,options!$M$41:$N$45,2,FALSE) -> #N/A | BF27: =VLOOKUP(BE27,options!$S$39:$T$59,2,FALSE) -> #N/A | BH27: Lý do khác | BI27: 1.CV liên quan đến nghề được đào tạo | BJ27: Kỹ năng nghề không đáp ứng được yêu cầu công việc | BK27: Thiếu kinh nghiệm làm việc | BL27: Thiếu thông tin về việc làm | BQ27: =VLOOKUP(BP27,options!$V$31:$W$44,2,FALSE) -> #N/A | BS27: 2.Đồng ý | BT27: =VLOOKUP(BS27,options!$S$31:$T$35,2,FALSE) -> 4 | BU27: 2.Đồng ý | BV27: =VLOOKUP(BU27,options!$S$31:$T$35,2,FALSE) -> 4 | BW27: 2.Đồng ý | BX27: =VLOOKUP(BW27,options!$S$31:$T$35,2,FALSE) -> 4 | BY27: Tài liệu,chương trình (sách, v.v.) | BZ27: Trang thiết bị (máy móc, công cụ, v.v.) | CA27: Thực tập/ thực hành tại doanh nghiệp | CC27: 3.Đồng ý phần nào | CD27: 2.Đồng ý | CE27: =VLOOKUP(CD27,options!$S$31:$T$35,2,FALSE) -> 4
A28: 27 | B28: Trường Cao đẳng Lý Tự Trọng thành Phố Hồ Chí Minh | C28: 14000733 | D28: Thân | E28: Trọng | F28: Hoàng | G28: 14CĐ - CK3 | H28: Cơ khí | I28: Công nghệ kỹ thuật Cơ khí | J28: =VLOOKUP(I28,options!$R$65:$S$80,2,FALSE) -> Công nghệ kỹ thuật Cơ khí | K28: =VLOOKUP(I28,'Chuẩn hóa Ngànhnghề'!$A$4:$B$19,2,FALSE) -> Công nghệ kỹ thuật Cơ khí | L28: 4. Cao đẳng | M28: 164/66/16 Bùi Quang Là, Phường 12 | N28: Quận Gò Vấp | O28: Tp.hcm | P28: 01685789232 | Q28: thantronghoang1996@gmail.com | R28: Nam | S28: 1996 | T28: =2018-S28:S176 -> 22 | U28: =VLOOKUP(T28,'Nhóm tuổi'!$A$3:$B$9,2,FALSE) -> Dưới 25 tuổi | V28: 4.Cao đẳng | W28: Chưa | AA28: 5.Trung bình | AB28: C.Không tìm được việc làm | AC28: =VLOOKUP(AB28,options!$V$50:$W$55,2,FALSE) -> Đang tìm việc (Không có việc làm) | AD28: =VLOOKUP(AB28,options!$V$57:$W$62,2,FALSE) -> Không tìm được việc làm | AS28: =VLOOKUP(AR28,options!$M$41:$N$45,2,FALSE) -> #N/A | AU28: =VLOOKUP(AT28,options!$M$41:$N$45,2,FALSE) -> #N/A | BF28: =VLOOKUP(BE28,options!$S$39:$T$59,2,FALSE) -> #N/A | BH28: Lý do khác | BI28: 2.CV không liên quan đến nghề được đào tạo | BJ28: Ngoại ngữ không đạt | BK28: Thiếu kinh nghiệm làm việc | BL28: Thiếu thông tin về việc làm | BM28: Chưa muốn đi làm | BQ28: =VLOOKUP(BP28,options!$V$31:$W$44,2,FALSE) -> #N/A | BS28: 2.Đồng ý | BT28: =VLOOKUP(BS28,options!$S$31:$T$35,2,FALSE) -> 4 | BU28: 2.Đồng ý | BV28: =VLOOKUP(BU28,options!$S$31:$T$35,2,FALSE) -> 4 | BW28: 2.Đồng ý | BX28: =VLOOKUP(BW28,options!$S$31:$T$35,2,FALSE) -> 4 | BY28: Trang thiết bị (máy móc, công cụ, v.v.) | BZ28: Thực tập/ thực hành tại doanh nghiệp | CC28: 2.Đồng ý | CD28: 2.Đồng ý | CE28: =VLOOKUP(CD28,options!$S$31:$T$35,2,FALSE) -> 4
A29: 28 | B29: Trường Cao đẳng Lý Tự Trọng thành Phố Hồ Chí Minh | C29: 14000760 | D29: Vũ | E29: Thành | F29: Trung | G29: 14CĐ - CK3 | H29: Cơ khí | I29: Công nghệ kỹ thuật Cơ khí | J29: =VLOOKUP(I29,options!$R$65:$S$80,2,FALSE) -> Công nghệ kỹ thuật Cơ khí | K29: =VLOOKUP(I29,'Chuẩn hóa Ngànhnghề'!$A$4:$B$19,2,FALSE) -> Công nghệ kỹ thuật Cơ khí | L29: 4. Cao đẳng | M29: 561 Thị Trấn Thạnh Mỹ | N29: Huyện Đơn Dương | O29: Lâm Đồng | P29: 0964444190 | R29: Nam | S29: 1996 | T29: =2018-S29:S177 -> 22 | U29: =VLOOKUP(T29,'Nhóm tuổi'!$A$3:$B$9,2,FALSE) -> Dưới 25 tuổi | V29: 4.Cao đẳng | W29: Chưa | AA29: 5.Trung bình | AB29: A2.Tự SX-KD | AC29: =VLOOKUP(AB29,options!$V$50:$W$55,2,FALSE) -> Đi làm | AD29: =VLOOKUP(AB29,options!$V$57:$W$62,2,FALSE) -> Có việc làm | AF29: 5. Sản xuất, phân phối điện, ga, nước | AH29: Cơ khí Khoa | AI29: 561 Thị Trấn Thành Mỹ | AJ29: Huyện Đơn Dương | AK29: Lâm Đồng | AL29: 0964444190 | AN29: 48 | AO29: 2.Dưới 1 tháng | AP29: Quan hệ cá nhân | AR29: 3.Trung bình | AS29: =VLOOKUP(AR29,options!$M$41:$N$45,2,FALSE) -> 3 | AT29: 2.Tốt | AU29: =VLOOKUP(AT29,options!$M$41:$N$45,2,FALSE) -> 4 | AV29: 1.Có liên quan | AX29: 3.Từ 4-6 triệu | AY29: 2. Từ 2-10người | AZ29: Có | BA29: 5.Trên 8 tuần | BB29: 2. Nhân viên chính thức | BD29: Không | BF29: =VLOOKUP(BE29,options!$S$39:$T$59,2,FALSE) -> #N/A | BQ29: =VLOOKUP(BP29,options!$V$31:$W$44,2,FALSE) -> #N/A | BS29: 2.Đồng ý | BT29: =VLOOKUP(BS29,options!$S$31:$T$35,2,FALSE) -> 4 | BU29: 2.Đồng ý | BV29: =VLOOKUP(BU29,options!$S$31:$T$35,2,FALSE) -> 4 | BW29: 2.Đồng ý | BX29: =VLOOKUP(BW29,options!$S$31:$T$35,2,FALSE) -> 4 | BY29: Thực tập/ thực hành tại doanh nghiệp | CC29: 2.Đồng ý | CD29: 2.Đồng ý | CE29: =VLOOKUP(CD29,options!$S$31:$T$35,2,FALSE) -> 4
A30: 29 | B30: Trường Cao đẳng Lý Tự Trọng thành Phố Hồ Chí Minh | C30: 14000759 | D30: Huỳnh | E30: Kim | F30: Trọng | G30: 14CĐ - CK3 | H30: Cơ khí | I30: Công nghệ kỹ thuật Cơ khí | J30: =VLOOKUP(I30,options!$R$65:$S$80,2,FALSE) -> Công nghệ kỹ thuật Cơ khí | K30: =VLOOKUP(I30,'Chuẩn hóa Ngànhnghề'!$A$4:$B$19,2,FALSE) -> Công nghệ kỹ thuật Cơ khí | L30: 4. Cao đẳng | M30: Hẻm 62/23 Nhất Chi Mai, Phường 13 | N30: Quận Tân Bình | O30: Tp.hcm | P30: 01642735268 | Q30: htrong53@gmail.com | R30: Nam | S30: 1996 | T30: =2018-S30:S178 -> 22 | U30: =VLOOKUP(T30,'Nhóm tuổi'!$A$3:$B$9,2,FALSE) -> Dưới 25 tuổi | V30: 4.Cao đẳng | W30: Chưa | AA30: 5.Trung bình | AB30: B2.Đang đi học | AC30: =VLOOKUP(AB30,options!$V$50:$W$55,2,FALSE) -> Đang đi học (trọn giờ) | AD30: =VLOOKUP(AB30,options!$V$57:$W$62,2,FALSE) -> Đang đi học | AS30: =VLOOKUP(AR30,options!$M$41:$N$45,2,FALSE) -> #N/A | AU30: =VLOOKUP(AT30,options!$M$41:$N$45,2,FALSE) -> #N/A | BF30: =VLOOKUP(BE30,options!$S$39:$T$59,2,FALSE) -> #N/A | BN30: Lý do khác | BO30: Trường Hykri | BP30: Tiếng Nhật | BQ30: =VLOOKUP(BP30,options!$V$31:$W$44,2,FALSE) -> Ngôn ngữ Nhật | BR30: 4.Sơ cấp | BS30: 2.Đồng ý | BT30: =VLOOKUP(BS30,options!$S$31:$T$35,2,FALSE) -> 4 | BU30: 2.Đồng ý | BV30: =VLOOKUP(BU30,options!$S$31:$T$35,2,FALSE) -> 4 | BW30: 2.Đồng ý | BX30: =VLOOKUP(BW30,options!$S$31:$T$35,2,FALSE) -> 4 | BY30: Trang thiết bị (máy móc, công cụ, v.v.) | BZ30: Trang thiết bị (máy móc, công cụ, v.v.) | CA30: Thực tập/ thực hành tại doanh nghiệp | CC30: 2.Đồng ý | CD30: 2.Đồng ý | CE30: =VLOOKUP(CD30,options!$S$31:$T$35,2,FALSE) -> 4
